BEGIN:VCALENDAR
VERSION:2.0
PRODID:-//VBR - ECPv6.15.17.1//NONSGML v1.0//EN
CALSCALE:GREGORIAN
METHOD:PUBLISH
X-WR-CALNAME:VBR
X-ORIGINAL-URL:https://valleybusinessreport.com
X-WR-CALDESC:Events for VBR
REFRESH-INTERVAL;VALUE=DURATION:PT1H
X-Robots-Tag:noindex
X-PUBLISHED-TTL:PT1H
BEGIN:VTIMEZONE
TZID:America/Chicago
BEGIN:DAYLIGHT
TZOFFSETFROM:-0600
TZOFFSETTO:-0500
TZNAME:CDT
DTSTART:20200308T080000
END:DAYLIGHT
BEGIN:STANDARD
TZOFFSETFROM:-0500
TZOFFSETTO:-0600
TZNAME:CST
DTSTART:20201101T070000
END:STANDARD
BEGIN:DAYLIGHT
TZOFFSETFROM:-0600
TZOFFSETTO:-0500
TZNAME:CDT
DTSTART:20210314T080000
END:DAYLIGHT
BEGIN:STANDARD
TZOFFSETFROM:-0500
TZOFFSETTO:-0600
TZNAME:CST
DTSTART:20211107T070000
END:STANDARD
BEGIN:DAYLIGHT
TZOFFSETFROM:-0600
TZOFFSETTO:-0500
TZNAME:CDT
DTSTART:20220313T080000
END:DAYLIGHT
BEGIN:STANDARD
TZOFFSETFROM:-0500
TZOFFSETTO:-0600
TZNAME:CST
DTSTART:20221106T070000
END:STANDARD
END:VTIMEZONE
BEGIN:VEVENT
DTSTART;TZID=America/Chicago:20210428T100000
DTEND;TZID=America/Chicago:20210428T100000
DTSTAMP:20260422T233932
CREATED:20210421T165924Z
LAST-MODIFIED:20210421T170050Z
UID:10000545-1619604000-1619604000@valleybusinessreport.com
SUMMARY:Funding Your Small-Business
DESCRIPTION:In the “Funding Your Small-Business” webinar April 28\, small business owners will understand the many stages of their business’ financial picture and accessing capital to support it. This includes loans\, microloan and grants. Business will also learn how to identify SBA approved lenders\, understand community development organizations that offer SBA-guaranteed loans and SBA’s disaster loans. \nThe U.S. Small Business Administration’s Lower Rio Grande Valley District Office/Corpus Christi Branch Office will also discuss how the SBA and resource partners can help entrepreneurs secure a stable financial future for their business. \nWorkshop topics include:\n\n\n\nPreparing for a loan\n7(a) Loan Program\n504 Certified Development Company Loan Program\nLender Match (get matched with lenders)\nMicro Lender Programs – Ex. Liftfund and Peoplefund\n\n\n\nRegister online.
URL:https://valleybusinessreport.com/event/funding-your-small-business/
CATEGORIES:Seminars and Workshops
ATTACH;FMTTYPE=image/jpeg:https://valleybusinessreport.com/wp-content/uploads/2020/07/grant-money.jpg
END:VEVENT
BEGIN:VEVENT
DTSTART;TZID=America/Chicago:20210428T100000
DTEND;TZID=America/Chicago:20210428T110000
DTSTAMP:20260422T233932
CREATED:20210414T230702Z
LAST-MODIFIED:20210414T230841Z
UID:10000556-1619604000-1619607600@valleybusinessreport.com
SUMMARY:Payment Card Industry: Data Security Standard Compliance
DESCRIPTION:Join the UTRGV SBDC for an online discussion April 28 on the cybersecurity requirements of the Payment Card Industry Data Security Standard (PCI-DSS). PCI-DSS compliance is an essential consideration for any and all businesses that accept credit card payments. \nThese regulations include security management provisions that cover:\n\nPolicies\nNetwork architecture\nSoftware design\nOther critical safety measures\n\nCompliance with these standards can be simple for some businesses and very complex for others. Since this is a standard\, if a business is found to be not in compliance\, they may face penalties and fines. \nTroy Richardson\, Business Development Specialist—UTSA SBDC Center for Government Contracting\, presents this webinar. \nRegister online.
URL:https://valleybusinessreport.com/event/payment-card-industry-data-security-standard-compliance/
LOCATION:Online\, TX\, United States
CATEGORIES:Seminars and Workshops
ATTACH;FMTTYPE=image/jpeg:https://valleybusinessreport.com/wp-content/uploads/2021/04/credit-cards.jpg
ORGANIZER;CN="Esperanza P. Delgado":MAILTO:esperanza.delgado@utrgv.edu
END:VEVENT
END:VCALENDAR