BEGIN:VCALENDAR
VERSION:2.0
PRODID:-//VBR - ECPv6.15.17.1//NONSGML v1.0//EN
CALSCALE:GREGORIAN
METHOD:PUBLISH
X-ORIGINAL-URL:https://valleybusinessreport.com
X-WR-CALDESC:Events for VBR
REFRESH-INTERVAL;VALUE=DURATION:PT1H
X-Robots-Tag:noindex
X-PUBLISHED-TTL:PT1H
BEGIN:VTIMEZONE
TZID:America/Chicago
BEGIN:DAYLIGHT
TZOFFSETFROM:-0600
TZOFFSETTO:-0500
TZNAME:CDT
DTSTART:20200308T080000
END:DAYLIGHT
BEGIN:STANDARD
TZOFFSETFROM:-0500
TZOFFSETTO:-0600
TZNAME:CST
DTSTART:20201101T070000
END:STANDARD
BEGIN:DAYLIGHT
TZOFFSETFROM:-0600
TZOFFSETTO:-0500
TZNAME:CDT
DTSTART:20210314T080000
END:DAYLIGHT
BEGIN:STANDARD
TZOFFSETFROM:-0500
TZOFFSETTO:-0600
TZNAME:CST
DTSTART:20211107T070000
END:STANDARD
BEGIN:DAYLIGHT
TZOFFSETFROM:-0600
TZOFFSETTO:-0500
TZNAME:CDT
DTSTART:20220313T080000
END:DAYLIGHT
BEGIN:STANDARD
TZOFFSETFROM:-0500
TZOFFSETTO:-0600
TZNAME:CST
DTSTART:20221106T070000
END:STANDARD
END:VTIMEZONE
BEGIN:VEVENT
DTSTART;VALUE=DATE:20210507
DTEND;VALUE=DATE:20210509
DTSTAMP:20260423T025056
CREATED:20210427T162530Z
LAST-MODIFIED:20210427T162944Z
UID:10000553-1620345600-1620518399@valleybusinessreport.com
SUMMARY:12th Annual Knights of Columbus Fishing Tournament
DESCRIPTION:The 12th annual Knights of Columbus Fishing Tournament May 7-8 benefits the Special Olympics of Texas. Special Olympics of Texas is an organization serving children with special needs and disabilities. The organization enables these children to participate in athletic events across the state. \nFor registration or questions\, contact Rene Reyna at 956-200-3462 or Robert Zamorano 956-454-1064.
URL:https://valleybusinessreport.com/event/12th-annual-knights-of-columbus-fishing-tournament/
LOCATION:Jim’s Pier\, 211 W. Swordfish Street\, South Padre Island\, TX\, 78597\, United States
CATEGORIES:Recreation
ATTACH;FMTTYPE=image/jpeg:https://valleybusinessreport.com/wp-content/uploads/2021/04/fishing-tournament.jpg
END:VEVENT
BEGIN:VEVENT
DTSTART;TZID=America/Chicago:20210508T110000
DTEND;TZID=America/Chicago:20210508T140000
DTSTAMP:20260423T025056
CREATED:20210427T161425Z
LAST-MODIFIED:20210626T133236Z
UID:10000550-1620471600-1620482400@valleybusinessreport.com
SUMMARY:Mission Lions Market Days
DESCRIPTION:Join friends and neighbors for Mission Lions Market Days July 10. The market includes arts and crafts\, antiques\, jewelry\, clothing\, food and music. Free community bingo is also part of the event. \nThe market takes place every month on the second Saturday.
URL:https://valleybusinessreport.com/event/mission-lions-market-days/2021-05-08/
LOCATION:Mission Market Square\, 200 West Tom Landry\, Mission\, TX\, 78572\, United States
CATEGORIES:Shopping
ATTACH;FMTTYPE=image/jpeg:https://valleybusinessreport.com/wp-content/uploads/2021/04/mission-lions.jpg
END:VEVENT
END:VCALENDAR