BEGIN:VCALENDAR
VERSION:2.0
PRODID:-//VBR - ECPv6.15.17.1//NONSGML v1.0//EN
CALSCALE:GREGORIAN
METHOD:PUBLISH
X-WR-CALNAME:VBR
X-ORIGINAL-URL:https://valleybusinessreport.com
X-WR-CALDESC:Events for VBR
REFRESH-INTERVAL;VALUE=DURATION:PT1H
X-Robots-Tag:noindex
X-PUBLISHED-TTL:PT1H
BEGIN:VTIMEZONE
TZID:America/Chicago
BEGIN:DAYLIGHT
TZOFFSETFROM:-0600
TZOFFSETTO:-0500
TZNAME:CDT
DTSTART:20200308T080000
END:DAYLIGHT
BEGIN:STANDARD
TZOFFSETFROM:-0500
TZOFFSETTO:-0600
TZNAME:CST
DTSTART:20201101T070000
END:STANDARD
BEGIN:DAYLIGHT
TZOFFSETFROM:-0600
TZOFFSETTO:-0500
TZNAME:CDT
DTSTART:20210314T080000
END:DAYLIGHT
BEGIN:STANDARD
TZOFFSETFROM:-0500
TZOFFSETTO:-0600
TZNAME:CST
DTSTART:20211107T070000
END:STANDARD
BEGIN:DAYLIGHT
TZOFFSETFROM:-0600
TZOFFSETTO:-0500
TZNAME:CDT
DTSTART:20220313T080000
END:DAYLIGHT
BEGIN:STANDARD
TZOFFSETFROM:-0500
TZOFFSETTO:-0600
TZNAME:CST
DTSTART:20221106T070000
END:STANDARD
END:VTIMEZONE
BEGIN:VEVENT
DTSTART;TZID=America/Chicago:20210615T150000
DTEND;TZID=America/Chicago:20210615T170000
DTSTAMP:20260422T202518
CREATED:20210609T021035Z
LAST-MODIFIED:20210609T021035Z
UID:10000592-1623769200-1623776400@valleybusinessreport.com
SUMMARY:E-Commerce Roadmap: Getting Your Business Online
DESCRIPTION:What tools do you need to get your business online? Are you interested in launching an online business? Do you want to grow your existing business through online sales? “E-Commerce Roadmap: Getting Your Business Online” June 15 is assists any small business owner who is searching for the proper tools in electronic commerce. \nTopics include:\n\n Overview of electronic commerce\n Technical requirements to launching an e-commerce strategy or business\n Review of e-commerce platforms & online marketplaces\n Engagement in social selling\n\nWebinar host is the UTRGV SBDC. The Greater Mission Chamber of Commerce\, RGV Hispanic Chamber of Commerce and South Padre Island Chamber of Commerce provide promotional support. \nRegister online.
URL:https://valleybusinessreport.com/event/e-commerce-roadmap-getting-your-business-online-2/
LOCATION:Webinar
CATEGORIES:Seminars and Workshops
ATTACH;FMTTYPE=image/png:https://valleybusinessreport.com/wp-content/uploads/2021/06/ecommerce.png
ORGANIZER;CN="JD Garza":MAILTO:jd.garza@utrgv.edu
END:VEVENT
END:VCALENDAR