BEGIN:VCALENDAR
VERSION:2.0
PRODID:-//VBR - ECPv6.15.17.1//NONSGML v1.0//EN
CALSCALE:GREGORIAN
METHOD:PUBLISH
X-ORIGINAL-URL:https://valleybusinessreport.com
X-WR-CALDESC:Events for VBR
REFRESH-INTERVAL;VALUE=DURATION:PT1H
X-Robots-Tag:noindex
X-PUBLISHED-TTL:PT1H
BEGIN:VTIMEZONE
TZID:America/Chicago
BEGIN:DAYLIGHT
TZOFFSETFROM:-0600
TZOFFSETTO:-0500
TZNAME:CDT
DTSTART:20200308T080000
END:DAYLIGHT
BEGIN:STANDARD
TZOFFSETFROM:-0500
TZOFFSETTO:-0600
TZNAME:CST
DTSTART:20201101T070000
END:STANDARD
BEGIN:DAYLIGHT
TZOFFSETFROM:-0600
TZOFFSETTO:-0500
TZNAME:CDT
DTSTART:20210314T080000
END:DAYLIGHT
BEGIN:STANDARD
TZOFFSETFROM:-0500
TZOFFSETTO:-0600
TZNAME:CST
DTSTART:20211107T070000
END:STANDARD
BEGIN:DAYLIGHT
TZOFFSETFROM:-0600
TZOFFSETTO:-0500
TZNAME:CDT
DTSTART:20220313T080000
END:DAYLIGHT
BEGIN:STANDARD
TZOFFSETFROM:-0500
TZOFFSETTO:-0600
TZNAME:CST
DTSTART:20221106T070000
END:STANDARD
END:VTIMEZONE
BEGIN:VEVENT
DTSTART;TZID=America/Chicago:20210617T080000
DTEND;TZID=America/Chicago:20210617T093000
DTSTAMP:20260422T214920
CREATED:20210609T015956Z
LAST-MODIFIED:20210609T015956Z
UID:10000593-1623916800-1623922200@valleybusinessreport.com
SUMMARY:Despierta Brownsville: The Effects of the Real Estate Market on Brownsville
DESCRIPTION:The Brownsville Chamber of Commerce invites the community to participate in “The Effects of the Real Estate Market on Brownsville” June 17 at Don Chucho Tacos y Tequilas. \nGuest speakers include:\n\nDavid Ramirez\, chief executive officer\, Brownsville/SPI Board of Realtors\nNick Mitchell-Bennett\, executive director\, cdcb | Come Dream. Come Build.\nBruno Zavaleta\, broker and owner\, Zavaleta Realty\, LLC\n\nModerator for the event is Benjamin Pena\, partner at Burton McCumber & Longoria LLP. \nThis year\, the Brownsville Chamber of Commerce’s Despierta Brownsville series will tackle community issues impacting the City of Brownsville. Sponsor Don Chuco Tacos y Tequilas will be providing complimentary breakfast and coffee for all in attendance. \nCDC social distancing protocols and face masks are recommended. \nAttendees may submit their questions and comments online. \nRegister online.
URL:https://valleybusinessreport.com/event/despierta-brownsville-the-effects-of-the-real-estate-market-on-brownsville/
LOCATION:Don Chucho Tacos y Tequilas\, 814 Paredes Line Road\, Brownsville\, TX\, 78521\, United States
CATEGORIES:Speakers
ATTACH;FMTTYPE=image/png:https://valleybusinessreport.com/wp-content/uploads/2021/06/DespiertaBrownsville-TheEffectsoftheRealEstateMarketon-e1623203901901.png
ORGANIZER;CN="Danielle Rodriguez":MAILTO:danielle@brownsvillechamber.com
END:VEVENT
BEGIN:VEVENT
DTSTART;TZID=America/Chicago:20210617T120000
DTEND;TZID=America/Chicago:20210617T120000
DTSTAMP:20260422T214920
CREATED:20210609T011307Z
LAST-MODIFIED:20210609T011307Z
UID:10000602-1623931200-1623931200@valleybusinessreport.com
SUMMARY:Creating a Capability Statement That Gets Noticed
DESCRIPTION:Join the SBA Lower Rio Grande Valley District Office online June 17 as they discuss how you can create an effective capability statement to help your business gain a competitive edge in the government contracting market. \nAttendees will learn about the following:\n\nWhat is a Capability Statement?\nWhat key components make an effective Capability Statement?\nHow are Capability Statements used in government contracting?\nAnd more\n\nRegister online.
URL:https://valleybusinessreport.com/event/creating-a-capability-statement-that-gets-noticed/
LOCATION:Zoom
CATEGORIES:Seminars and Workshops
ATTACH;FMTTYPE=image/jpeg:https://valleybusinessreport.com/wp-content/uploads/2019/04/SBA-Logo_.jpg
END:VEVENT
END:VCALENDAR