BEGIN:VCALENDAR
VERSION:2.0
PRODID:-//VBR - ECPv6.15.17.1//NONSGML v1.0//EN
CALSCALE:GREGORIAN
METHOD:PUBLISH
X-WR-CALNAME:VBR
X-ORIGINAL-URL:https://valleybusinessreport.com
X-WR-CALDESC:Events for VBR
REFRESH-INTERVAL;VALUE=DURATION:PT1H
X-Robots-Tag:noindex
X-PUBLISHED-TTL:PT1H
BEGIN:VTIMEZONE
TZID:America/Chicago
BEGIN:DAYLIGHT
TZOFFSETFROM:-0600
TZOFFSETTO:-0500
TZNAME:CDT
DTSTART:20200308T080000
END:DAYLIGHT
BEGIN:STANDARD
TZOFFSETFROM:-0500
TZOFFSETTO:-0600
TZNAME:CST
DTSTART:20201101T070000
END:STANDARD
BEGIN:DAYLIGHT
TZOFFSETFROM:-0600
TZOFFSETTO:-0500
TZNAME:CDT
DTSTART:20210314T080000
END:DAYLIGHT
BEGIN:STANDARD
TZOFFSETFROM:-0500
TZOFFSETTO:-0600
TZNAME:CST
DTSTART:20211107T070000
END:STANDARD
BEGIN:DAYLIGHT
TZOFFSETFROM:-0600
TZOFFSETTO:-0500
TZNAME:CDT
DTSTART:20220313T080000
END:DAYLIGHT
BEGIN:STANDARD
TZOFFSETFROM:-0500
TZOFFSETTO:-0600
TZNAME:CST
DTSTART:20221106T070000
END:STANDARD
END:VTIMEZONE
BEGIN:VEVENT
DTSTART;TZID=America/Chicago:20210914T140000
DTEND;TZID=America/Chicago:20210914T150000
DTSTAMP:20260423T030545
CREATED:20210905T172156Z
LAST-MODIFIED:20210905T172156Z
UID:10000626-1631628000-1631631600@valleybusinessreport.com
SUMMARY:The Entrepreneurial Equation
DESCRIPTION:The “Entrepreneurial Equation” webinar Sept. 14 helps educate business owners about financial tools and strategies to help make building\, running and preserving a business easier. This includes key financial products to recruit and retain talent in your company. \nWebinar highlights:\n\nCommon Issues\nKey Steps toward Achieving Your Personal and Business Financial Goals\nBuilding Your Business – time management\, and attracting and retaining employees\nCreating Value Outside Your Business – retirement plans for businesses with and without employees\nPreserving Your Business\n• Key person disability insurance\n• Key person life insurance\n• Deferred compensation\n• Buy-sell agreements\n• Disability insurance\n• Life Insurance Retirement Plan (LIRP)\n• Estate considerations\n\nAldo Rodriguez\, a financial advisor with Edward Jones\, presents the webinar. \nThe UTRGV SBDC hosts the webinar with promotional support by area resource partners. This includes the Brownsville Chamber of Commerce\, Edinburg Chamber of Commerce\, Greater Mission Chamber of Commerce\, Rio Grande City Greater Chamber of Commerce\, San Benito Chamber of Commerce\, and Weslaco Area Chamber of Commerce & Visitors Center. \nRegister online.
URL:https://valleybusinessreport.com/event/the-entrepreneurial-equation/
LOCATION:Online\, TX\, United States
CATEGORIES:Seminars and Workshops
ATTACH;FMTTYPE=image/jpeg:https://valleybusinessreport.com/wp-content/uploads/2020/10/open.jpg
ORGANIZER;CN="Esperanza P. Delgado":MAILTO:esperanza.delgado@utrgv.edu
END:VEVENT
END:VCALENDAR