BEGIN:VCALENDAR
VERSION:2.0
PRODID:-//VBR - ECPv6.15.17.1//NONSGML v1.0//EN
CALSCALE:GREGORIAN
METHOD:PUBLISH
X-ORIGINAL-URL:https://valleybusinessreport.com
X-WR-CALDESC:Events for VBR
REFRESH-INTERVAL;VALUE=DURATION:PT1H
X-Robots-Tag:noindex
X-PUBLISHED-TTL:PT1H
BEGIN:VTIMEZONE
TZID:America/Chicago
BEGIN:DAYLIGHT
TZOFFSETFROM:-0600
TZOFFSETTO:-0500
TZNAME:CDT
DTSTART:20200308T080000
END:DAYLIGHT
BEGIN:STANDARD
TZOFFSETFROM:-0500
TZOFFSETTO:-0600
TZNAME:CST
DTSTART:20201101T070000
END:STANDARD
BEGIN:DAYLIGHT
TZOFFSETFROM:-0600
TZOFFSETTO:-0500
TZNAME:CDT
DTSTART:20210314T080000
END:DAYLIGHT
BEGIN:STANDARD
TZOFFSETFROM:-0500
TZOFFSETTO:-0600
TZNAME:CST
DTSTART:20211107T070000
END:STANDARD
BEGIN:DAYLIGHT
TZOFFSETFROM:-0600
TZOFFSETTO:-0500
TZNAME:CDT
DTSTART:20220313T080000
END:DAYLIGHT
BEGIN:STANDARD
TZOFFSETFROM:-0500
TZOFFSETTO:-0600
TZNAME:CST
DTSTART:20221106T070000
END:STANDARD
END:VTIMEZONE
BEGIN:VEVENT
DTSTART;TZID=America/Chicago:20210921T180000
DTEND;TZID=America/Chicago:20210921T213000
DTSTAMP:20260422T130208
CREATED:20210916T154431Z
LAST-MODIFIED:20210916T154538Z
UID:10000508-1632247200-1632259800@valleybusinessreport.com
SUMMARY:Greater Harlingen Chamber First Annual Gala
DESCRIPTION:The Greater Chamber of Harlingen hosts its inaugural Annual Gala Oct. 21 at the Hilton Garden Inn Harlingen Convention Center. \nThroughout the evening\, the chamber will honor the many organizations and people who’ve stood out to better the City of Harlingen. This gala will also showcase how the Chamber has evolved throughout the past years and the new direction it’s taking. \nSponsorship information is available online. \nTo reserve a table or for sponsorships\, contact Aaryn Marez at amarez@harlingen.com or 956-423-5440.
URL:https://valleybusinessreport.com/event/greater-harlingen-chamber-first-annual-gala/
LOCATION:Hilton Garden Inn Harlingen Convention Center\, 751 Harlingen Heights Drive\, Harlingen\, TX\, 78552\, United States
CATEGORIES:Awards and Recognitions
ATTACH;FMTTYPE=image/png:https://valleybusinessreport.com/wp-content/uploads/2021/09/HarlingenGALA.png
END:VEVENT
END:VCALENDAR