BEGIN:VCALENDAR
VERSION:2.0
PRODID:-//VBR - ECPv6.15.17.1//NONSGML v1.0//EN
CALSCALE:GREGORIAN
METHOD:PUBLISH
X-ORIGINAL-URL:https://valleybusinessreport.com
X-WR-CALDESC:Events for VBR
REFRESH-INTERVAL;VALUE=DURATION:PT1H
X-Robots-Tag:noindex
X-PUBLISHED-TTL:PT1H
BEGIN:VTIMEZONE
TZID:America/Chicago
BEGIN:DAYLIGHT
TZOFFSETFROM:-0600
TZOFFSETTO:-0500
TZNAME:CDT
DTSTART:20200308T080000
END:DAYLIGHT
BEGIN:STANDARD
TZOFFSETFROM:-0500
TZOFFSETTO:-0600
TZNAME:CST
DTSTART:20201101T070000
END:STANDARD
BEGIN:DAYLIGHT
TZOFFSETFROM:-0600
TZOFFSETTO:-0500
TZNAME:CDT
DTSTART:20210314T080000
END:DAYLIGHT
BEGIN:STANDARD
TZOFFSETFROM:-0500
TZOFFSETTO:-0600
TZNAME:CST
DTSTART:20211107T070000
END:STANDARD
BEGIN:DAYLIGHT
TZOFFSETFROM:-0600
TZOFFSETTO:-0500
TZNAME:CDT
DTSTART:20220313T080000
END:DAYLIGHT
BEGIN:STANDARD
TZOFFSETFROM:-0500
TZOFFSETTO:-0600
TZNAME:CST
DTSTART:20221106T070000
END:STANDARD
END:VTIMEZONE
BEGIN:VEVENT
DTSTART;TZID=America/Chicago:20210922T110000
DTEND;TZID=America/Chicago:20210922T120000
DTSTAMP:20260422T122040
CREATED:20210907T180935Z
LAST-MODIFIED:20210907T180935Z
UID:10000618-1632308400-1632312000@valleybusinessreport.com
SUMMARY:Basic Legal Tips for Startups
DESCRIPTION:Are you legally ready to launch your small business? Attend the “Basic Legal Tips for Startups” webinar Sept. 22 to hear about legal factors to consider when launching a business. \nGetting started on the right foot and complying with all the legal requirements involved in starting a business can impact your long-term success. Join Texas RioGrande Legal Aid as they share basic legal tips for your new business. \nWebinar highlights:\n\nBusiness structures\nLicenses and permits\nZoning\nContracts\nCommercial leases\nQ&A\n\nWebinar participants who qualify can meet one-to-one with staff or volunteer attorneys from Texas RioGrande Legal Aid. Appointments will be set after the session. \nRegister online.
URL:https://valleybusinessreport.com/event/basic-legal-tips-for-startups/
LOCATION:Online\, TX\, United States
CATEGORIES:Seminars and Workshops
ATTACH;FMTTYPE=image/jpeg:https://valleybusinessreport.com/wp-content/uploads/2021/09/contract.jpg
ORGANIZER;CN="Esperanza P. Delgado":MAILTO:esperanza.delgado@utrgv.edu
END:VEVENT
END:VCALENDAR