BEGIN:VCALENDAR
VERSION:2.0
PRODID:-//VBR - ECPv6.15.17.1//NONSGML v1.0//EN
CALSCALE:GREGORIAN
METHOD:PUBLISH
X-WR-CALNAME:VBR
X-ORIGINAL-URL:https://valleybusinessreport.com
X-WR-CALDESC:Events for VBR
REFRESH-INTERVAL;VALUE=DURATION:PT1H
X-Robots-Tag:noindex
X-PUBLISHED-TTL:PT1H
BEGIN:VTIMEZONE
TZID:America/Chicago
BEGIN:DAYLIGHT
TZOFFSETFROM:-0600
TZOFFSETTO:-0500
TZNAME:CDT
DTSTART:20200308T080000
END:DAYLIGHT
BEGIN:STANDARD
TZOFFSETFROM:-0500
TZOFFSETTO:-0600
TZNAME:CST
DTSTART:20201101T070000
END:STANDARD
BEGIN:DAYLIGHT
TZOFFSETFROM:-0600
TZOFFSETTO:-0500
TZNAME:CDT
DTSTART:20210314T080000
END:DAYLIGHT
BEGIN:STANDARD
TZOFFSETFROM:-0500
TZOFFSETTO:-0600
TZNAME:CST
DTSTART:20211107T070000
END:STANDARD
BEGIN:DAYLIGHT
TZOFFSETFROM:-0600
TZOFFSETTO:-0500
TZNAME:CDT
DTSTART:20220313T080000
END:DAYLIGHT
BEGIN:STANDARD
TZOFFSETFROM:-0500
TZOFFSETTO:-0600
TZNAME:CST
DTSTART:20221106T070000
END:STANDARD
END:VTIMEZONE
BEGIN:VEVENT
DTSTART;TZID=America/Chicago:20210928T080000
DTEND;TZID=America/Chicago:20210928T090000
DTSTAMP:20260423T030545
CREATED:20210914T212415Z
LAST-MODIFIED:20210914T212415Z
UID:10000504-1632816000-1632819600@valleybusinessreport.com
SUMMARY:Let’s Talk Texas: Tips for International Businesses Investing in the Lone Star State
DESCRIPTION:Are you an international firm interested in joining Texas’ thriving business ecosystem? The Governor’s International Business & Trade Team invites you to join a panel of subject-matter experts Sept. 28 as they discuss best practices for companies expanding to the Lone Star State. \nBusinesses will hear from a certified public accountant specializing in international tax\, an immigration attorney and other corporate advisors to help you take the next step towards expanding or relocating your business to Texas. \nRegister online.
URL:https://valleybusinessreport.com/event/lets-talk-texas-tips-for-international-businesses-investing-in-the-lone-star-state/
LOCATION:Online\, TX\, United States
CATEGORIES:Seminars and Workshops
ATTACH;FMTTYPE=image/png:https://valleybusinessreport.com/wp-content/uploads/2021/09/texas.png
END:VEVENT
BEGIN:VEVENT
DTSTART;TZID=America/Chicago:20210928T140000
DTEND;TZID=America/Chicago:20210928T160000
DTSTAMP:20260423T030545
CREATED:20210907T182926Z
LAST-MODIFIED:20210907T182926Z
UID:10000622-1632837600-1632844800@valleybusinessreport.com
SUMMARY:Business Communication
DESCRIPTION:In UTRGV SBDC’s “Business Communication” webinar Sept. 28\, guest speaker Ofelia Brown covers the importance of communication as a management tool to integrate an organization’s people for greater success. \nCommunication is a strategic resource. How do you use this asset to communicate with others in your company or outside of your business? \nWebinar highlights:\n\nCommunication as a management tool.\nWhat is communicating? The mix of communication elements.\nBenefits of managing communication.\nLeaders’ communication style.\nGuidelines for good internal communication.\n\nOfelia Brown is with Brown Business Consulting Group\, LLC. This webinar is hosted by the UTRGV SBDC. \nRegister online.
URL:https://valleybusinessreport.com/event/business-communication/
LOCATION:Online\, TX\, United States
CATEGORIES:Seminars and Workshops
ATTACH;FMTTYPE=image/jpeg:https://valleybusinessreport.com/wp-content/uploads/2021/09/communication.jpg
ORGANIZER;CN="Esperanza P. Delgado":MAILTO:esperanza.delgado@utrgv.edu
END:VEVENT
END:VCALENDAR