BEGIN:VCALENDAR
VERSION:2.0
PRODID:-//VBR - ECPv6.15.17.1//NONSGML v1.0//EN
CALSCALE:GREGORIAN
METHOD:PUBLISH
X-ORIGINAL-URL:https://valleybusinessreport.com
X-WR-CALDESC:Events for VBR
REFRESH-INTERVAL;VALUE=DURATION:PT1H
X-Robots-Tag:noindex
X-PUBLISHED-TTL:PT1H
BEGIN:VTIMEZONE
TZID:America/Chicago
BEGIN:DAYLIGHT
TZOFFSETFROM:-0600
TZOFFSETTO:-0500
TZNAME:CDT
DTSTART:20200308T080000
END:DAYLIGHT
BEGIN:STANDARD
TZOFFSETFROM:-0500
TZOFFSETTO:-0600
TZNAME:CST
DTSTART:20201101T070000
END:STANDARD
BEGIN:DAYLIGHT
TZOFFSETFROM:-0600
TZOFFSETTO:-0500
TZNAME:CDT
DTSTART:20210314T080000
END:DAYLIGHT
BEGIN:STANDARD
TZOFFSETFROM:-0500
TZOFFSETTO:-0600
TZNAME:CST
DTSTART:20211107T070000
END:STANDARD
BEGIN:DAYLIGHT
TZOFFSETFROM:-0600
TZOFFSETTO:-0500
TZNAME:CDT
DTSTART:20220313T080000
END:DAYLIGHT
BEGIN:STANDARD
TZOFFSETFROM:-0500
TZOFFSETTO:-0600
TZNAME:CST
DTSTART:20221106T070000
END:STANDARD
END:VTIMEZONE
BEGIN:VEVENT
DTSTART;TZID=America/Chicago:20210929T110000
DTEND;TZID=America/Chicago:20210929T130000
DTSTAMP:20260422T170343
CREATED:20210914T214211Z
LAST-MODIFIED:20210914T214211Z
UID:10000505-1632913200-1632920400@valleybusinessreport.com
SUMMARY:Lunch & Learn: The Lifecycle of a Customer
DESCRIPTION:Join the Greater Mission Chamber of Commerce Sept. 29 for “Lunch & Learn: The Lifecycle of a Customer.” Maria Garcia\, public relations manager of SAMES\, Inc. will discuss the five levels of the cycle of a customer.  \nThis event is free for GMCC members\, $15 for non-members. \nRegistration and menu item selection instructions are available online.
URL:https://valleybusinessreport.com/event/lunch-learn-the-lifecycle-of-a-customer/
LOCATION:Center for Education and Economic Development (CEED)\, 801 North Bryan Road\, Mission\, TX\, 78572\, United States
CATEGORIES:Networking,Speakers
ATTACH;FMTTYPE=image/jpeg:https://valleybusinessreport.com/wp-content/uploads/2021/09/Mission_Lunch_Sept21.jpg
END:VEVENT
BEGIN:VEVENT
DTSTART;TZID=America/Chicago:20210929T120000
DTEND;TZID=America/Chicago:20210929T140000
DTSTAMP:20260422T170343
CREATED:20210922T165308Z
LAST-MODIFIED:20210922T165548Z
UID:10000510-1632916800-1632924000@valleybusinessreport.com
SUMMARY:Lunch & Learn - Achieve Your Goals Faster
DESCRIPTION:Managers\, business owners\, and those who want to increase their efficiency may attend the McAllen Chamber of Commerce’s “Achieve Your Goals Faster” Lunch & Learn Sept. 29 with Esmeralda Adame of Consulting Firm\, LLC. \nAttendees will learn:\n\nTactics on time savers\nThree effective time management techniques\nWhat are you doing to do with your extra time?\n\nEffective time management makes a person more organized and disciplined. Those that can manage their time achieve their goals faster and are less stressed. Possessing time management skills gives you the luxury of some relaxing time and do more of what you enjoy. Everyone is different therefore the same method does not work for every person. Three effective techniques are: categorizing\, time blocking and timer method. Time management skills and tactics can be learned\, practiced\, and applied to be more effective at work\, at home and even in your social life. \nRegistration is $15 for McAllen chamber members\, $20 for non-members. Lunch will be provided \nFor more information or to register\, call Jorge or Michelle at 956-682-2871. Registration is also available online.
URL:https://valleybusinessreport.com/event/lunch-learn-achieve-your-goals-faster/
LOCATION:McAllen Chamber of Commerce\, 1200 Ash Ave.\, McAllen\, TX\, 78501\, United States
CATEGORIES:Seminars and Workshops
ATTACH;FMTTYPE=image/png:https://valleybusinessreport.com/wp-content/uploads/2021/09/goals.png
ORGANIZER;CN="McAllen Chamber of Commerce":MAILTO:bcardenas@mcallenchamber.com
END:VEVENT
END:VCALENDAR