BEGIN:VCALENDAR
VERSION:2.0
PRODID:-//VBR - ECPv6.15.17.1//NONSGML v1.0//EN
CALSCALE:GREGORIAN
METHOD:PUBLISH
X-ORIGINAL-URL:https://valleybusinessreport.com
X-WR-CALDESC:Events for VBR
REFRESH-INTERVAL;VALUE=DURATION:PT1H
X-Robots-Tag:noindex
X-PUBLISHED-TTL:PT1H
BEGIN:VTIMEZONE
TZID:America/Chicago
BEGIN:DAYLIGHT
TZOFFSETFROM:-0600
TZOFFSETTO:-0500
TZNAME:CDT
DTSTART:20200308T080000
END:DAYLIGHT
BEGIN:STANDARD
TZOFFSETFROM:-0500
TZOFFSETTO:-0600
TZNAME:CST
DTSTART:20201101T070000
END:STANDARD
BEGIN:DAYLIGHT
TZOFFSETFROM:-0600
TZOFFSETTO:-0500
TZNAME:CDT
DTSTART:20210314T080000
END:DAYLIGHT
BEGIN:STANDARD
TZOFFSETFROM:-0500
TZOFFSETTO:-0600
TZNAME:CST
DTSTART:20211107T070000
END:STANDARD
BEGIN:DAYLIGHT
TZOFFSETFROM:-0600
TZOFFSETTO:-0500
TZNAME:CDT
DTSTART:20220313T080000
END:DAYLIGHT
BEGIN:STANDARD
TZOFFSETFROM:-0500
TZOFFSETTO:-0600
TZNAME:CST
DTSTART:20221106T070000
END:STANDARD
END:VTIMEZONE
BEGIN:VEVENT
DTSTART;TZID=America/Chicago:20211008T190000
DTEND;TZID=America/Chicago:20211008T230000
DTSTAMP:20260422T170351
CREATED:20211004T164402Z
LAST-MODIFIED:20211004T164402Z
UID:10000663-1633719600-1633734000@valleybusinessreport.com
SUMMARY:Walk For Women Silent Dance Party
DESCRIPTION:Walk For Women hosts a Silent Dance Party at Louie’s Backyard Oct. 10 with three channels of music to choose from. \nThe silent disco is an event where people dance to music listened to on wireless headphones. Rather than using a speaker system\, music is broadcast via a radio transmitter with the signal being picked up by wireless headphone receivers worn by the participants. Find someone with the same color headphones as yours and dance with them. \nIn addition to the Dance Party\, Walk For Women hosts a “Bucket Auction” with $5 tickets. Participants can put their ticket in any of 25-30 buckets for the item(s) displayed next to that bucket. Participants can also buy the “Arms Width” string of tickets. For $50\, they ca hold their arms out to the side as wide as they can and get a string of tickets as long as their arms. \nThe Dance Party will also include a live auction of four to five items\, including an artist’s original t-shirt artwork. \nAdmission is $20 per person and includes free hors d’oeuvres. Headphone rental for the Silent Dance is $10.
URL:https://valleybusinessreport.com/event/walk-for-women-silent-dance-party/
LOCATION:Louie’s Backyard\, 2305 Laguna Boulevard\, South Padre Island\, TX\, 78597\, United States
CATEGORIES:Fundraisers
ATTACH;FMTTYPE=image/jpeg:https://valleybusinessreport.com/wp-content/uploads/2021/10/headphones.jpg
END:VEVENT
END:VCALENDAR