BEGIN:VCALENDAR
VERSION:2.0
PRODID:-//VBR - ECPv6.15.17.1//NONSGML v1.0//EN
CALSCALE:GREGORIAN
METHOD:PUBLISH
X-WR-CALNAME:VBR
X-ORIGINAL-URL:https://valleybusinessreport.com
X-WR-CALDESC:Events for VBR
REFRESH-INTERVAL;VALUE=DURATION:PT1H
X-Robots-Tag:noindex
X-PUBLISHED-TTL:PT1H
BEGIN:VTIMEZONE
TZID:America/Chicago
BEGIN:DAYLIGHT
TZOFFSETFROM:-0600
TZOFFSETTO:-0500
TZNAME:CDT
DTSTART:20200308T080000
END:DAYLIGHT
BEGIN:STANDARD
TZOFFSETFROM:-0500
TZOFFSETTO:-0600
TZNAME:CST
DTSTART:20201101T070000
END:STANDARD
BEGIN:DAYLIGHT
TZOFFSETFROM:-0600
TZOFFSETTO:-0500
TZNAME:CDT
DTSTART:20210314T080000
END:DAYLIGHT
BEGIN:STANDARD
TZOFFSETFROM:-0500
TZOFFSETTO:-0600
TZNAME:CST
DTSTART:20211107T070000
END:STANDARD
BEGIN:DAYLIGHT
TZOFFSETFROM:-0600
TZOFFSETTO:-0500
TZNAME:CDT
DTSTART:20220313T080000
END:DAYLIGHT
BEGIN:STANDARD
TZOFFSETFROM:-0500
TZOFFSETTO:-0600
TZNAME:CST
DTSTART:20221106T070000
END:STANDARD
END:VTIMEZONE
BEGIN:VEVENT
DTSTART;TZID=America/Chicago:20211015T090000
DTEND;TZID=America/Chicago:20211015T100000
DTSTAMP:20260423T083712
CREATED:20211004T170751Z
LAST-MODIFIED:20211004T170945Z
UID:10000669-1634288400-1634292000@valleybusinessreport.com
SUMMARY:Small Business FInancial Statements Seminar
DESCRIPTION:The Small Business Financial Statements Seminar on Oct. 15 at the Harlingen Chamber focuses on how to create\, use and maintain three important financial statements. This includes balance sheets\, profit and loss statements\, and cash flow statements. \nExplore how small business can use these statements to build a strong financial plan and strategy for continued growth. \nPresented by Frost Bank\, in partnership with the Greater Harlingen Chamber of Commerce\, Liftfund and Peoplefund. \nTo register\, email Jose Aleman at jose.aleman@frostbank.com.
URL:https://valleybusinessreport.com/event/small-business-financial-statements-seminar/
LOCATION:Harlingen Area Chamber of Commerce\, 311 E. Tyler Ave.\, Harlingen\, TX\, 78550\, United States
CATEGORIES:Seminars and Workshops
ATTACH;FMTTYPE=image/jpeg:https://valleybusinessreport.com/wp-content/uploads/2021/10/Financial-Statements.jpg
GEO:26.1899536;-97.6928673
X-APPLE-STRUCTURED-LOCATION;VALUE=URI;X-ADDRESS=Harlingen Area Chamber of Commerce 311 E. Tyler Ave. Harlingen TX 78550 United States;X-APPLE-RADIUS=500;X-TITLE=311 E. Tyler Ave.:geo:-97.6928673,26.1899536
END:VEVENT
BEGIN:VEVENT
DTSTART;TZID=America/Chicago:20211015T170000
DTEND;TZID=America/Chicago:20211015T220000
DTSTAMP:20260423T083712
CREATED:20211013T213612Z
LAST-MODIFIED:20211013T213612Z
UID:10000673-1634317200-1634335200@valleybusinessreport.com
SUMMARY:Coffee Crawl: A Coffee\, Culture and Lifestyle Festival
DESCRIPTION:H-E-B Park hosts the inaugural Coffee Crawl Oct. 15\, featuring coffee vendors from across the RGV. The evening also features a coffee contest\, local performers\, pastry vendors and other local retail vendors. \nTickets are $10 for adults and $5 for kids. Fellow pet friends are allowed and tickets are $5. \nPurchase tickets online or the H-E-B Park box office.
URL:https://valleybusinessreport.com/event/coffee-crawl-a-coffee-culture-and-lifestyle-festival/
LOCATION:H-E-B Park\, 1616 South Raul Longoria Road\, Edinburg\, TX\, 78542\, United States
CATEGORIES:Festivals and Celebrations
ATTACH;FMTTYPE=image/png:https://valleybusinessreport.com/wp-content/uploads/2021/10/Coffee-Crawl.png
ORGANIZER;CN="H-E-B Park":MAILTO:info@hebparkrgv.com
END:VEVENT
BEGIN:VEVENT
DTSTART;TZID=America/Chicago:20211015T200000
DTEND;TZID=America/Chicago:20211015T220000
DTSTAMP:20260423T083712
CREATED:20210905T172752Z
LAST-MODIFIED:20210915T211715Z
UID:10000612-1634328000-1634335200@valleybusinessreport.com
SUMMARY:Food Park Unplugged
DESCRIPTION:Food Park Unplugged takes place Oct. 15 at McAllen Food Park. Every third Friday of the month\, enjoy the sounds of local crooners while feasting on dishes by Food Truck chefs. Take a stroll and do some shopping from local craft and collectibles vendors. This event is family- and pet-friendly. \nFree admission into the park.
URL:https://valleybusinessreport.com/event/food-park-unplugged_sept2021-2021-10-15/
LOCATION:McAllen Food Park\, 10 N. Broadway\, McAllen\, 78501\, United States
CATEGORIES:Festivals and Celebrations
ATTACH;FMTTYPE=image/jpeg:https://valleybusinessreport.com/wp-content/uploads/2019/05/McAllenFoodPark.jpg
ORGANIZER;CN="McAllen Chamber of Commerce":MAILTO:bcardenas@mcallenchamber.com
END:VEVENT
END:VCALENDAR