BEGIN:VCALENDAR
VERSION:2.0
PRODID:-//VBR - ECPv6.15.17.1//NONSGML v1.0//EN
CALSCALE:GREGORIAN
METHOD:PUBLISH
X-ORIGINAL-URL:https://valleybusinessreport.com
X-WR-CALDESC:Events for VBR
REFRESH-INTERVAL;VALUE=DURATION:PT1H
X-Robots-Tag:noindex
X-PUBLISHED-TTL:PT1H
BEGIN:VTIMEZONE
TZID:America/Chicago
BEGIN:DAYLIGHT
TZOFFSETFROM:-0600
TZOFFSETTO:-0500
TZNAME:CDT
DTSTART:20200308T080000
END:DAYLIGHT
BEGIN:STANDARD
TZOFFSETFROM:-0500
TZOFFSETTO:-0600
TZNAME:CST
DTSTART:20201101T070000
END:STANDARD
BEGIN:DAYLIGHT
TZOFFSETFROM:-0600
TZOFFSETTO:-0500
TZNAME:CDT
DTSTART:20210314T080000
END:DAYLIGHT
BEGIN:STANDARD
TZOFFSETFROM:-0500
TZOFFSETTO:-0600
TZNAME:CST
DTSTART:20211107T070000
END:STANDARD
BEGIN:DAYLIGHT
TZOFFSETFROM:-0600
TZOFFSETTO:-0500
TZNAME:CDT
DTSTART:20220313T080000
END:DAYLIGHT
BEGIN:STANDARD
TZOFFSETFROM:-0500
TZOFFSETTO:-0600
TZNAME:CST
DTSTART:20221106T070000
END:STANDARD
END:VTIMEZONE
BEGIN:VEVENT
DTSTART;TZID=America/Chicago:20211021T140000
DTEND;TZID=America/Chicago:20211021T150000
DTSTAMP:20260422T085834
CREATED:20211013T220903Z
LAST-MODIFIED:20211013T221732Z
UID:10000515-1634824800-1634828400@valleybusinessreport.com
SUMMARY:Exploring Your Market
DESCRIPTION:The “Exploring Your Market” online session Oct. 21 helps business owners target market and new market segments. \n\nWho are your potential customers? Is there a demand or growing demand for your product or service? Who is buying or selling something similar? All these questions and more must be studied to make key business decisions in your small business. \nWebinar highlights\n\nThe importance of market research\nTools to conduct market research\nSmall businesses and their target markets\nRelevant industry trends and what they mean\nCompetitors and how small businesses compare\nQuantifying Market Research for business decisions\n\nThis session is presented by a Business Advisor with the UTRGV Small Business Development Center. \nRegister online.
URL:https://valleybusinessreport.com/event/exploring-your-market-5/
LOCATION:Online\, TX\, United States
CATEGORIES:Seminars and Workshops
ATTACH;FMTTYPE=image/png:https://valleybusinessreport.com/wp-content/uploads/2019/06/UTRGV_SBDC-e1738450545738.png
ORGANIZER;CN="UTRGV Small Business Development Center":MAILTO:sbdc@utrgv.edu
END:VEVENT
END:VCALENDAR