BEGIN:VCALENDAR
VERSION:2.0
PRODID:-//VBR - ECPv6.15.17.1//NONSGML v1.0//EN
CALSCALE:GREGORIAN
METHOD:PUBLISH
X-ORIGINAL-URL:https://valleybusinessreport.com
X-WR-CALDESC:Events for VBR
REFRESH-INTERVAL;VALUE=DURATION:PT1H
X-Robots-Tag:noindex
X-PUBLISHED-TTL:PT1H
BEGIN:VTIMEZONE
TZID:America/Chicago
BEGIN:DAYLIGHT
TZOFFSETFROM:-0600
TZOFFSETTO:-0500
TZNAME:CDT
DTSTART:20200308T080000
END:DAYLIGHT
BEGIN:STANDARD
TZOFFSETFROM:-0500
TZOFFSETTO:-0600
TZNAME:CST
DTSTART:20201101T070000
END:STANDARD
BEGIN:DAYLIGHT
TZOFFSETFROM:-0600
TZOFFSETTO:-0500
TZNAME:CDT
DTSTART:20210314T080000
END:DAYLIGHT
BEGIN:STANDARD
TZOFFSETFROM:-0500
TZOFFSETTO:-0600
TZNAME:CST
DTSTART:20211107T070000
END:STANDARD
BEGIN:DAYLIGHT
TZOFFSETFROM:-0600
TZOFFSETTO:-0500
TZNAME:CDT
DTSTART:20220313T080000
END:DAYLIGHT
BEGIN:STANDARD
TZOFFSETFROM:-0500
TZOFFSETTO:-0600
TZNAME:CST
DTSTART:20221106T070000
END:STANDARD
END:VTIMEZONE
BEGIN:VEVENT
DTSTART;TZID=America/Chicago:20211220T083000
DTEND;TZID=America/Chicago:20211220T103000
DTSTAMP:20260420T090432
CREATED:20211214T201317Z
LAST-MODIFIED:20211214T201317Z
UID:10000679-1639989000-1639996200@valleybusinessreport.com
SUMMARY:Hot Cocoa For Heroes
DESCRIPTION:Join the Harlingen Area Chamber of Commerce for Hot Cocoa For Heroes Dec. 20. The chamber will give out hot cocoa\, sweet bread and tamales to veterans and first responders.
URL:https://valleybusinessreport.com/event/hot-cocoa-for-heroes/
LOCATION:Harlingen Area Chamber of Commerce\, 311 E. Tyler Ave.\, Harlingen\, TX\, 78550\, United States
CATEGORIES:Festivals and Celebrations
ATTACH;FMTTYPE=image/png:https://valleybusinessreport.com/wp-content/uploads/2021/12/Hot-Chocolate-With-Heroes-2021.png
GEO:26.1899536;-97.6928673
X-APPLE-STRUCTURED-LOCATION;VALUE=URI;X-ADDRESS=Harlingen Area Chamber of Commerce 311 E. Tyler Ave. Harlingen TX 78550 United States;X-APPLE-RADIUS=500;X-TITLE=311 E. Tyler Ave.:geo:-97.6928673,26.1899536
END:VEVENT
END:VCALENDAR