BEGIN:VCALENDAR
VERSION:2.0
PRODID:-//VBR - ECPv6.15.17.1//NONSGML v1.0//EN
CALSCALE:GREGORIAN
METHOD:PUBLISH
X-ORIGINAL-URL:https://valleybusinessreport.com
X-WR-CALDESC:Events for VBR
REFRESH-INTERVAL;VALUE=DURATION:PT1H
X-Robots-Tag:noindex
X-PUBLISHED-TTL:PT1H
BEGIN:VTIMEZONE
TZID:America/Chicago
BEGIN:DAYLIGHT
TZOFFSETFROM:-0600
TZOFFSETTO:-0500
TZNAME:CDT
DTSTART:20210314T080000
END:DAYLIGHT
BEGIN:STANDARD
TZOFFSETFROM:-0500
TZOFFSETTO:-0600
TZNAME:CST
DTSTART:20211107T070000
END:STANDARD
BEGIN:DAYLIGHT
TZOFFSETFROM:-0600
TZOFFSETTO:-0500
TZNAME:CDT
DTSTART:20220313T080000
END:DAYLIGHT
BEGIN:STANDARD
TZOFFSETFROM:-0500
TZOFFSETTO:-0600
TZNAME:CST
DTSTART:20221106T070000
END:STANDARD
BEGIN:DAYLIGHT
TZOFFSETFROM:-0600
TZOFFSETTO:-0500
TZNAME:CDT
DTSTART:20230312T080000
END:DAYLIGHT
BEGIN:STANDARD
TZOFFSETFROM:-0500
TZOFFSETTO:-0600
TZNAME:CST
DTSTART:20231105T070000
END:STANDARD
END:VTIMEZONE
BEGIN:VEVENT
DTSTART;TZID=America/Chicago:20220112T110000
DTEND;TZID=America/Chicago:20220112T120000
DTSTAMP:20260419T093749
CREATED:20220105T184611Z
LAST-MODIFIED:20220105T184635Z
UID:10000697-1641985200-1641988800@valleybusinessreport.com
SUMMARY:Payroll Compliance
DESCRIPTION:Hiring employees involves more than just signing a paycheck. Before hiring employees\, business owners must understand and prepare for the additional obligations that come with being an employer. “Payroll Compliance” on Jan. 12 sheds light on the compliance requirements of payroll. \nSeminar Highlights:\n\nSteps to meeting general state and federal requirements\nLaws and types of payroll taxes business owners must pay\nContact information for the different agencies that govern payroll taxes\nHelpful resources\n\nThis seminar is presented by a Business & HR Advisor with the UTRGV Small Business Development Center. \nThis seminar is hosted by the UTRGV SBDC with promotional support by the Brownsville Chamber of Commerce\, Rio Grande City Public Library\, RGV Hispanic Chamber of Commerce\, Starr County Industrial Foundation\, and Weslaco Area Chamber of Commerce & Visitors Center. \nRegister online.
URL:https://valleybusinessreport.com/event/payroll-compliance-12/
LOCATION:UTRGV Edinburg CESS Bldg\, 1407 E. Freddy Gonzalez Drive\, Edinburg\, TX\, 78542\, United States
CATEGORIES:Seminars and Workshops
ATTACH;FMTTYPE=image/png:https://valleybusinessreport.com/wp-content/uploads/2021/04/payroll.png
ORGANIZER;CN="Esperanza P. Delgado":MAILTO:esperanza.delgado@utrgv.edu
END:VEVENT
END:VCALENDAR