BEGIN:VCALENDAR
VERSION:2.0
PRODID:-//VBR - ECPv6.15.17.1//NONSGML v1.0//EN
CALSCALE:GREGORIAN
METHOD:PUBLISH
X-ORIGINAL-URL:https://valleybusinessreport.com
X-WR-CALDESC:Events for VBR
REFRESH-INTERVAL;VALUE=DURATION:PT1H
X-Robots-Tag:noindex
X-PUBLISHED-TTL:PT1H
BEGIN:VTIMEZONE
TZID:America/Chicago
BEGIN:DAYLIGHT
TZOFFSETFROM:-0600
TZOFFSETTO:-0500
TZNAME:CDT
DTSTART:20210314T080000
END:DAYLIGHT
BEGIN:STANDARD
TZOFFSETFROM:-0500
TZOFFSETTO:-0600
TZNAME:CST
DTSTART:20211107T070000
END:STANDARD
BEGIN:DAYLIGHT
TZOFFSETFROM:-0600
TZOFFSETTO:-0500
TZNAME:CDT
DTSTART:20220313T080000
END:DAYLIGHT
BEGIN:STANDARD
TZOFFSETFROM:-0500
TZOFFSETTO:-0600
TZNAME:CST
DTSTART:20221106T070000
END:STANDARD
BEGIN:DAYLIGHT
TZOFFSETFROM:-0600
TZOFFSETTO:-0500
TZNAME:CDT
DTSTART:20230312T080000
END:DAYLIGHT
BEGIN:STANDARD
TZOFFSETFROM:-0500
TZOFFSETTO:-0600
TZNAME:CST
DTSTART:20231105T070000
END:STANDARD
END:VTIMEZONE
BEGIN:VEVENT
DTSTART;TZID=America/Chicago:20220125T100000
DTEND;TZID=America/Chicago:20220125T120000
DTSTAMP:20260420T010904
CREATED:20220110T161630Z
LAST-MODIFIED:20220110T161804Z
UID:10000541-1643104800-1643112000@valleybusinessreport.com
SUMMARY:SBDC: Business Branding Strategies
DESCRIPTION:Do you have a brand strategy for your existing business?A brand strategy is a long-term plan on what you want your business to “say” about your products and services to new and existing customers. \nThis message\, also known as branding\, helps you engage and communicate with your customers more clearly. The more consistent and aligned your brand message is\, the more likely you are to attract and maintain loyal customers. \nThis webinar shares practical branding strategies for increased sales and discusses the impact a brand has on the value of a business. \nTopics include:\n\nProtecting your brand\nBrand messaging\nBrand alignment\n\nThis webinar session is presented by Jaenie Longoria\, Global Business Consultant with Biz Media Firm. \nThis webinar is hosted by the UTRGV SBDC with promotional support by the Greater Mission Chamber of Commerce\, RGV Hispanic Chamber of Commerce\, San Benito Chamber of Commerce\, and Starr County Industrial Foundation. \nRegister online. Deadline applies.
URL:https://valleybusinessreport.com/event/sbdc-business-branding-strategies/
LOCATION:Webinar
CATEGORIES:Seminars and Workshops
ATTACH;FMTTYPE=image/jpeg:https://valleybusinessreport.com/wp-content/uploads/2019/05/brand.jpg
ORGANIZER;CN="UTRGV Small Business Development Center":MAILTO:sbdc@utrgv.edu
END:VEVENT
END:VCALENDAR