BEGIN:VCALENDAR
VERSION:2.0
PRODID:-//VBR - ECPv6.15.17.1//NONSGML v1.0//EN
CALSCALE:GREGORIAN
METHOD:PUBLISH
X-ORIGINAL-URL:https://valleybusinessreport.com
X-WR-CALDESC:Events for VBR
REFRESH-INTERVAL;VALUE=DURATION:PT1H
X-Robots-Tag:noindex
X-PUBLISHED-TTL:PT1H
BEGIN:VTIMEZONE
TZID:America/Chicago
BEGIN:DAYLIGHT
TZOFFSETFROM:-0600
TZOFFSETTO:-0500
TZNAME:CDT
DTSTART:20210314T080000
END:DAYLIGHT
BEGIN:STANDARD
TZOFFSETFROM:-0500
TZOFFSETTO:-0600
TZNAME:CST
DTSTART:20211107T070000
END:STANDARD
BEGIN:DAYLIGHT
TZOFFSETFROM:-0600
TZOFFSETTO:-0500
TZNAME:CDT
DTSTART:20220313T080000
END:DAYLIGHT
BEGIN:STANDARD
TZOFFSETFROM:-0500
TZOFFSETTO:-0600
TZNAME:CST
DTSTART:20221106T070000
END:STANDARD
BEGIN:DAYLIGHT
TZOFFSETFROM:-0600
TZOFFSETTO:-0500
TZNAME:CDT
DTSTART:20230312T080000
END:DAYLIGHT
BEGIN:STANDARD
TZOFFSETFROM:-0500
TZOFFSETTO:-0600
TZNAME:CST
DTSTART:20231105T070000
END:STANDARD
END:VTIMEZONE
BEGIN:VEVENT
DTSTART;VALUE=DATE:20220203
DTEND;VALUE=DATE:20220206
DTSTAMP:20260420T100205
CREATED:20220118T171025Z
LAST-MODIFIED:20220118T171308Z
UID:10000683-1643846400-1644105599@valleybusinessreport.com
SUMMARY:SPI Kite Fest
DESCRIPTION:The SPI Kite Fest is back for 2022 at the SPI Convention Center Feb. 3-5 for indoor kite performances and the outdoor festival. \nThe weekend also includes On the Flats and a banquet at the Isla Grand Beach Resort.
URL:https://valleybusinessreport.com/event/spi-kite-fest/
LOCATION:SPI Convention Center\, 7355 Padre Blvd.\, South Padre Island\, TX\, 78597\, United States
CATEGORIES:Festivals and Celebrations
ATTACH;FMTTYPE=image/jpeg:https://valleybusinessreport.com/wp-content/uploads/2022/01/KiteFest.jpg
END:VEVENT
BEGIN:VEVENT
DTSTART;TZID=America/Chicago:20220203T120000
DTEND;TZID=America/Chicago:20220203T130000
DTSTAMP:20260420T100205
CREATED:20220125T183231Z
LAST-MODIFIED:20220125T183231Z
UID:10000684-1643889600-1643893200@valleybusinessreport.com
SUMMARY:Women Empowering Women: Dr. Linda Burke
DESCRIPTION:The Harlingen Area Chamber of Commerce’s hit event Women Empowering Women returns this year on Feb. 3 with Dr. Linda Burke. \nWomen Empowering Women is a monthly series which invites an empowered woman from the Harlingen community as a keynote speaker. Speakers tell their stories of how they rose to prominence or overcame difficulties that prevented them from shining. \nTo RSVP or more information\, contact Lauren Campbell.
URL:https://valleybusinessreport.com/event/women-empowering-women-dr-linda-burke/
LOCATION:Harlingen Area Chamber of Commerce\, 311 E. Tyler Ave.\, Harlingen\, TX\, 78550\, United States
CATEGORIES:Speakers
ATTACH;FMTTYPE=image/png:https://valleybusinessreport.com/wp-content/uploads/2022/01/Women-Empowering-Women_Feb2022.png
ORGANIZER;CN="Lauren Campbell%2C Harlingen Area Chamber of Commerce":MAILTO:lcampbell@harlingen.com
GEO:26.1899536;-97.6928673
X-APPLE-STRUCTURED-LOCATION;VALUE=URI;X-ADDRESS=Harlingen Area Chamber of Commerce 311 E. Tyler Ave. Harlingen TX 78550 United States;X-APPLE-RADIUS=500;X-TITLE=311 E. Tyler Ave.:geo:-97.6928673,26.1899536
END:VEVENT
END:VCALENDAR