BEGIN:VCALENDAR
VERSION:2.0
PRODID:-//VBR - ECPv6.15.17.1//NONSGML v1.0//EN
CALSCALE:GREGORIAN
METHOD:PUBLISH
X-WR-CALNAME:VBR
X-ORIGINAL-URL:https://valleybusinessreport.com
X-WR-CALDESC:Events for VBR
REFRESH-INTERVAL;VALUE=DURATION:PT1H
X-Robots-Tag:noindex
X-PUBLISHED-TTL:PT1H
BEGIN:VTIMEZONE
TZID:America/Chicago
BEGIN:DAYLIGHT
TZOFFSETFROM:-0600
TZOFFSETTO:-0500
TZNAME:CDT
DTSTART:20210314T080000
END:DAYLIGHT
BEGIN:STANDARD
TZOFFSETFROM:-0500
TZOFFSETTO:-0600
TZNAME:CST
DTSTART:20211107T070000
END:STANDARD
BEGIN:DAYLIGHT
TZOFFSETFROM:-0600
TZOFFSETTO:-0500
TZNAME:CDT
DTSTART:20220313T080000
END:DAYLIGHT
BEGIN:STANDARD
TZOFFSETFROM:-0500
TZOFFSETTO:-0600
TZNAME:CST
DTSTART:20221106T070000
END:STANDARD
BEGIN:DAYLIGHT
TZOFFSETFROM:-0600
TZOFFSETTO:-0500
TZNAME:CDT
DTSTART:20230312T080000
END:DAYLIGHT
BEGIN:STANDARD
TZOFFSETFROM:-0500
TZOFFSETTO:-0600
TZNAME:CST
DTSTART:20231105T070000
END:STANDARD
END:VTIMEZONE
BEGIN:VEVENT
DTSTART;VALUE=DATE:20220208
DTEND;VALUE=DATE:20220213
DTSTAMP:20260420T184858
CREATED:20220113T152346Z
LAST-MODIFIED:20220113T152346Z
UID:10000694-1644278400-1644710399@valleybusinessreport.com
SUMMARY:26th Annual Winter Outdoor Wildlife Expo
DESCRIPTION:The annual Winter Outdoor Wildlife Expo is back better than ever on South Padre Island Feb. 8-12. The five-day expo includes distinguished guest speakers\, exhibits and tours. \nLearn all about the fascinating natural treasures South Texas and the lower Laguna Madre have to offer. The array of topics include sea turtles\, native plants\, birds\, fishing\, butterflies and dragonflies\, and more. \nVisit spibirding.com/wowe for more details\, presenter schedule\, and to register for tours.
URL:https://valleybusinessreport.com/event/26th-annual-winter-outdoor-wildlife-expo/
LOCATION:SPI Birding\, Nature Center & Alligator Sanctuary\, 6801 Padre Boulevard\, South Padre Island\, TX\, 78597\, United States
CATEGORIES:Festivals and Celebrations
ATTACH;FMTTYPE=image/webp:https://valleybusinessreport.com/wp-content/uploads/2022/01/WOWE.webp
END:VEVENT
BEGIN:VEVENT
DTSTART;TZID=America/Chicago:20220209T090000
DTEND;TZID=America/Chicago:20220209T130000
DTSTAMP:20260420T184858
CREATED:20220113T142009Z
LAST-MODIFIED:20220113T142009Z
UID:10000703-1644397200-1644411600@valleybusinessreport.com
SUMMARY:Sixth Annual Brownsville Senior & Community & Wellness Expo 2022
DESCRIPTION:RGV Promotions presents its sixth annual Brownsville Senior & Community Health & Wellness Expo 2022 on Feb. 9. \nAttendees can learn about living a heart-healthy lifestyle and receive educational information. Free screenings include blood pressure\, vision\, hearing\, glucose and BMI. Activities include Zumba\, country line dancing and bingo. Door prizes\, one-on-one with physical trainers and doctors\, and guest speakers every hour are part of the event. \nFree admission. \nFor more information on the Brownsville Senior & Community Health & Wellness Expo\, contact Marie Martinez.
URL:https://valleybusinessreport.com/event/sixth-annual-brownsville-senior-community-wellness-expo-2022/
LOCATION:Brownsville Event Center\, 1 Event Center\, Brownsville\, 78526\, United States
CATEGORIES:Conferences and Summits
ATTACH;FMTTYPE=image/jpeg:https://valleybusinessreport.com/wp-content/uploads/2022/01/SeniorHealthWellnessExpo2022.jpg
ORGANIZER;CN="Marie Martinez":MAILTO:rgvexpo2017@gmail.com
GEO:25.9621367;-97.4880968
X-APPLE-STRUCTURED-LOCATION;VALUE=URI;X-ADDRESS=Brownsville Event Center 1 Event Center Brownsville 78526 United States;X-APPLE-RADIUS=500;X-TITLE=1 Event Center:geo:-97.4880968,25.9621367
END:VEVENT
BEGIN:VEVENT
DTSTART;TZID=America/Chicago:20220209T113000
DTEND;TZID=America/Chicago:20220209T133000
DTSTAMP:20260420T184858
CREATED:20220125T183958Z
LAST-MODIFIED:20220125T183958Z
UID:10000685-1644406200-1644413400@valleybusinessreport.com
SUMMARY:Weslaco B2B: Power Luncheon
DESCRIPTION:The Weslaco Area Chamber of Commerce hosts its quarterly B2B: Power Lunch on Feb. 9 at Memory Blvd. \nAttendees may purchase tickets via the Weslaco Chamber of Commerce or by registering online.
URL:https://valleybusinessreport.com/event/weslaco-b2b-power-luncheon/
LOCATION:Memory Blvd\, Downtown Weslaco\, 501 S. Texas Blvd\, Weslaco\, TX\, United States
CATEGORIES:Networking
ATTACH;FMTTYPE=image/png:https://valleybusinessreport.com/wp-content/uploads/2022/01/POWERLUNCH_Feb2022.png
ORGANIZER;CN="Weslaco Area Chamber of Commerce":MAILTO:chamber@weslaco.com
END:VEVENT
END:VCALENDAR