BEGIN:VCALENDAR
VERSION:2.0
PRODID:-//VBR - ECPv6.15.17.1//NONSGML v1.0//EN
CALSCALE:GREGORIAN
METHOD:PUBLISH
X-ORIGINAL-URL:https://valleybusinessreport.com
X-WR-CALDESC:Events for VBR
REFRESH-INTERVAL;VALUE=DURATION:PT1H
X-Robots-Tag:noindex
X-PUBLISHED-TTL:PT1H
BEGIN:VTIMEZONE
TZID:America/Chicago
BEGIN:DAYLIGHT
TZOFFSETFROM:-0600
TZOFFSETTO:-0500
TZNAME:CDT
DTSTART:20210314T080000
END:DAYLIGHT
BEGIN:STANDARD
TZOFFSETFROM:-0500
TZOFFSETTO:-0600
TZNAME:CST
DTSTART:20211107T070000
END:STANDARD
BEGIN:DAYLIGHT
TZOFFSETFROM:-0600
TZOFFSETTO:-0500
TZNAME:CDT
DTSTART:20220313T080000
END:DAYLIGHT
BEGIN:STANDARD
TZOFFSETFROM:-0500
TZOFFSETTO:-0600
TZNAME:CST
DTSTART:20221106T070000
END:STANDARD
BEGIN:DAYLIGHT
TZOFFSETFROM:-0600
TZOFFSETTO:-0500
TZNAME:CDT
DTSTART:20230312T080000
END:DAYLIGHT
BEGIN:STANDARD
TZOFFSETFROM:-0500
TZOFFSETTO:-0600
TZNAME:CST
DTSTART:20231105T070000
END:STANDARD
END:VTIMEZONE
BEGIN:VEVENT
DTSTART;TZID=America/Chicago:20220224T100000
DTEND;TZID=America/Chicago:20220224T120000
DTSTAMP:20260422T001118
CREATED:20220207T201226Z
LAST-MODIFIED:20220207T201551Z
UID:10000731-1645696800-1645704000@valleybusinessreport.com
SUMMARY:The HR Process
DESCRIPTION:The HR Process webinar on Feb. 24 covers the appropriate steps to take when planning for human resources in a small business. This includes what each step entails and its importance. \nThe UTRGV SBDC presents this webinar with promotional support from Starr County Industrial Foundation and Weslaco Area Chamber of Commerce. \nRegister online.
URL:https://valleybusinessreport.com/event/the-hr-process-8/
LOCATION:Online\, TX\, United States
CATEGORIES:Seminars and Workshops
ATTACH;FMTTYPE=image/png:https://valleybusinessreport.com/wp-content/uploads/2019/03/HR-Process-e1553091383527.png
ORGANIZER;CN="Esperanza P. Delgado":MAILTO:esperanza.delgado@utrgv.edu
END:VEVENT
BEGIN:VEVENT
DTSTART;TZID=America/Chicago:20220224T173000
DTEND;TZID=America/Chicago:20220224T193000
DTSTAMP:20260422T001118
CREATED:20220209T200354Z
LAST-MODIFIED:20220209T200553Z
UID:10000735-1645723800-1645731000@valleybusinessreport.com
SUMMARY:RGVHCC Meet & Greet New Member Reception
DESCRIPTION:The Rio Grande Valley Hispanic Chamber of Commerce hosts a New Member Reception Feb. 24. Meet other new members\, and learn about the chamber’s benefits and services. \nNetwork while enjoying food and beverages. \nIf you are not new to the chamber and would like to welcome new members\, you are welcome to join. \nRegister online.
URL:https://valleybusinessreport.com/event/rgvhcc-meet-greet-new-member-reception/
LOCATION:RGV Hispanic Chamber of Commerce\, 801 E. Fern\, Suite 143\, McAllen\, TX\, 78501\, United States
CATEGORIES:Networking
ATTACH;FMTTYPE=image/jpeg:https://valleybusinessreport.com/wp-content/uploads/2022/02/RGVHCC_New-Member-Meet-and-Greet.jpg
END:VEVENT
END:VCALENDAR