BEGIN:VCALENDAR
VERSION:2.0
PRODID:-//VBR - ECPv6.15.17.1//NONSGML v1.0//EN
CALSCALE:GREGORIAN
METHOD:PUBLISH
X-ORIGINAL-URL:https://valleybusinessreport.com
X-WR-CALDESC:Events for VBR
REFRESH-INTERVAL;VALUE=DURATION:PT1H
X-Robots-Tag:noindex
X-PUBLISHED-TTL:PT1H
BEGIN:VTIMEZONE
TZID:America/Chicago
BEGIN:DAYLIGHT
TZOFFSETFROM:-0600
TZOFFSETTO:-0500
TZNAME:CDT
DTSTART:20210314T080000
END:DAYLIGHT
BEGIN:STANDARD
TZOFFSETFROM:-0500
TZOFFSETTO:-0600
TZNAME:CST
DTSTART:20211107T070000
END:STANDARD
BEGIN:DAYLIGHT
TZOFFSETFROM:-0600
TZOFFSETTO:-0500
TZNAME:CDT
DTSTART:20220313T080000
END:DAYLIGHT
BEGIN:STANDARD
TZOFFSETFROM:-0500
TZOFFSETTO:-0600
TZNAME:CST
DTSTART:20221106T070000
END:STANDARD
BEGIN:DAYLIGHT
TZOFFSETFROM:-0600
TZOFFSETTO:-0500
TZNAME:CDT
DTSTART:20230312T080000
END:DAYLIGHT
BEGIN:STANDARD
TZOFFSETFROM:-0500
TZOFFSETTO:-0600
TZNAME:CST
DTSTART:20231105T070000
END:STANDARD
END:VTIMEZONE
BEGIN:VEVENT
DTSTART;TZID=America/Chicago:20220303T113000
DTEND;TZID=America/Chicago:20220303T113000
DTSTAMP:20260422T000556
CREATED:20220222T203327Z
LAST-MODIFIED:20220222T203327Z
UID:10000736-1646307000-1646307000@valleybusinessreport.com
SUMMARY:Good Day McAllen
DESCRIPTION:Join the McAllen Chamber of Commerce for its Good Day McAllen Luncheon March 3. Connect with the newest chamber members and rekindle with existing members. \nProgram will begin promptly at noon with emcees Jim Darling and Tony Forina. \nDoor prizes are part of the luncheon. A name will also be drawn for a chance to win a $1\,400 cash grand prize. Must be present to win. If there is no winner\, the cash prize will increase to $1\,500. \nRSVP by calling 956-682-2871.
URL:https://valleybusinessreport.com/event/good-day-mcallen-2/
LOCATION:DoubleTree Suites by Hilton\, 1800 S 2nd Street\, McAllen\, TX\, 78503\, United States
CATEGORIES:Networking
ATTACH;FMTTYPE=image/jpeg:https://valleybusinessreport.com/wp-content/uploads/2022/02/GoodDayMcAllen_3.22.jpg
ORGANIZER;CN="McAllen Chamber of Commerce":MAILTO:bcardenas@mcallenchamber.com
END:VEVENT
BEGIN:VEVENT
DTSTART;TZID=America/Chicago:20220303T170000
DTEND;TZID=America/Chicago:20220303T190000
DTSTAMP:20260422T000556
CREATED:20220222T211739Z
LAST-MODIFIED:20220222T211947Z
UID:10000566-1646326800-1646334000@valleybusinessreport.com
SUMMARY:GMCC Member Mixer
DESCRIPTION:Join the Greater Mission Chamber of Commerce March 3 from 5-7 p.m. at the Cimarron Country Club for an opportunity to network within the business community. \nTo RSVP\, email amanda@missionchamber.com.
URL:https://valleybusinessreport.com/event/gmcc-member-mixer/
LOCATION:Cimarron Country Club\, 1200 S. Shary Road\, Mission\, TX\, 78572\, United States
CATEGORIES:Networking
ATTACH;FMTTYPE=image/png:https://valleybusinessreport.com/wp-content/uploads/2022/02/GMCCMixer_3.22.png
END:VEVENT
BEGIN:VEVENT
DTSTART;TZID=America/Chicago:20220303T180000
DTEND;TZID=America/Chicago:20220303T190000
DTSTAMP:20260422T000556
CREATED:20220222T205120Z
LAST-MODIFIED:20220222T205426Z
UID:10000737-1646330400-1646334000@valleybusinessreport.com
SUMMARY:Backyard Gardening with Stephanie Kasper
DESCRIPTION:Stephanie Kasper\nInterested in starting your own vegetable garden? Not sure where to start? Ask an experienced farmer for tips and tricks on how to begin and maintain your own garden at the Nature Speaker Series. Quinta Mazatlán World Birding Center hosts UTRGV research farmer Stephanie Kasper on March 3 for a special presentation on sustainable agriculture and growing food in the Rio Grande Valley. \nThis presentation will discuss strategies for starting and maintaining vegetable gardens under challenging South Texas conditions. \nKasper is a research farmer at the University of Texas Rio Grande Valley. Here\, she studies soil health practices and manages the Hub of Prosperity Farm. The farm began in 2019 for community-facing sustainable agriculture research and education. With agricultural experience at scales ranging from apartment patio to 200-acre ranch\, she believes everyone can be involved in creative and sustainable food production solutions. \nTickets are $5 and available for purchase at quintamazatlan.ticketleap.com.
URL:https://valleybusinessreport.com/event/backyard-gardening-with-stephanie-kasper/
LOCATION:Quinta Mazatlan\, 600 Sunset Drive\, McAllen\, TX\, 78503\, United States
CATEGORIES:Speakers
ATTACH;FMTTYPE=image/jpeg:https://valleybusinessreport.com/wp-content/uploads/2022/02/kasper.jpg
END:VEVENT
END:VCALENDAR