BEGIN:VCALENDAR
VERSION:2.0
PRODID:-//VBR - ECPv6.15.17.1//NONSGML v1.0//EN
CALSCALE:GREGORIAN
METHOD:PUBLISH
X-WR-CALNAME:VBR
X-ORIGINAL-URL:https://valleybusinessreport.com
X-WR-CALDESC:Events for VBR
REFRESH-INTERVAL;VALUE=DURATION:PT1H
X-Robots-Tag:noindex
X-PUBLISHED-TTL:PT1H
BEGIN:VTIMEZONE
TZID:America/Chicago
BEGIN:DAYLIGHT
TZOFFSETFROM:-0600
TZOFFSETTO:-0500
TZNAME:CDT
DTSTART:20210314T080000
END:DAYLIGHT
BEGIN:STANDARD
TZOFFSETFROM:-0500
TZOFFSETTO:-0600
TZNAME:CST
DTSTART:20211107T070000
END:STANDARD
BEGIN:DAYLIGHT
TZOFFSETFROM:-0600
TZOFFSETTO:-0500
TZNAME:CDT
DTSTART:20220313T080000
END:DAYLIGHT
BEGIN:STANDARD
TZOFFSETFROM:-0500
TZOFFSETTO:-0600
TZNAME:CST
DTSTART:20221106T070000
END:STANDARD
BEGIN:DAYLIGHT
TZOFFSETFROM:-0600
TZOFFSETTO:-0500
TZNAME:CDT
DTSTART:20230312T080000
END:DAYLIGHT
BEGIN:STANDARD
TZOFFSETFROM:-0500
TZOFFSETTO:-0600
TZNAME:CST
DTSTART:20231105T070000
END:STANDARD
END:VTIMEZONE
BEGIN:VEVENT
DTSTART;TZID=America/Chicago:20220307T083000
DTEND;TZID=America/Chicago:20220307T093000
DTSTAMP:20260422T030805
CREATED:20220302T185405Z
LAST-MODIFIED:20220302T185405Z
UID:10000568-1646641800-1646645400@valleybusinessreport.com
SUMMARY:Quarterly Report with the Chamber President
DESCRIPTION:Harlingen Chamber of Commerce’s Javier De Leon has a personal face-to-face sit-down March 7 with members of the community. De Leon will talk about what the Harlingen Chamber offers\, some of its initiatives and how to properly utilize chamber membership. \nThis event is open to the entire community and is free.
URL:https://valleybusinessreport.com/event/quarterly-report-with-the-chamber-president/
LOCATION:Harlingen Area Chamber of Commerce\, 311 E. Tyler Ave.\, Harlingen\, TX\, 78550\, United States
CATEGORIES:Networking
ATTACH;FMTTYPE=image/png:https://valleybusinessreport.com/wp-content/uploads/2021/06/Coffee-With-the-President.png
GEO:26.1899536;-97.6928673
X-APPLE-STRUCTURED-LOCATION;VALUE=URI;X-ADDRESS=Harlingen Area Chamber of Commerce 311 E. Tyler Ave. Harlingen TX 78550 United States;X-APPLE-RADIUS=500;X-TITLE=311 E. Tyler Ave.:geo:-97.6928673,26.1899536
END:VEVENT
END:VCALENDAR