BEGIN:VCALENDAR
VERSION:2.0
PRODID:-//VBR - ECPv6.15.17.1//NONSGML v1.0//EN
CALSCALE:GREGORIAN
METHOD:PUBLISH
X-ORIGINAL-URL:https://valleybusinessreport.com
X-WR-CALDESC:Events for VBR
REFRESH-INTERVAL;VALUE=DURATION:PT1H
X-Robots-Tag:noindex
X-PUBLISHED-TTL:PT1H
BEGIN:VTIMEZONE
TZID:America/Chicago
BEGIN:DAYLIGHT
TZOFFSETFROM:-0600
TZOFFSETTO:-0500
TZNAME:CDT
DTSTART:20210314T080000
END:DAYLIGHT
BEGIN:STANDARD
TZOFFSETFROM:-0500
TZOFFSETTO:-0600
TZNAME:CST
DTSTART:20211107T070000
END:STANDARD
BEGIN:DAYLIGHT
TZOFFSETFROM:-0600
TZOFFSETTO:-0500
TZNAME:CDT
DTSTART:20220313T080000
END:DAYLIGHT
BEGIN:STANDARD
TZOFFSETFROM:-0500
TZOFFSETTO:-0600
TZNAME:CST
DTSTART:20221106T070000
END:STANDARD
BEGIN:DAYLIGHT
TZOFFSETFROM:-0600
TZOFFSETTO:-0500
TZNAME:CDT
DTSTART:20230312T080000
END:DAYLIGHT
BEGIN:STANDARD
TZOFFSETFROM:-0500
TZOFFSETTO:-0600
TZNAME:CST
DTSTART:20231105T070000
END:STANDARD
END:VTIMEZONE
BEGIN:VEVENT
DTSTART;TZID=America/Chicago:20220324T100000
DTEND;TZID=America/Chicago:20220324T110000
DTSTAMP:20260422T043839
CREATED:20220308T161939Z
LAST-MODIFIED:20220308T161939Z
UID:10000729-1648116000-1648119600@valleybusinessreport.com
SUMMARY:8(a) Business Development Program + Procurement Technical Assistance Center Services
DESCRIPTION:The Brownsville Chamber of Commerce\, the U.S. Small Business Administration and the UTRGV Procurement Technical Assistance Center present the 8(a) Business Development Certification Program + PTAC Services online workshop on March 24. \nThe federal government uses special programs to help small businesses win at least 23 percent of all federal contracting dollars each year. \nTo help provide a level playing field for small businesses owned by socially and economically disadvantaged people or entities\, the government limits competition for certain contracts to businesses that participate in the 8(a) Business Development Programs. \nThe UTRGV PTAC will also present on services they offer the community. \nDiscover and Learn:\n\nIf Government Contracting is for you?\nWhat are the benefits of being an 8(a) certified firm?\nIf you qualify for the 8(a) program?\nSteps on How to do Business with the Federal Government.\n\nRegister online.
URL:https://valleybusinessreport.com/event/8a-business-development-program-procurement-technical-assistance-center-services/
LOCATION:Zoom
CATEGORIES:Seminars and Workshops
ATTACH;FMTTYPE=image/png:https://valleybusinessreport.com/wp-content/uploads/2022/03/8a-Business-Development_March2022.png
ORGANIZER;CN="Brownsville Chamber of Commerce":MAILTO:info@brownsvillechamber.com
END:VEVENT
BEGIN:VEVENT
DTSTART;TZID=America/Chicago:20220324T100000
DTEND;TZID=America/Chicago:20220324T120000
DTSTAMP:20260422T043839
CREATED:20220308T162512Z
LAST-MODIFIED:20220308T222221Z
UID:10000728-1648116000-1648123200@valleybusinessreport.com
SUMMARY:Payroll Compliance
DESCRIPTION:Are you planning to hire employees? \nHiring employees involves more than just signing a paycheck. Before hiring employees\, business owners must understand and prepare for the additional obligations that come with being an employer. This workshop sheds light on the compliance requirements of payroll. \nWebinar Highlights:\n\nSteps to meeting general State and Federal requirements\nLaws and types of payroll taxes business owners must pay\nContact information for the different agencies that govern payroll taxes\nHelpful resources\n\nRegister online.
URL:https://valleybusinessreport.com/event/payroll-compliance-13/
LOCATION:Online\, TX\, United States
CATEGORIES:Seminars and Workshops
ATTACH;FMTTYPE=image/png:https://valleybusinessreport.com/wp-content/uploads/2021/04/payroll.png
ORGANIZER;CN="Esperanza P. Delgado":MAILTO:esperanza.delgado@utrgv.edu
END:VEVENT
END:VCALENDAR