BEGIN:VCALENDAR
VERSION:2.0
PRODID:-//VBR - ECPv6.15.17.1//NONSGML v1.0//EN
CALSCALE:GREGORIAN
METHOD:PUBLISH
X-WR-CALNAME:VBR
X-ORIGINAL-URL:https://valleybusinessreport.com
X-WR-CALDESC:Events for VBR
REFRESH-INTERVAL;VALUE=DURATION:PT1H
X-Robots-Tag:noindex
X-PUBLISHED-TTL:PT1H
BEGIN:VTIMEZONE
TZID:America/Chicago
BEGIN:DAYLIGHT
TZOFFSETFROM:-0600
TZOFFSETTO:-0500
TZNAME:CDT
DTSTART:20210314T080000
END:DAYLIGHT
BEGIN:STANDARD
TZOFFSETFROM:-0500
TZOFFSETTO:-0600
TZNAME:CST
DTSTART:20211107T070000
END:STANDARD
BEGIN:DAYLIGHT
TZOFFSETFROM:-0600
TZOFFSETTO:-0500
TZNAME:CDT
DTSTART:20220313T080000
END:DAYLIGHT
BEGIN:STANDARD
TZOFFSETFROM:-0500
TZOFFSETTO:-0600
TZNAME:CST
DTSTART:20221106T070000
END:STANDARD
BEGIN:DAYLIGHT
TZOFFSETFROM:-0600
TZOFFSETTO:-0500
TZNAME:CDT
DTSTART:20230312T080000
END:DAYLIGHT
BEGIN:STANDARD
TZOFFSETFROM:-0500
TZOFFSETTO:-0600
TZNAME:CST
DTSTART:20231105T070000
END:STANDARD
END:VTIMEZONE
BEGIN:VEVENT
DTSTART;TZID=America/Chicago:20220425T140000
DTEND;TZID=America/Chicago:20220425T150000
DTSTAMP:20260422T081338
CREATED:20220401T003241Z
LAST-MODIFIED:20220401T003241Z
UID:10000791-1650895200-1650898800@valleybusinessreport.com
SUMMARY:Brownsville Chamber Connect +
DESCRIPTION:Join the Brownsville Chamber of Commerce for Chamber Connect + April 25 to learn more about what the chamber can do for you. Members can also receive a refresher on member benefits.  \nIn this event free and open to the public\, attendees will learn how to: \n\ntake advantage of membership benefits\njoin a committee\nstay connected with your members-only online portal\nset up a membership profile\n\nFor more information\, contact the Brownsville Chamber team.
URL:https://valleybusinessreport.com/event/brownsville-chamber-connect-5/
LOCATION:Brownsville Chamber of Commerce\, 1600 University Blvd.\, Brownsville\, TX\, 78520\, United States
CATEGORIES:Networking
ATTACH;FMTTYPE=image/png:https://valleybusinessreport.com/wp-content/uploads/2022/01/ChamberConnect.png
ORGANIZER;CN="Brownsville Chamber of Commerce":MAILTO:info@brownsvillechamber.com
GEO:25.8979742;-97.4945709
X-APPLE-STRUCTURED-LOCATION;VALUE=URI;X-ADDRESS=Brownsville Chamber of Commerce 1600 University Blvd. Brownsville TX 78520 United States;X-APPLE-RADIUS=500;X-TITLE=1600 University Blvd.:geo:-97.4945709,25.8979742
END:VEVENT
END:VCALENDAR