BEGIN:VCALENDAR
VERSION:2.0
PRODID:-//VBR - ECPv6.15.17.1//NONSGML v1.0//EN
CALSCALE:GREGORIAN
METHOD:PUBLISH
X-ORIGINAL-URL:https://valleybusinessreport.com
X-WR-CALDESC:Events for VBR
REFRESH-INTERVAL;VALUE=DURATION:PT1H
X-Robots-Tag:noindex
X-PUBLISHED-TTL:PT1H
BEGIN:VTIMEZONE
TZID:America/Chicago
BEGIN:DAYLIGHT
TZOFFSETFROM:-0600
TZOFFSETTO:-0500
TZNAME:CDT
DTSTART:20210314T080000
END:DAYLIGHT
BEGIN:STANDARD
TZOFFSETFROM:-0500
TZOFFSETTO:-0600
TZNAME:CST
DTSTART:20211107T070000
END:STANDARD
BEGIN:DAYLIGHT
TZOFFSETFROM:-0600
TZOFFSETTO:-0500
TZNAME:CDT
DTSTART:20220313T080000
END:DAYLIGHT
BEGIN:STANDARD
TZOFFSETFROM:-0500
TZOFFSETTO:-0600
TZNAME:CST
DTSTART:20221106T070000
END:STANDARD
BEGIN:DAYLIGHT
TZOFFSETFROM:-0600
TZOFFSETTO:-0500
TZNAME:CDT
DTSTART:20230312T080000
END:DAYLIGHT
BEGIN:STANDARD
TZOFFSETFROM:-0500
TZOFFSETTO:-0600
TZNAME:CST
DTSTART:20231105T070000
END:STANDARD
END:VTIMEZONE
BEGIN:VEVENT
DTSTART;TZID=America/Chicago:20220427T113000
DTEND;TZID=America/Chicago:20220427T130000
DTSTAMP:20260422T121918
CREATED:20220405T193659Z
LAST-MODIFIED:20220405T193659Z
UID:10000770-1651059000-1651064400@valleybusinessreport.com
SUMMARY:Administrative Professionals Day Luncheon
DESCRIPTION:The Edinburg Chamber of Commerce hosts an Administrative Professionals Day Luncheon April 27 at the Edinburg Conference Center. Administrative professionals and employers can join the national celebration over a lunch with motivational speaker Dr. Kathy Gruver. \nGruver is an award-winning author and professional speaker with more than 30 years of experience in mind/body medicine and human behavior. Her topics include stress reduction\, mindset and positivity where she creates space for both learning and laughter. \nTickets and tables of eight are available for purchase by contacting the Edinburg Chamber of Commerce.
URL:https://valleybusinessreport.com/event/administrative-professionals-day-luncheon/
LOCATION:Edinburg Conference Center at Renaissance\, 118 Paseo del Prado\, Edinburg\, 78539\, United States
CATEGORIES:Festivals and Celebrations
ATTACH;FMTTYPE=image/jpeg:https://valleybusinessreport.com/wp-content/uploads/2022/04/Edinburg-Admin-Pro-Day-2022.jpg
ORGANIZER;CN="Edinburg Chamber of Commerce":MAILTO:chamber@edinburg.com
END:VEVENT
BEGIN:VEVENT
DTSTART;TZID=America/Chicago:20220427T173000
DTEND;TZID=America/Chicago:20220427T200000
DTSTAMP:20260422T121918
CREATED:20220401T133528Z
LAST-MODIFIED:20220401T133528Z
UID:10000802-1651080600-1651089600@valleybusinessreport.com
SUMMARY:Hats Off to Business Women Dinner & Expo
DESCRIPTION:The Rio Grande Valley Hispanic Chamber of Commerce hosts the Hats Off to Business Women Dinner & Expo on April 27. The gathering of business women celebrates successes while offering networking opportunities. Attendees may also learn how SBA can assist in the creation or expansion of their businesses from keynote speaker Angela Burton\, RGV SBA district director. \nThe event also includes a Kentucky Derby hat contest. \nIndividual tickets to Hats Off to Business Women are $50. Attendees may also reserve a table of eight for $600 by calling the RGVHCC. Vendor table are also available by contacting the chamber. Non-member vendor tables are $250 and include two tickets. Member vendor tables are $200 and include two tickets. \nIndividual tickets are available for purchase online.
URL:https://valleybusinessreport.com/event/hats-off-to-business-women-dinner-expo/
LOCATION:Embassy Suites by Hilton\, 800 Convention Center Blvd.\, McAllen\, TX\, 78501\, United States
CATEGORIES:Festivals and Celebrations
ATTACH;FMTTYPE=image/png:https://valleybusinessreport.com/wp-content/uploads/2022/04/HatsOfftoBusinessWomen.png
END:VEVENT
END:VCALENDAR