BEGIN:VCALENDAR
VERSION:2.0
PRODID:-//VBR - ECPv6.15.17.1//NONSGML v1.0//EN
CALSCALE:GREGORIAN
METHOD:PUBLISH
X-ORIGINAL-URL:https://valleybusinessreport.com
X-WR-CALDESC:Events for VBR
REFRESH-INTERVAL;VALUE=DURATION:PT1H
X-Robots-Tag:noindex
X-PUBLISHED-TTL:PT1H
BEGIN:VTIMEZONE
TZID:America/Chicago
BEGIN:DAYLIGHT
TZOFFSETFROM:-0600
TZOFFSETTO:-0500
TZNAME:CDT
DTSTART:20210314T080000
END:DAYLIGHT
BEGIN:STANDARD
TZOFFSETFROM:-0500
TZOFFSETTO:-0600
TZNAME:CST
DTSTART:20211107T070000
END:STANDARD
BEGIN:DAYLIGHT
TZOFFSETFROM:-0600
TZOFFSETTO:-0500
TZNAME:CDT
DTSTART:20220313T080000
END:DAYLIGHT
BEGIN:STANDARD
TZOFFSETFROM:-0500
TZOFFSETTO:-0600
TZNAME:CST
DTSTART:20221106T070000
END:STANDARD
BEGIN:DAYLIGHT
TZOFFSETFROM:-0600
TZOFFSETTO:-0500
TZNAME:CDT
DTSTART:20230312T080000
END:DAYLIGHT
BEGIN:STANDARD
TZOFFSETFROM:-0500
TZOFFSETTO:-0600
TZNAME:CST
DTSTART:20231105T070000
END:STANDARD
END:VTIMEZONE
BEGIN:VEVENT
DTSTART;TZID=America/Chicago:20220428T100000
DTEND;TZID=America/Chicago:20220428T113000
DTSTAMP:20260422T121922
CREATED:20220406T202918Z
LAST-MODIFIED:20220420T194747Z
UID:10000756-1651140000-1651145400@valleybusinessreport.com
SUMMARY:Federal HUBZone Program
DESCRIPTION:As part of the Federal Contracting Series\, the Brownsville Chamber of Commerce is collaborating with the U.S. Small Business Administration for the Federal HUBZone Certification Program webinar on April 28. \nThe federal government uses special programs to help small businesses win at least at 23 percent of all federal contracting dollars each year. \nTo help provide a level playing field for small businesses located in a HUBZone area the government limits competition for certain contracts to businesses that participate in the Federal HUBZone Programs. \nThe federal government’s goal is to award at least three percent of all federal contracting dollars to HUBZone-certified small businesses each year. \nDiscover and Learn:\n\nIf Government contracting is for you.\nWhat are the benefits for being HUBZone certified firms?\nIf you qualify for the HUBZone Program.\nAre you in a designated HUBZone area?\nSteps on how to do business with the federal government.\n\nRegister online.
URL:https://valleybusinessreport.com/event/federal-hubzone-program/
LOCATION:Zoom
CATEGORIES:Seminars and Workshops
ATTACH;FMTTYPE=image/png:https://valleybusinessreport.com/wp-content/uploads/2022/04/Federal-HUBZone-Certification.png
ORGANIZER;CN="Brownsville Chamber of Commerce":MAILTO:info@brownsvillechamber.com
END:VEVENT
END:VCALENDAR