BEGIN:VCALENDAR
VERSION:2.0
PRODID:-//VBR - ECPv6.15.17.1//NONSGML v1.0//EN
CALSCALE:GREGORIAN
METHOD:PUBLISH
X-WR-CALNAME:VBR
X-ORIGINAL-URL:https://valleybusinessreport.com
X-WR-CALDESC:Events for VBR
REFRESH-INTERVAL;VALUE=DURATION:PT1H
X-Robots-Tag:noindex
X-PUBLISHED-TTL:PT1H
BEGIN:VTIMEZONE
TZID:America/Chicago
BEGIN:DAYLIGHT
TZOFFSETFROM:-0600
TZOFFSETTO:-0500
TZNAME:CDT
DTSTART:20210314T080000
END:DAYLIGHT
BEGIN:STANDARD
TZOFFSETFROM:-0500
TZOFFSETTO:-0600
TZNAME:CST
DTSTART:20211107T070000
END:STANDARD
BEGIN:DAYLIGHT
TZOFFSETFROM:-0600
TZOFFSETTO:-0500
TZNAME:CDT
DTSTART:20220313T080000
END:DAYLIGHT
BEGIN:STANDARD
TZOFFSETFROM:-0500
TZOFFSETTO:-0600
TZNAME:CST
DTSTART:20221106T070000
END:STANDARD
BEGIN:DAYLIGHT
TZOFFSETFROM:-0600
TZOFFSETTO:-0500
TZNAME:CDT
DTSTART:20230312T080000
END:DAYLIGHT
BEGIN:STANDARD
TZOFFSETFROM:-0500
TZOFFSETTO:-0600
TZNAME:CST
DTSTART:20231105T070000
END:STANDARD
END:VTIMEZONE
BEGIN:VEVENT
DTSTART;TZID=America/Chicago:20220429T183000
DTEND;TZID=America/Chicago:20220429T223000
DTSTAMP:20260422T121757
CREATED:20220406T200041Z
LAST-MODIFIED:20220406T200041Z
UID:10000754-1651257000-1651271400@valleybusinessreport.com
SUMMARY:Tacos 'n Tequila Craft Cocktails Showcase
DESCRIPTION:The McAllen Chamber of Commerce\, South Texas Health System\, the Radisson Hotel\, and McAllen Nut & Bolt invite you to this year’s Tacos ‘n Tequila Showcase. Come taste the best tacos and the best tequila craft cocktails in McAllen. \nRestaurants participating this year include Republic of the Rio Grande\, Birdie Bistro\, On the Border\, Costa Messa\, On the Grill and Palenque Grill. Benny & the Katz will provide live music. \nFor more information\, contact Gerry at 956-682-2871.
URL:https://valleybusinessreport.com/event/tacos-n-tequila-craft-cocktails-showcase/
LOCATION:Radisson Hotel\, 2721 South 10th Street\, McAllen\, TX\, 78503\, United States
CATEGORIES:Festivals and Celebrations
ATTACH;FMTTYPE=image/jpeg:https://valleybusinessreport.com/wp-content/uploads/2022/04/Tacos-n-Tequila-Showcase.jpg
ORGANIZER;CN="McAllen Chamber of Commerce":MAILTO:bcardenas@mcallenchamber.com
END:VEVENT
END:VCALENDAR