BEGIN:VCALENDAR
VERSION:2.0
PRODID:-//VBR - ECPv6.15.17.1//NONSGML v1.0//EN
CALSCALE:GREGORIAN
METHOD:PUBLISH
X-ORIGINAL-URL:https://valleybusinessreport.com
X-WR-CALDESC:Events for VBR
REFRESH-INTERVAL;VALUE=DURATION:PT1H
X-Robots-Tag:noindex
X-PUBLISHED-TTL:PT1H
BEGIN:VTIMEZONE
TZID:America/Chicago
BEGIN:DAYLIGHT
TZOFFSETFROM:-0600
TZOFFSETTO:-0500
TZNAME:CDT
DTSTART:20210314T080000
END:DAYLIGHT
BEGIN:STANDARD
TZOFFSETFROM:-0500
TZOFFSETTO:-0600
TZNAME:CST
DTSTART:20211107T070000
END:STANDARD
BEGIN:DAYLIGHT
TZOFFSETFROM:-0600
TZOFFSETTO:-0500
TZNAME:CDT
DTSTART:20220313T080000
END:DAYLIGHT
BEGIN:STANDARD
TZOFFSETFROM:-0500
TZOFFSETTO:-0600
TZNAME:CST
DTSTART:20221106T070000
END:STANDARD
BEGIN:DAYLIGHT
TZOFFSETFROM:-0600
TZOFFSETTO:-0500
TZNAME:CDT
DTSTART:20230312T080000
END:DAYLIGHT
BEGIN:STANDARD
TZOFFSETFROM:-0500
TZOFFSETTO:-0600
TZNAME:CST
DTSTART:20231105T070000
END:STANDARD
END:VTIMEZONE
BEGIN:VEVENT
DTSTART;TZID=America/Chicago:20220511T180000
DTEND;TZID=America/Chicago:20220511T203000
DTSTAMP:20260422T165631
CREATED:20220504T172951Z
LAST-MODIFIED:20220504T172951Z
UID:10000607-1652292000-1652301000@valleybusinessreport.com
SUMMARY:Civics Bee Competition
DESCRIPTION:The National Civics Bee comes to Brownsville on May 11 at the Brownsville Events Center. Students will be competing to be the named the first Brownsville #NationalCivicsBee champion. \nShare your support and cheer on finalists as they compete for national acclaim and cash prizes. \nFinalists are:\n\nDayanna Rodriguez Ceja\, IDEA Owassa\nKate Aleman\, Stillman Middle School\nJared Calderon\, South Texas Preparatory Academy\nSeanah Mireles\, IDEA San Benito\nChristopher Zendejas\, Oliveira Middle School\nSusan Perez\, Faulk Middle School\n\nAbout the Bee:\nThe Brownsville Civics Bee is one of six inaugural National Civics Bee competitions promoted by the U.S. Chamber of Commerce Foundation. More than 400 local middle school students participated in a first-round essay competition sharing their ideas on how to use civics to solve a problem in our community. Judges selected the top 10 student essays to advance to the final round: a live quiz event that will test student’s civics knowledge. \nThe National Civics Bee is presented by the Brownsville Chamber of Commerce\, with support from the U.S. Chamber of Commerce Foundation. \nThis event is free and open to the community.
URL:https://valleybusinessreport.com/event/civics-bee-competition/
LOCATION:Brownsville Events Center\, 1 Events Center Blvd.\, Brownsville\, TX\, United States
CATEGORIES:Awards and Recognitions
ATTACH;FMTTYPE=image/png:https://valleybusinessreport.com/wp-content/uploads/2022/05/civics-bee.png
ORGANIZER;CN="Brownsville Chamber of Commerce":MAILTO:info@brownsvillechamber.com
END:VEVENT
END:VCALENDAR