BEGIN:VCALENDAR
VERSION:2.0
PRODID:-//VBR - ECPv6.15.17.1//NONSGML v1.0//EN
CALSCALE:GREGORIAN
METHOD:PUBLISH
X-WR-CALNAME:VBR
X-ORIGINAL-URL:https://valleybusinessreport.com
X-WR-CALDESC:Events for VBR
REFRESH-INTERVAL;VALUE=DURATION:PT1H
X-Robots-Tag:noindex
X-PUBLISHED-TTL:PT1H
BEGIN:VTIMEZONE
TZID:America/Chicago
BEGIN:DAYLIGHT
TZOFFSETFROM:-0600
TZOFFSETTO:-0500
TZNAME:CDT
DTSTART:20210314T080000
END:DAYLIGHT
BEGIN:STANDARD
TZOFFSETFROM:-0500
TZOFFSETTO:-0600
TZNAME:CST
DTSTART:20211107T070000
END:STANDARD
BEGIN:DAYLIGHT
TZOFFSETFROM:-0600
TZOFFSETTO:-0500
TZNAME:CDT
DTSTART:20220313T080000
END:DAYLIGHT
BEGIN:STANDARD
TZOFFSETFROM:-0500
TZOFFSETTO:-0600
TZNAME:CST
DTSTART:20221106T070000
END:STANDARD
BEGIN:DAYLIGHT
TZOFFSETFROM:-0600
TZOFFSETTO:-0500
TZNAME:CDT
DTSTART:20230312T080000
END:DAYLIGHT
BEGIN:STANDARD
TZOFFSETFROM:-0500
TZOFFSETTO:-0600
TZNAME:CST
DTSTART:20231105T070000
END:STANDARD
END:VTIMEZONE
BEGIN:VEVENT
DTSTART;TZID=America/Chicago:20220518T140000
DTEND;TZID=America/Chicago:20220518T150000
DTSTAMP:20260423T030549
CREATED:20220510T173227Z
LAST-MODIFIED:20220510T173227Z
UID:10000617-1652882400-1652886000@valleybusinessreport.com
SUMMARY:Exploring Your Market
DESCRIPTION:Who are your potential customers? \nBefore launching or growing a business\, it is important to identify your target market and new market segments. \nIs there a demand or growing demand for your product or service? Who is buying or selling something similar? All these questions and more must be studied to make key business decisions in your small business. \nWebinar highlights\n\nThe importance of market research\nTools to conduct market research\nSmall businesses and their target markets\nRelevant industry trends and what they mean\nCompetitors and how small businesses compare\nQuantifying market research for business decisions\n\nThis session is presented by a business advisor with the UTRGV Small Business Development Center. \nThis session is hosted by the UTRGV Small Business Development Center with promotional support by the Brownsville Chamber of Commerce\, Greater Pharr Chamber of Commerce\, Rio Grande City Economic Development Corporation\, Rio Grande City Public Library\, San Benito Chamber of Commerce\, and Weslaco Area Chamber of Commerce & Visitors Center. \nRegister online.
URL:https://valleybusinessreport.com/event/exploring-your-market-6/
LOCATION:Online\, TX\, United States
CATEGORIES:Seminars and Workshops
ATTACH;FMTTYPE=image/jpeg:https://valleybusinessreport.com/wp-content/uploads/2019/02/market-research.jpg
ORGANIZER;CN="Esperanza P. Delgado":MAILTO:esperanza.delgado@utrgv.edu
END:VEVENT
END:VCALENDAR