BEGIN:VCALENDAR
VERSION:2.0
PRODID:-//VBR - ECPv6.15.17.1//NONSGML v1.0//EN
CALSCALE:GREGORIAN
METHOD:PUBLISH
X-ORIGINAL-URL:https://valleybusinessreport.com
X-WR-CALDESC:Events for VBR
REFRESH-INTERVAL;VALUE=DURATION:PT1H
X-Robots-Tag:noindex
X-PUBLISHED-TTL:PT1H
BEGIN:VTIMEZONE
TZID:America/Chicago
BEGIN:DAYLIGHT
TZOFFSETFROM:-0600
TZOFFSETTO:-0500
TZNAME:CDT
DTSTART:20210314T080000
END:DAYLIGHT
BEGIN:STANDARD
TZOFFSETFROM:-0500
TZOFFSETTO:-0600
TZNAME:CST
DTSTART:20211107T070000
END:STANDARD
BEGIN:DAYLIGHT
TZOFFSETFROM:-0600
TZOFFSETTO:-0500
TZNAME:CDT
DTSTART:20220313T080000
END:DAYLIGHT
BEGIN:STANDARD
TZOFFSETFROM:-0500
TZOFFSETTO:-0600
TZNAME:CST
DTSTART:20221106T070000
END:STANDARD
BEGIN:DAYLIGHT
TZOFFSETFROM:-0600
TZOFFSETTO:-0500
TZNAME:CDT
DTSTART:20230312T080000
END:DAYLIGHT
BEGIN:STANDARD
TZOFFSETFROM:-0500
TZOFFSETTO:-0600
TZNAME:CST
DTSTART:20231105T070000
END:STANDARD
END:VTIMEZONE
BEGIN:VEVENT
DTSTART;TZID=America/Chicago:20220524T100000
DTEND;TZID=America/Chicago:20220524T120000
DTSTAMP:20260422T165638
CREATED:20220512T181929Z
LAST-MODIFIED:20220512T182001Z
UID:10000619-1653386400-1653393600@valleybusinessreport.com
SUMMARY:Social Media for Small Businesses: Tips & Trends for 2022
DESCRIPTION:Do you use social media for your small business? \nWhile not every business owner uses social media to connect with customers or build brand awareness\, those that do benefit greatly from its free tools. \n“Social Media for Small Businesses: Tips & Trends for 2022” shares best practices\, as well as tips and tools\, to stay engaged with your target market and build a following\, plus more. \n Learn about the following:\n\nSocial media benefits\nBrand awareness\nSocial media trends\nSocial media best practices\n\nThis webinar is presented by Patty Rojas with Monarch International Design. \nHosted by the UTRGV SBDC with promotional support by the BBVA Foundation\, Brownsville Chamber of Commerce\, Edinburg Chamber of Commerce\, Greater Mission Chamber of Commerce\, Palmview Chamber of Commerce\, Rio Grande City Greater Chamber of Commerce\, RGV Hispanic Chamber of Commerce\, San Benito Chamber of Commerce\, and Starr County Industrial Foundation. \nRegister online.
URL:https://valleybusinessreport.com/event/social-media-for-small-businesses-tips-trends-for-2022/
LOCATION:Online\, TX\, United States
CATEGORIES:Seminars and Workshops
ATTACH;FMTTYPE=image/jpeg:https://valleybusinessreport.com/wp-content/uploads/2019/08/social-media.jpg
ORGANIZER;CN="Esperanza P. Delgado":MAILTO:esperanza.delgado@utrgv.edu
END:VEVENT
BEGIN:VEVENT
DTSTART;TZID=America/Chicago:20220524T173000
DTEND;TZID=America/Chicago:20220524T190000
DTSTAMP:20260422T165638
CREATED:20220505T185851Z
LAST-MODIFIED:20220505T185851Z
UID:10000609-1653413400-1653418800@valleybusinessreport.com
SUMMARY:SPI Pre-Summer Contacts and Cocktails
DESCRIPTION:Join the South Padre Island Chamber of Commerce and Holiday Inn Resort SPI for Pre-Summer Contacts & Cocktails May 24. \nBefore the busy summer season starts\, enjoy a little down time with hors d’oeuvres\, a cash bar and networking.
URL:https://valleybusinessreport.com/event/spi-pre-summer-contacts-and-cocktails/
LOCATION:Holiday Inn Resort SPI\, 100 Padre Blvd.\, South Padre Island\, TX\, United States
CATEGORIES:Networking
ATTACH;FMTTYPE=image/png:https://valleybusinessreport.com/wp-content/uploads/2022/05/SPIContactsCocktails.png
ORGANIZER;CN="Alita Bagley%2C SPI Chamber of Commerce":MAILTO:alita@spichamber.com
END:VEVENT
END:VCALENDAR