BEGIN:VCALENDAR
VERSION:2.0
PRODID:-//VBR - ECPv6.15.17.1//NONSGML v1.0//EN
CALSCALE:GREGORIAN
METHOD:PUBLISH
X-ORIGINAL-URL:https://valleybusinessreport.com
X-WR-CALDESC:Events for VBR
REFRESH-INTERVAL;VALUE=DURATION:PT1H
X-Robots-Tag:noindex
X-PUBLISHED-TTL:PT1H
BEGIN:VTIMEZONE
TZID:America/Chicago
BEGIN:DAYLIGHT
TZOFFSETFROM:-0600
TZOFFSETTO:-0500
TZNAME:CDT
DTSTART:20210314T080000
END:DAYLIGHT
BEGIN:STANDARD
TZOFFSETFROM:-0500
TZOFFSETTO:-0600
TZNAME:CST
DTSTART:20211107T070000
END:STANDARD
BEGIN:DAYLIGHT
TZOFFSETFROM:-0600
TZOFFSETTO:-0500
TZNAME:CDT
DTSTART:20220313T080000
END:DAYLIGHT
BEGIN:STANDARD
TZOFFSETFROM:-0500
TZOFFSETTO:-0600
TZNAME:CST
DTSTART:20221106T070000
END:STANDARD
BEGIN:DAYLIGHT
TZOFFSETFROM:-0600
TZOFFSETTO:-0500
TZNAME:CDT
DTSTART:20230312T080000
END:DAYLIGHT
BEGIN:STANDARD
TZOFFSETFROM:-0500
TZOFFSETTO:-0600
TZNAME:CST
DTSTART:20231105T070000
END:STANDARD
END:VTIMEZONE
BEGIN:VEVENT
DTSTART;TZID=America/Chicago:20220625T113000
DTEND;TZID=America/Chicago:20220625T133000
DTSTAMP:20260422T165642
CREATED:20220614T173541Z
LAST-MODIFIED:20220614T173541Z
UID:10000793-1656156600-1656163800@valleybusinessreport.com
SUMMARY:Here Come the Brides Luncheon
DESCRIPTION:The Weslaco Museum hosts the annual “Here Come the Brides Luncheon” presented by The Museum Guild on June 25. The luncheon will feature a presentation by Joe Vidales\, discussing wedding styles through the years. \nPurchase tickets for $25 at the museum or from guild members.
URL:https://valleybusinessreport.com/event/here-come-the-brides-luncheon/
LOCATION:Weslaco Museum\, 500 South Texas Blvd.\, Weslaco\, TX\, 78596 At this address\, United States
CATEGORIES:Festivals and Celebrations
ATTACH;FMTTYPE=image/png:https://valleybusinessreport.com/wp-content/uploads/2022/06/HereComesTheBride.png
END:VEVENT
END:VCALENDAR