BEGIN:VCALENDAR
VERSION:2.0
PRODID:-//VBR - ECPv6.15.17.1//NONSGML v1.0//EN
CALSCALE:GREGORIAN
METHOD:PUBLISH
X-WR-CALNAME:VBR
X-ORIGINAL-URL:https://valleybusinessreport.com
X-WR-CALDESC:Events for VBR
REFRESH-INTERVAL;VALUE=DURATION:PT1H
X-Robots-Tag:noindex
X-PUBLISHED-TTL:PT1H
BEGIN:VTIMEZONE
TZID:America/Chicago
BEGIN:DAYLIGHT
TZOFFSETFROM:-0600
TZOFFSETTO:-0500
TZNAME:CDT
DTSTART:20210314T080000
END:DAYLIGHT
BEGIN:STANDARD
TZOFFSETFROM:-0500
TZOFFSETTO:-0600
TZNAME:CST
DTSTART:20211107T070000
END:STANDARD
BEGIN:DAYLIGHT
TZOFFSETFROM:-0600
TZOFFSETTO:-0500
TZNAME:CDT
DTSTART:20220313T080000
END:DAYLIGHT
BEGIN:STANDARD
TZOFFSETFROM:-0500
TZOFFSETTO:-0600
TZNAME:CST
DTSTART:20221106T070000
END:STANDARD
BEGIN:DAYLIGHT
TZOFFSETFROM:-0600
TZOFFSETTO:-0500
TZNAME:CDT
DTSTART:20230312T080000
END:DAYLIGHT
BEGIN:STANDARD
TZOFFSETFROM:-0500
TZOFFSETTO:-0600
TZNAME:CST
DTSTART:20231105T070000
END:STANDARD
END:VTIMEZONE
BEGIN:VEVENT
DTSTART;VALUE=DATE:20220702
DTEND;VALUE=DATE:20220703
DTSTAMP:20260422T134546
CREATED:20220629T172403Z
LAST-MODIFIED:20220629T172403Z
UID:10000771-1656720000-1656806399@valleybusinessreport.com
SUMMARY:Rio Grande City Freedom Fest
DESCRIPTION:The Rio Grande City Freedom Fest presented by Grupo Solido takes place July 2 at the Basilio Villarreal Municipal Park. The event features live music\, a car show\, kiddie rides\, a fireworks show and more.
URL:https://valleybusinessreport.com/event/rio-grande-city-freedom-fest/
LOCATION:Basilio Villarreal Municipal Park\, 1473 Stephen\, Saenz Street\, Rio Grande City\, TX\, 78582\, United States
CATEGORIES:Festivals and Celebrations
ATTACH;FMTTYPE=image/jpeg:https://valleybusinessreport.com/wp-content/uploads/2022/06/RGC-Freedom-Fest-2022.jpg
END:VEVENT
BEGIN:VEVENT
DTSTART;VALUE=DATE:20220702
DTEND;VALUE=DATE:20220703
DTSTAMP:20260422T134546
CREATED:20220629T173534Z
LAST-MODIFIED:20220629T173605Z
UID:10000751-1656720000-1656806399@valleybusinessreport.com
SUMMARY:Texas Cook’Em: High Steaks
DESCRIPTION:The Edinburg Chamber of Commerce and the City of Edinburg host the 16th annual Texas Cook’Em: High Steaks on July 2 at Ebony Hills Golf Course. Headliner for the event is Los Palominos with openers Red Not Chili Peppers\, Draft\, Explosion Tejana and more. \nTexas Cook’Em is one of the state’s biggest BBQ purse\, awarding $25\,000 to winners. Competitors will battle it out on the grill to cook the best chicken\, ribs\, pork\, brisket and rib-eye steak. Winners will take home money and a year’s work of bragging rights. \nA portion of the event proceeds will benefit local veterans attending the University of Texas – Rio Grande Valley with scholarships. Texas Cook’Em has distributed over $20\,000 in scholarships locally. \nThis year’s festivities will begin at 10 a.m. Activities include live music\, vendors\, car show\, a children’s fun zone and food. \nAdmission to the concert is free. Attendees are welcome to bring lawn chairs and blankets.
URL:https://valleybusinessreport.com/event/texas-cookem-high-steaks/
LOCATION:Ebony Hills Golf Course\, 300 W. Palm Drive\, Edinburg\, TX\, United States
CATEGORIES:Festivals and Celebrations
ATTACH;FMTTYPE=image/jpeg:https://valleybusinessreport.com/wp-content/uploads/2022/06/texas-cook-em-high-steaks-2022.jpg
ORGANIZER;CN="Edinburg Chamber of Commerce":MAILTO:chamber@edinburg.com
END:VEVENT
END:VCALENDAR