BEGIN:VCALENDAR
VERSION:2.0
PRODID:-//VBR - ECPv6.15.17.1//NONSGML v1.0//EN
CALSCALE:GREGORIAN
METHOD:PUBLISH
X-ORIGINAL-URL:https://valleybusinessreport.com
X-WR-CALDESC:Events for VBR
REFRESH-INTERVAL;VALUE=DURATION:PT1H
X-Robots-Tag:noindex
X-PUBLISHED-TTL:PT1H
BEGIN:VTIMEZONE
TZID:America/Chicago
BEGIN:DAYLIGHT
TZOFFSETFROM:-0600
TZOFFSETTO:-0500
TZNAME:CDT
DTSTART:20210314T080000
END:DAYLIGHT
BEGIN:STANDARD
TZOFFSETFROM:-0500
TZOFFSETTO:-0600
TZNAME:CST
DTSTART:20211107T070000
END:STANDARD
BEGIN:DAYLIGHT
TZOFFSETFROM:-0600
TZOFFSETTO:-0500
TZNAME:CDT
DTSTART:20220313T080000
END:DAYLIGHT
BEGIN:STANDARD
TZOFFSETFROM:-0500
TZOFFSETTO:-0600
TZNAME:CST
DTSTART:20221106T070000
END:STANDARD
BEGIN:DAYLIGHT
TZOFFSETFROM:-0600
TZOFFSETTO:-0500
TZNAME:CDT
DTSTART:20230312T080000
END:DAYLIGHT
BEGIN:STANDARD
TZOFFSETFROM:-0500
TZOFFSETTO:-0600
TZNAME:CST
DTSTART:20231105T070000
END:STANDARD
END:VTIMEZONE
BEGIN:VEVENT
DTSTART;VALUE=DATE:20220820
DTEND;VALUE=DATE:20220822
DTSTAMP:20260422T183855
CREATED:20220817T152047Z
LAST-MODIFIED:20220912T213711Z
UID:10000837-1660953600-1661126399@valleybusinessreport.com
SUMMARY:South Texas Builders Expo
DESCRIPTION:The South Texas Builders Expo takes place Aug. 20 from 9 a.m. – 5 p.m. and Aug. 21 from noon to 5 p.m. at the Edinburg Conference Center at Renaissance. The expo hosts the region’s top exhibitors in homebuilding products\, service solutions and up-to-date technology. \nEntrance to the two-day expo is free. Attendees will have the opportunity to meet hundreds of builders from the industry’s top companies as well as view hundreds of products and services on display. \nFor more information\, contact the Edinburg Chamber of Commerce.
URL:https://valleybusinessreport.com/event/south-texas-builders-expo/
LOCATION:Edinburg Conference Center at Renaissance\, 118 Paseo del Prado\, Edinburg\, 78539\, United States
CATEGORIES:Seminars and Workshops,Shopping
ATTACH;FMTTYPE=image/jpeg:https://valleybusinessreport.com/wp-content/uploads/2022/08/STXBE-social.jpg
ORGANIZER;CN="Edinburg Chamber of Commerce":MAILTO:chamber@edinburg.com
END:VEVENT
END:VCALENDAR