BEGIN:VCALENDAR
VERSION:2.0
PRODID:-//VBR - ECPv6.15.17.1//NONSGML v1.0//EN
CALSCALE:GREGORIAN
METHOD:PUBLISH
X-ORIGINAL-URL:https://valleybusinessreport.com
X-WR-CALDESC:Events for VBR
REFRESH-INTERVAL;VALUE=DURATION:PT1H
X-Robots-Tag:noindex
X-PUBLISHED-TTL:PT1H
BEGIN:VTIMEZONE
TZID:America/Chicago
BEGIN:DAYLIGHT
TZOFFSETFROM:-0600
TZOFFSETTO:-0500
TZNAME:CDT
DTSTART:20210314T080000
END:DAYLIGHT
BEGIN:STANDARD
TZOFFSETFROM:-0500
TZOFFSETTO:-0600
TZNAME:CST
DTSTART:20211107T070000
END:STANDARD
BEGIN:DAYLIGHT
TZOFFSETFROM:-0600
TZOFFSETTO:-0500
TZNAME:CDT
DTSTART:20220313T080000
END:DAYLIGHT
BEGIN:STANDARD
TZOFFSETFROM:-0500
TZOFFSETTO:-0600
TZNAME:CST
DTSTART:20221106T070000
END:STANDARD
BEGIN:DAYLIGHT
TZOFFSETFROM:-0600
TZOFFSETTO:-0500
TZNAME:CDT
DTSTART:20230312T080000
END:DAYLIGHT
BEGIN:STANDARD
TZOFFSETFROM:-0500
TZOFFSETTO:-0600
TZNAME:CST
DTSTART:20231105T070000
END:STANDARD
END:VTIMEZONE
BEGIN:VEVENT
DTSTART;TZID=America/Chicago:20220927T113000
DTEND;TZID=America/Chicago:20220927T130000
DTSTAMP:20260422T214846
CREATED:20220913T150825Z
LAST-MODIFIED:20220913T150825Z
UID:10000828-1664278200-1664283600@valleybusinessreport.com
SUMMARY:AAF-RGV Luncheon Featuring Sean Thompson
DESCRIPTION:Join the American Advertising Federation – Rio Grande Valley for a luncheon on Sept. 27 featuring Sean Thompson\, the co-founder of lookthinkmake. Thompson will speak on “Turning Spaces Into Places: Building Brands for Community Destinations.” \nFrom remarkable buildings to beloved neighborhoods\, and city districts to community parks\, we all have places we love to be. But how do those places get their start? This luncheon addresses the elements that create place-based brands — including naming\, identity design\, wayfinding\, and websites — and how to bring people\, places\, and ideas together in the process. \nThompson’s lookthinkmake is an Austin-based agency focuses on creating brands and marketing campaigns for places\, spaces\, tourism\, parks\, nonprofits and community wellness initiatives. \nRegistration is required with payment due in full in advance or at the event. Fees are $25 for AAF-RGV members and corporate members\, $30 for non-members\, and $20 for students. \nRegister online.
URL:https://valleybusinessreport.com/event/aaf-rgv-sean-thompson/
LOCATION:Embassy Suites by Hilton\, 800 Convention Center Blvd.\, McAllen\, TX\, 78501\, United States
CATEGORIES:Speakers
ATTACH;FMTTYPE=image/png:https://valleybusinessreport.com/wp-content/uploads/2022/09/Sean_Thompson_AAF.png
ORGANIZER;CN="American Advertising Federation - Rio Grande Valley":MAILTO:aafrgv@rgv.rr.com
END:VEVENT
END:VCALENDAR