BEGIN:VCALENDAR
VERSION:2.0
PRODID:-//VBR - ECPv6.15.17.1//NONSGML v1.0//EN
CALSCALE:GREGORIAN
METHOD:PUBLISH
X-ORIGINAL-URL:https://valleybusinessreport.com
X-WR-CALDESC:Events for VBR
REFRESH-INTERVAL;VALUE=DURATION:PT1H
X-Robots-Tag:noindex
X-PUBLISHED-TTL:PT1H
BEGIN:VTIMEZONE
TZID:America/Chicago
BEGIN:DAYLIGHT
TZOFFSETFROM:-0600
TZOFFSETTO:-0500
TZNAME:CDT
DTSTART:20210314T080000
END:DAYLIGHT
BEGIN:STANDARD
TZOFFSETFROM:-0500
TZOFFSETTO:-0600
TZNAME:CST
DTSTART:20211107T070000
END:STANDARD
BEGIN:DAYLIGHT
TZOFFSETFROM:-0600
TZOFFSETTO:-0500
TZNAME:CDT
DTSTART:20220313T080000
END:DAYLIGHT
BEGIN:STANDARD
TZOFFSETFROM:-0500
TZOFFSETTO:-0600
TZNAME:CST
DTSTART:20221106T070000
END:STANDARD
BEGIN:DAYLIGHT
TZOFFSETFROM:-0600
TZOFFSETTO:-0500
TZNAME:CDT
DTSTART:20230312T080000
END:DAYLIGHT
BEGIN:STANDARD
TZOFFSETFROM:-0500
TZOFFSETTO:-0600
TZNAME:CST
DTSTART:20231105T070000
END:STANDARD
END:VTIMEZONE
BEGIN:VEVENT
DTSTART;TZID=America/Chicago:20221105T100000
DTEND;TZID=America/Chicago:20221105T160000
DTSTAMP:20260422T234104
CREATED:20221024T195227Z
LAST-MODIFIED:20221024T195227Z
UID:10000670-1667642400-1667664000@valleybusinessreport.com
SUMMARY:29th Annual Shrimp Cook-off and Seafood Festival 
DESCRIPTION:The 29th annual Shrimp Cook-off and Seafood Festival takes place Nov. 5 with live music all day by The Agency\, kids’ games\, vendors from the local Port Isabel Flea Market and food vendors.Entry fee is $5 with kids ages 10 and under admitted for free. \nFor more information\, visit the festival’s Facebook page.
URL:https://valleybusinessreport.com/event/29th-annual-shrimp-cook-off-and-seafood-festival/
LOCATION:Sutherlands Port Isabel Parking Lot\, 1723 TX-100\, Port Isabel\, TX\, 78578\, United States
CATEGORIES:Festivals and Celebrations
ATTACH;FMTTYPE=image/jpeg:https://valleybusinessreport.com/wp-content/uploads/2022/10/unnamed-6.jpg
END:VEVENT
BEGIN:VEVENT
DTSTART;TZID=America/Chicago:20221105T163000
DTEND;TZID=America/Chicago:20221105T200000
DTSTAMP:20260422T234104
CREATED:20221101T184814Z
LAST-MODIFIED:20221101T184848Z
UID:10000811-1667665800-1667678400@valleybusinessreport.com
SUMMARY:Veterans Parade
DESCRIPTION:Come out and show your gratitude to the men and women who have served our nation with the City of Pharr’s Veterans Parade on Nov. 5. Sport your stars and stripes with pride and bring out the red\, white and blue in you. \nA fireworks spectacular begins at 8 p.m. Fireworks will launch from (North Display) North Raider Drive and (South Display) West Las Milpas Road.
URL:https://valleybusinessreport.com/event/veterans-parade/
LOCATION:Downtown Pharr\, 118 South Cage Blvd.\, Pharr\, TX\, 78577\, United States
CATEGORIES:Festivals and Celebrations
ATTACH;FMTTYPE=image/jpeg:https://valleybusinessreport.com/wp-content/uploads/2022/11/PharrVetParade.jpg
END:VEVENT
END:VCALENDAR