BEGIN:VCALENDAR
VERSION:2.0
PRODID:-//VBR - ECPv6.15.17.1//NONSGML v1.0//EN
CALSCALE:GREGORIAN
METHOD:PUBLISH
X-WR-CALNAME:VBR
X-ORIGINAL-URL:https://valleybusinessreport.com
X-WR-CALDESC:Events for VBR
REFRESH-INTERVAL;VALUE=DURATION:PT1H
X-Robots-Tag:noindex
X-PUBLISHED-TTL:PT1H
BEGIN:VTIMEZONE
TZID:America/Chicago
BEGIN:DAYLIGHT
TZOFFSETFROM:-0600
TZOFFSETTO:-0500
TZNAME:CDT
DTSTART:20210314T080000
END:DAYLIGHT
BEGIN:STANDARD
TZOFFSETFROM:-0500
TZOFFSETTO:-0600
TZNAME:CST
DTSTART:20211107T070000
END:STANDARD
BEGIN:DAYLIGHT
TZOFFSETFROM:-0600
TZOFFSETTO:-0500
TZNAME:CDT
DTSTART:20220313T080000
END:DAYLIGHT
BEGIN:STANDARD
TZOFFSETFROM:-0500
TZOFFSETTO:-0600
TZNAME:CST
DTSTART:20221106T070000
END:STANDARD
BEGIN:DAYLIGHT
TZOFFSETFROM:-0600
TZOFFSETTO:-0500
TZNAME:CDT
DTSTART:20230312T080000
END:DAYLIGHT
BEGIN:STANDARD
TZOFFSETFROM:-0500
TZOFFSETTO:-0600
TZNAME:CST
DTSTART:20231105T070000
END:STANDARD
END:VTIMEZONE
BEGIN:VEVENT
DTSTART;TZID=America/Chicago:20221210T080000
DTEND;TZID=America/Chicago:20221210T120000
DTSTAMP:20260423T210512
CREATED:20221206T195535Z
LAST-MODIFIED:20221206T195535Z
UID:10000879-1670659200-1670673600@valleybusinessreport.com
SUMMARY:Small Business Holiday Marketplace
DESCRIPTION:The Brownsville Chamber of Commerce in partnership with the Mexican Consulate in Brownsville hosts the Small Business Holiday Marketplace on Dec. 10. The shopping day provides the perfect opportunity to support local small businesses. \nThis year\, the Small Business Holiday Marketplace will take place at the Brownsville Events Center parking lot. It is the perfect place to get all your holiday shopping done in one place and find truly unique gifts for your loved ones (or yourself). \nFor more information or assistance registering for the event as a vendor\, contact the Brownsville Chamber of Commerce.
URL:https://valleybusinessreport.com/event/small-business-holiday-marketplace/
LOCATION:Brownsville Events Center\, 1 Events Center Blvd.\, Brownsville\, TX\, United States
CATEGORIES:Shopping
ATTACH;FMTTYPE=image/png:https://valleybusinessreport.com/wp-content/uploads/2022/12/12.10.22SmallBusinessHolidayMarketplace.png
ORGANIZER;CN="Brownsville Chamber of Commerce":MAILTO:info@brownsvillechamber.com
END:VEVENT
END:VCALENDAR