BEGIN:VCALENDAR
VERSION:2.0
PRODID:-//VBR - ECPv6.15.17.1//NONSGML v1.0//EN
CALSCALE:GREGORIAN
METHOD:PUBLISH
X-ORIGINAL-URL:https://valleybusinessreport.com
X-WR-CALDESC:Events for VBR
REFRESH-INTERVAL;VALUE=DURATION:PT1H
X-Robots-Tag:noindex
X-PUBLISHED-TTL:PT1H
BEGIN:VTIMEZONE
TZID:America/Chicago
BEGIN:DAYLIGHT
TZOFFSETFROM:-0600
TZOFFSETTO:-0500
TZNAME:CDT
DTSTART:20210314T080000
END:DAYLIGHT
BEGIN:STANDARD
TZOFFSETFROM:-0500
TZOFFSETTO:-0600
TZNAME:CST
DTSTART:20211107T070000
END:STANDARD
BEGIN:DAYLIGHT
TZOFFSETFROM:-0600
TZOFFSETTO:-0500
TZNAME:CDT
DTSTART:20220313T080000
END:DAYLIGHT
BEGIN:STANDARD
TZOFFSETFROM:-0500
TZOFFSETTO:-0600
TZNAME:CST
DTSTART:20221106T070000
END:STANDARD
BEGIN:DAYLIGHT
TZOFFSETFROM:-0600
TZOFFSETTO:-0500
TZNAME:CDT
DTSTART:20230312T080000
END:DAYLIGHT
BEGIN:STANDARD
TZOFFSETFROM:-0500
TZOFFSETTO:-0600
TZNAME:CST
DTSTART:20231105T070000
END:STANDARD
END:VTIMEZONE
BEGIN:VEVENT
DTSTART;TZID=America/Chicago:20221216T170000
DTEND;TZID=America/Chicago:20221216T220000
DTSTAMP:20260424T062051
CREATED:20221206T191407Z
LAST-MODIFIED:20221206T191407Z
UID:10000876-1671210000-1671228000@valleybusinessreport.com
SUMMARY:Christmas Movie/Toy Drive
DESCRIPTION:The Mercedes Police Department hosts a toy drive on Dec. 16 while the Mercedes Chamber presents a Christmas movie to the public. The event takes place at H-E-B Park (Mercedes Civic Center) from 5-10 p.m.
URL:https://valleybusinessreport.com/event/christmas-movie-toy-drive/
LOCATION:H-E-B Park\, 1616 South Raul Longoria Road\, Edinburg\, TX\, 78542\, United States
CATEGORIES:Fundraisers
ATTACH;FMTTYPE=image/jpeg:https://valleybusinessreport.com/wp-content/uploads/2020/12/christmas-toys.jpg
END:VEVENT
END:VCALENDAR