BEGIN:VCALENDAR
VERSION:2.0
PRODID:-//VBR - ECPv6.15.17.1//NONSGML v1.0//EN
CALSCALE:GREGORIAN
METHOD:PUBLISH
X-ORIGINAL-URL:https://valleybusinessreport.com
X-WR-CALDESC:Events for VBR
REFRESH-INTERVAL;VALUE=DURATION:PT1H
X-Robots-Tag:noindex
X-PUBLISHED-TTL:PT1H
BEGIN:VTIMEZONE
TZID:America/Chicago
BEGIN:DAYLIGHT
TZOFFSETFROM:-0600
TZOFFSETTO:-0500
TZNAME:CDT
DTSTART:20210314T080000
END:DAYLIGHT
BEGIN:STANDARD
TZOFFSETFROM:-0500
TZOFFSETTO:-0600
TZNAME:CST
DTSTART:20211107T070000
END:STANDARD
BEGIN:DAYLIGHT
TZOFFSETFROM:-0600
TZOFFSETTO:-0500
TZNAME:CDT
DTSTART:20220313T080000
END:DAYLIGHT
BEGIN:STANDARD
TZOFFSETFROM:-0500
TZOFFSETTO:-0600
TZNAME:CST
DTSTART:20221106T070000
END:STANDARD
BEGIN:DAYLIGHT
TZOFFSETFROM:-0600
TZOFFSETTO:-0500
TZNAME:CDT
DTSTART:20230312T080000
END:DAYLIGHT
BEGIN:STANDARD
TZOFFSETFROM:-0500
TZOFFSETTO:-0600
TZNAME:CST
DTSTART:20231105T070000
END:STANDARD
END:VTIMEZONE
BEGIN:VEVENT
DTSTART;TZID=America/Chicago:20221230T150000
DTEND;TZID=America/Chicago:20221230T160000
DTSTAMP:20260423T172105
CREATED:20221228T141405Z
LAST-MODIFIED:20221228T141601Z
UID:10000894-1672412400-1672416000@valleybusinessreport.com
SUMMARY:New Years Eve Balloon Drop
DESCRIPTION:Celebrate the new year at the Children’s Museum of Brownsville on Dec. 30 and Dec. 31 at 3 p.m. Welcome the new year with the annual New Years Eve Balloon Drop along with an afternoon full of excitement\, fun and lots of balloons. \nAdmission is $9 per person.
URL:https://valleybusinessreport.com/event/new-years-eve-balloon-drop/
LOCATION:Children’s Museum of Brownsville\, 501 E Ringgold Street #5 Dean Porter\, Brownsville\, TX\, 78520\, United States
CATEGORIES:Festivals and Celebrations
ATTACH;FMTTYPE=image/jpeg:https://valleybusinessreport.com/wp-content/uploads/2022/12/New-Years.jpg
ORGANIZER;CN="Children's Museum of Brownsville":MAILTO:guestrelations@cmofbrownsville.com
END:VEVENT
END:VCALENDAR