BEGIN:VCALENDAR
VERSION:2.0
PRODID:-//VBR - ECPv6.15.17.1//NONSGML v1.0//EN
CALSCALE:GREGORIAN
METHOD:PUBLISH
X-WR-CALNAME:VBR
X-ORIGINAL-URL:https://valleybusinessreport.com
X-WR-CALDESC:Events for VBR
REFRESH-INTERVAL;VALUE=DURATION:PT1H
X-Robots-Tag:noindex
X-PUBLISHED-TTL:PT1H
BEGIN:VTIMEZONE
TZID:America/Chicago
BEGIN:DAYLIGHT
TZOFFSETFROM:-0600
TZOFFSETTO:-0500
TZNAME:CDT
DTSTART:20220313T080000
END:DAYLIGHT
BEGIN:STANDARD
TZOFFSETFROM:-0500
TZOFFSETTO:-0600
TZNAME:CST
DTSTART:20221106T070000
END:STANDARD
BEGIN:DAYLIGHT
TZOFFSETFROM:-0600
TZOFFSETTO:-0500
TZNAME:CDT
DTSTART:20230312T080000
END:DAYLIGHT
BEGIN:STANDARD
TZOFFSETFROM:-0500
TZOFFSETTO:-0600
TZNAME:CST
DTSTART:20231105T070000
END:STANDARD
BEGIN:DAYLIGHT
TZOFFSETFROM:-0600
TZOFFSETTO:-0500
TZNAME:CDT
DTSTART:20240310T080000
END:DAYLIGHT
BEGIN:STANDARD
TZOFFSETFROM:-0500
TZOFFSETTO:-0600
TZNAME:CST
DTSTART:20241103T070000
END:STANDARD
END:VTIMEZONE
BEGIN:VEVENT
DTSTART;VALUE=DATE:20230203
DTEND;VALUE=DATE:20230205
DTSTAMP:20260425T061953
CREATED:20230201T203230Z
LAST-MODIFIED:20230201T203230Z
UID:10000718-1675382400-1675555199@valleybusinessreport.com
SUMMARY:41st Annual All-America City David Chavana 10K Run/Walk
DESCRIPTION:The City of Edinburg hosts the 41st Annual All-America City David Chavana 10k Run/Walk on Feb. 3 and Feb. 4. \nThe Miracle Mile takes place at 6 p.m. Feb. 3 at Richard Flores Stadium\,312 Mark S. Pena Drive. On Feb. 4\, the 10k Run/Walk begins at 8 a.m. followed by the Fun Run at 10:30 a.m. \nThere will be a variety of awards and even money prizes for the top runners based on different categories. \nTo learn about the route\, time and other import information\, visit activeedinburg.com.
URL:https://valleybusinessreport.com/event/41st-annual-all-america-city-david-chavana-10k-run-walk/
LOCATION:Richard Flores Stadium\, 320 E. Mark S. Pena Drive\, Edinburg\, TX\, United States
CATEGORIES:Fundraisers
ATTACH;FMTTYPE=image/png:https://valleybusinessreport.com/wp-content/uploads/2023/02/David-Chavana-10K-RunWalk.png
END:VEVENT
END:VCALENDAR