BEGIN:VCALENDAR
VERSION:2.0
PRODID:-//VBR - ECPv6.15.17.1//NONSGML v1.0//EN
CALSCALE:GREGORIAN
METHOD:PUBLISH
X-ORIGINAL-URL:https://valleybusinessreport.com
X-WR-CALDESC:Events for VBR
REFRESH-INTERVAL;VALUE=DURATION:PT1H
X-Robots-Tag:noindex
X-PUBLISHED-TTL:PT1H
BEGIN:VTIMEZONE
TZID:America/Chicago
BEGIN:DAYLIGHT
TZOFFSETFROM:-0600
TZOFFSETTO:-0500
TZNAME:CDT
DTSTART:20230312T080000
END:DAYLIGHT
BEGIN:STANDARD
TZOFFSETFROM:-0500
TZOFFSETTO:-0600
TZNAME:CST
DTSTART:20231105T070000
END:STANDARD
BEGIN:DAYLIGHT
TZOFFSETFROM:-0600
TZOFFSETTO:-0500
TZNAME:CDT
DTSTART:20240310T080000
END:DAYLIGHT
BEGIN:STANDARD
TZOFFSETFROM:-0500
TZOFFSETTO:-0600
TZNAME:CST
DTSTART:20241103T070000
END:STANDARD
BEGIN:DAYLIGHT
TZOFFSETFROM:-0600
TZOFFSETTO:-0500
TZNAME:CDT
DTSTART:20250309T080000
END:DAYLIGHT
BEGIN:STANDARD
TZOFFSETFROM:-0500
TZOFFSETTO:-0600
TZNAME:CST
DTSTART:20251102T070000
END:STANDARD
END:VTIMEZONE
BEGIN:VEVENT
DTSTART;TZID=America/Chicago:20241218T113000
DTEND;TZID=America/Chicago:20241218T130000
DTSTAMP:20260425T133938
CREATED:20241208T174822Z
LAST-MODIFIED:20241208T174859Z
UID:10001222-1734521400-1734526800@valleybusinessreport.com
SUMMARY:State of the State Luncheon
DESCRIPTION:Join the Greater Chamber of Harlingen for the State of the State Luncheon on Dec. 18 at the Harlingen Convention Center. \nThe luncheon is a unique opportunity to gain insights from the state’s leadership on legislative priorities\, economic developments and the future of the region. \nThis event is also a chance to connect with local leaders\, business professionals and community members. Don’t miss the opportunity to engage in discussions that impact the community’s progress and growth. \nRSVP now to secure your seat \nFor table reservations or sponsorship inquiries\, email aamarez@harlingen.com or call 956-423-5440.
URL:https://valleybusinessreport.com/event/state-of-the-state-luncheon-2/
LOCATION:Harlingen Convention Center\, 701 Harlingen Heights Drive\, Harlingen\, TX\, 78552\, United States
CATEGORIES:Speakers
ATTACH;FMTTYPE=image/png:https://valleybusinessreport.com/wp-content/uploads/2024/12/State-of-the-State-Luncheon-2024.png
END:VEVENT
END:VCALENDAR