BEGIN:VCALENDAR
VERSION:2.0
PRODID:-//VBR - ECPv6.15.17.1//NONSGML v1.0//EN
CALSCALE:GREGORIAN
METHOD:PUBLISH
X-WR-CALNAME:VBR
X-ORIGINAL-URL:https://valleybusinessreport.com
X-WR-CALDESC:Events for VBR
REFRESH-INTERVAL;VALUE=DURATION:PT1H
X-Robots-Tag:noindex
X-PUBLISHED-TTL:PT1H
BEGIN:VTIMEZONE
TZID:America/Chicago
BEGIN:DAYLIGHT
TZOFFSETFROM:-0600
TZOFFSETTO:-0500
TZNAME:CDT
DTSTART:20240310T080000
END:DAYLIGHT
BEGIN:STANDARD
TZOFFSETFROM:-0500
TZOFFSETTO:-0600
TZNAME:CST
DTSTART:20241103T070000
END:STANDARD
BEGIN:DAYLIGHT
TZOFFSETFROM:-0600
TZOFFSETTO:-0500
TZNAME:CDT
DTSTART:20250309T080000
END:DAYLIGHT
BEGIN:STANDARD
TZOFFSETFROM:-0500
TZOFFSETTO:-0600
TZNAME:CST
DTSTART:20251102T070000
END:STANDARD
BEGIN:DAYLIGHT
TZOFFSETFROM:-0600
TZOFFSETTO:-0500
TZNAME:CDT
DTSTART:20260308T080000
END:DAYLIGHT
BEGIN:STANDARD
TZOFFSETFROM:-0500
TZOFFSETTO:-0600
TZNAME:CST
DTSTART:20261101T070000
END:STANDARD
END:VTIMEZONE
BEGIN:VEVENT
DTSTART;TZID=America/Chicago:20250206T073000
DTEND;TZID=America/Chicago:20250206T090000
DTSTAMP:20260425T074543
CREATED:20250125T030148Z
LAST-MODIFIED:20250125T030630Z
UID:10001235-1738827000-1738832400@valleybusinessreport.com
SUMMARY:Good Morning McAllen
DESCRIPTION:Join the McAllen Chamber of Commerce on Feb. 6 for breakfast at the Good Morning McAllen Breakfast event. \nThe morning provides an opportunity to connect with both existing and new members to kick off 2025. This gathering is sponsored by Sea Turtle Inc. \nRegister online.
URL:https://valleybusinessreport.com/event/good-morning-mcallen-4/
LOCATION:Radisson Hotel McAllen Airport\, 2721 South 10th Street\, McAllen\, TX\, 78503\, United States
CATEGORIES:Networking
ATTACH;FMTTYPE=image/jpeg:https://valleybusinessreport.com/wp-content/uploads/2025/01/GoodMorningMcAllen.jpg
ORGANIZER;CN="McAllen Chamber of Commerce":MAILTO:bcardenas@mcallenchamber.com
END:VEVENT
BEGIN:VEVENT
DTSTART;TZID=America/Chicago:20250206T120000
DTEND;TZID=America/Chicago:20250206T130000
DTSTAMP:20260425T074543
CREATED:20250127T024020Z
LAST-MODIFIED:20250127T024020Z
UID:10001240-1738843200-1738846800@valleybusinessreport.com
SUMMARY:Women Empowering Women: Kelly Cabrera
DESCRIPTION:The Greater Chamber of Harlingen hosts Kelly Cabrera\, co-owner of KK’s Closet\, as its guest speaker for Women Empowering Women on Feb. 6. Cabrera will share her journey as a local business owner\, motivating attendees with her story. \nLunch will be provided\, but secure your spot by RSVPing with the chamber before Feb. 4 at 12 p.m. \nRegistration is $15 for chamber members\, $20 for non-members. \nDue to limited space\, no walk-ins.
URL:https://valleybusinessreport.com/event/women-empowering-women-kelly-cabrera/
LOCATION:The Greater Chamber of Harlingen\, 311 East Tyler Ave.\, Harlingen\, 78550\, United States
CATEGORIES:Speakers
ATTACH;FMTTYPE=image/jpeg:https://valleybusinessreport.com/wp-content/uploads/2025/01/WEW_Feb2025.jpg
END:VEVENT
END:VCALENDAR