BEGIN:VCALENDAR
VERSION:2.0
PRODID:-//VBR - ECPv6.15.17.1//NONSGML v1.0//EN
CALSCALE:GREGORIAN
METHOD:PUBLISH
X-WR-CALNAME:VBR
X-ORIGINAL-URL:https://valleybusinessreport.com
X-WR-CALDESC:Events for VBR
REFRESH-INTERVAL;VALUE=DURATION:PT1H
X-Robots-Tag:noindex
X-PUBLISHED-TTL:PT1H
BEGIN:VTIMEZONE
TZID:America/Chicago
BEGIN:DAYLIGHT
TZOFFSETFROM:-0600
TZOFFSETTO:-0500
TZNAME:CDT
DTSTART:20240310T080000
END:DAYLIGHT
BEGIN:STANDARD
TZOFFSETFROM:-0500
TZOFFSETTO:-0600
TZNAME:CST
DTSTART:20241103T070000
END:STANDARD
BEGIN:DAYLIGHT
TZOFFSETFROM:-0600
TZOFFSETTO:-0500
TZNAME:CDT
DTSTART:20250309T080000
END:DAYLIGHT
BEGIN:STANDARD
TZOFFSETFROM:-0500
TZOFFSETTO:-0600
TZNAME:CST
DTSTART:20251102T070000
END:STANDARD
BEGIN:DAYLIGHT
TZOFFSETFROM:-0600
TZOFFSETTO:-0500
TZNAME:CDT
DTSTART:20260308T080000
END:DAYLIGHT
BEGIN:STANDARD
TZOFFSETFROM:-0500
TZOFFSETTO:-0600
TZNAME:CST
DTSTART:20261101T070000
END:STANDARD
END:VTIMEZONE
BEGIN:VEVENT
DTSTART;TZID=America/Chicago:20250306T173000
DTEND;TZID=America/Chicago:20250306T200000
DTSTAMP:20260425T122329
CREATED:20250222T202039Z
LAST-MODIFIED:20250222T202039Z
UID:10001254-1741282200-1741291200@valleybusinessreport.com
SUMMARY:Women EmPOWERment Night
DESCRIPTION:Get ready for an evening of inspiration\, empowerment and connection at the second annual Women’s EmPOWERment Night on March 6. The evening includes women speakers sharing their powerful stories\, experiences and journeys to success. \nSpeakers include: \n\nNathali Parker Weisman – Co-Owner and CEO of KLP Construction Supply\nNatasha A. del Barrio – CEO of Bert Ogden Auto Group\nErin Elizabeth Gámez – Texas House of Representatives\, District 38\nLucy Ann Wolthoff – Rio Grande Valley Director of Foster Angels of South Texas\n\nThe event is also an opportunity to network\, collaborate and build relationships with women leaders\, entrepreneurs and professionals from across the Rio Grande Valley. \nPurchase tickets online.
URL:https://valleybusinessreport.com/event/women-empowerment-night/
LOCATION:Hilton Garden Inn Harlingen Convention Center\, 751 Harlingen Heights Drive\, Harlingen\, TX\, 78552\, United States
CATEGORIES:Conferences and Summits,Speakers
ATTACH;FMTTYPE=image/jpeg:https://valleybusinessreport.com/wp-content/uploads/2025/02/EmPOWERment-Night.jpg
END:VEVENT
END:VCALENDAR