BEGIN:VCALENDAR
VERSION:2.0
PRODID:-//VBR - ECPv6.15.17.1//NONSGML v1.0//EN
CALSCALE:GREGORIAN
METHOD:PUBLISH
X-ORIGINAL-URL:https://valleybusinessreport.com
X-WR-CALDESC:Events for VBR
REFRESH-INTERVAL;VALUE=DURATION:PT1H
X-Robots-Tag:noindex
X-PUBLISHED-TTL:PT1H
BEGIN:VTIMEZONE
TZID:America/Chicago
BEGIN:DAYLIGHT
TZOFFSETFROM:-0600
TZOFFSETTO:-0500
TZNAME:CDT
DTSTART:20240310T080000
END:DAYLIGHT
BEGIN:STANDARD
TZOFFSETFROM:-0500
TZOFFSETTO:-0600
TZNAME:CST
DTSTART:20241103T070000
END:STANDARD
BEGIN:DAYLIGHT
TZOFFSETFROM:-0600
TZOFFSETTO:-0500
TZNAME:CDT
DTSTART:20250309T080000
END:DAYLIGHT
BEGIN:STANDARD
TZOFFSETFROM:-0500
TZOFFSETTO:-0600
TZNAME:CST
DTSTART:20251102T070000
END:STANDARD
BEGIN:DAYLIGHT
TZOFFSETFROM:-0600
TZOFFSETTO:-0500
TZNAME:CDT
DTSTART:20260308T080000
END:DAYLIGHT
BEGIN:STANDARD
TZOFFSETFROM:-0500
TZOFFSETTO:-0600
TZNAME:CST
DTSTART:20261101T070000
END:STANDARD
END:VTIMEZONE
BEGIN:VEVENT
DTSTART;TZID=America/Chicago:20250913T070000
DTEND;TZID=America/Chicago:20250913T100000
DTSTAMP:20260422T073807
CREATED:20250817T142901Z
LAST-MODIFIED:20250817T143018Z
UID:10001314-1757746800-1757757600@valleybusinessreport.com
SUMMARY:10th Annual Causeway Run
DESCRIPTION:Get ready to lace up for one of the most scenic and exhilarating races in Texas! The 10th Annual Summer Causeway Run on Sept. 13 is your once-a-year opportunity to experience the breathtaking Queen Isabella Causeway on foot — with the Gulf breeze in your hair\, the sunrise on the horizon and miles of stunning coastal views. \nEvent information and registration are available online.
URL:https://valleybusinessreport.com/event/10th-annual-causeway-run/
LOCATION:Port Isabel Event and Cultural Center\, 309 Railroad Street\, Port Isabel\, United States
CATEGORIES:Festivals and Celebrations
ATTACH;FMTTYPE=image/png:https://valleybusinessreport.com/wp-content/uploads/2025/08/causeway-run.png
ORGANIZER;CN="Port Isabel Chamber of Commerce":MAILTO:director@portisabel.org
END:VEVENT
BEGIN:VEVENT
DTSTART;TZID=America/Chicago:20250913T080000
DTEND;TZID=America/Chicago:20250913T170000
DTSTAMP:20260422T073807
CREATED:20250817T142120Z
LAST-MODIFIED:20250909T232925Z
UID:10001313-1757750400-1757782800@valleybusinessreport.com
SUMMARY:Pharr EDC Foundation’s 4th Annual Golf Classic Fundraising Tournament
DESCRIPTION:The Pharr EDC Foundation hosts its fourth annual Golf Classic Fundraising Tournament on Sept. 13. The premier event is dedicated to raising funds for post-secondary education support. This tournament brings together golf enthusiasts\, community leaders and philanthropists for a day of friendly competition and charitable giving. \nAll proceeds from the event will directly benefit Pharr EDC Foundation\, which provides financial assistance to students pursuing higher education. \nTeam spots and sponsorship opportunities are available. For more information\, contact Dayonna McKinney.
URL:https://valleybusinessreport.com/event/pharr-edc-foundations-4th-annual-golf-classic-fundraising-tournament/
LOCATION:Tierra Del Sol Golf Course\, 700 East Hall Acres Road\, Pharr\, TX\, 78577\, United States
CATEGORIES:Fundraisers
ATTACH;FMTTYPE=image/jpeg:https://valleybusinessreport.com/wp-content/uploads/2025/08/Pharr-EDC-golf.jpg
ORGANIZER;CN="Dayonna McKinney":MAILTO:dayonna.mckinney@pharr-tx.gov
END:VEVENT
END:VCALENDAR