BEGIN:VCALENDAR
VERSION:2.0
PRODID:-//VBR - ECPv6.15.17.1//NONSGML v1.0//EN
CALSCALE:GREGORIAN
METHOD:PUBLISH
X-WR-CALNAME:VBR
X-ORIGINAL-URL:https://valleybusinessreport.com
X-WR-CALDESC:Events for VBR
REFRESH-INTERVAL;VALUE=DURATION:PT1H
X-Robots-Tag:noindex
X-PUBLISHED-TTL:PT1H
BEGIN:VTIMEZONE
TZID:America/Chicago
BEGIN:DAYLIGHT
TZOFFSETFROM:-0600
TZOFFSETTO:-0500
TZNAME:CDT
DTSTART:20240310T080000
END:DAYLIGHT
BEGIN:STANDARD
TZOFFSETFROM:-0500
TZOFFSETTO:-0600
TZNAME:CST
DTSTART:20241103T070000
END:STANDARD
BEGIN:DAYLIGHT
TZOFFSETFROM:-0600
TZOFFSETTO:-0500
TZNAME:CDT
DTSTART:20250309T080000
END:DAYLIGHT
BEGIN:STANDARD
TZOFFSETFROM:-0500
TZOFFSETTO:-0600
TZNAME:CST
DTSTART:20251102T070000
END:STANDARD
BEGIN:DAYLIGHT
TZOFFSETFROM:-0600
TZOFFSETTO:-0500
TZNAME:CDT
DTSTART:20260308T080000
END:DAYLIGHT
BEGIN:STANDARD
TZOFFSETFROM:-0500
TZOFFSETTO:-0600
TZNAME:CST
DTSTART:20261101T070000
END:STANDARD
END:VTIMEZONE
BEGIN:VEVENT
DTSTART;TZID=America/Chicago:20250930T113000
DTEND;TZID=America/Chicago:20250930T133000
DTSTAMP:20260422T050713
CREATED:20250925T011011Z
LAST-MODIFIED:20250925T011011Z
UID:10001321-1759231800-1759239000@valleybusinessreport.com
SUMMARY:89th Texas Legislative Update Luncheon
DESCRIPTION:Join the Brownsville Chamber of Commerce for the informative and engaging 89th Texas Legislative Update Luncheon on Sept. 30. \nAt the 89th Texas Legislative Update Luncheon\, we bring together our elected representatives\, business leaders\, and community members to discuss the latest developments from the Texas State Legislature. Gain valuable insights into the recently passed bills\, pending legislation\, and the potential impact on our region’s business landscape. \nClick here for tickets and more information.
URL:https://valleybusinessreport.com/event/89th-texas-legislative-update-luncheon/
LOCATION:Brownsville Events Center\, 1 Events Center Blvd.\, Brownsville\, TX\, United States
CATEGORIES:Speakers
ATTACH;FMTTYPE=image/png:https://valleybusinessreport.com/wp-content/uploads/2025/09/89th-Texas-Legislative-Update-Luncheon.png
ORGANIZER;CN="Brownsville Chamber of Commerce":MAILTO:info@brownsvillechamber.com
END:VEVENT
END:VCALENDAR