BEGIN:VCALENDAR
VERSION:2.0
PRODID:-//VBR - ECPv6.15.17.1//NONSGML v1.0//EN
CALSCALE:GREGORIAN
METHOD:PUBLISH
X-ORIGINAL-URL:https://valleybusinessreport.com
X-WR-CALDESC:Events for VBR
REFRESH-INTERVAL;VALUE=DURATION:PT1H
X-Robots-Tag:noindex
X-PUBLISHED-TTL:PT1H
BEGIN:VTIMEZONE
TZID:America/Chicago
BEGIN:DAYLIGHT
TZOFFSETFROM:-0600
TZOFFSETTO:-0500
TZNAME:CDT
DTSTART:20200308T080000
END:DAYLIGHT
BEGIN:STANDARD
TZOFFSETFROM:-0500
TZOFFSETTO:-0600
TZNAME:CST
DTSTART:20201101T070000
END:STANDARD
BEGIN:DAYLIGHT
TZOFFSETFROM:-0600
TZOFFSETTO:-0500
TZNAME:CDT
DTSTART:20210314T080000
END:DAYLIGHT
BEGIN:STANDARD
TZOFFSETFROM:-0500
TZOFFSETTO:-0600
TZNAME:CST
DTSTART:20211107T070000
END:STANDARD
BEGIN:DAYLIGHT
TZOFFSETFROM:-0600
TZOFFSETTO:-0500
TZNAME:CDT
DTSTART:20220313T080000
END:DAYLIGHT
BEGIN:STANDARD
TZOFFSETFROM:-0500
TZOFFSETTO:-0600
TZNAME:CST
DTSTART:20221106T070000
END:STANDARD
BEGIN:DAYLIGHT
TZOFFSETFROM:-0600
TZOFFSETTO:-0500
TZNAME:CDT
DTSTART:20230312T080000
END:DAYLIGHT
BEGIN:STANDARD
TZOFFSETFROM:-0500
TZOFFSETTO:-0600
TZNAME:CST
DTSTART:20231105T070000
END:STANDARD
BEGIN:DAYLIGHT
TZOFFSETFROM:-0600
TZOFFSETTO:-0500
TZNAME:CDT
DTSTART:20240310T080000
END:DAYLIGHT
BEGIN:STANDARD
TZOFFSETFROM:-0500
TZOFFSETTO:-0600
TZNAME:CST
DTSTART:20241103T070000
END:STANDARD
BEGIN:DAYLIGHT
TZOFFSETFROM:-0600
TZOFFSETTO:-0500
TZNAME:CDT
DTSTART:20250309T080000
END:DAYLIGHT
BEGIN:STANDARD
TZOFFSETFROM:-0500
TZOFFSETTO:-0600
TZNAME:CST
DTSTART:20251102T070000
END:STANDARD
BEGIN:DAYLIGHT
TZOFFSETFROM:-0600
TZOFFSETTO:-0500
TZNAME:CDT
DTSTART:20260308T080000
END:DAYLIGHT
BEGIN:STANDARD
TZOFFSETFROM:-0500
TZOFFSETTO:-0600
TZNAME:CST
DTSTART:20261101T070000
END:STANDARD
END:VTIMEZONE
BEGIN:VEVENT
DTSTART;TZID=America/Chicago:20251025T160000
DTEND;TZID=America/Chicago:20251025T180000
DTSTAMP:20260421T191036
CREATED:20251018T171144Z
LAST-MODIFIED:20251018T171144Z
UID:10001328-1761408000-1761415200@valleybusinessreport.com
SUMMARY:Weslaco ISD Art Walk
DESCRIPTION:Wander through the Weslaco Museum gallery on Oct. 25 and listen to the festive sounds of the WISD Mariachi band during this year’s Art Walk. \nThis is more than just an art show — it’s a cultural experience and a fantastic evening out. Gther your friends for a fiesta of art\, music and community spirit. Light refreshments will be provided by the Museum Guild.
URL:https://valleybusinessreport.com/event/weslaco-isd-art-walk/
LOCATION:Weslaco Museum\, 500 South Texas Blvd.\, Weslaco\, TX\, 78596 At this address\, United States
CATEGORIES:Arts
ATTACH;FMTTYPE=image/jpeg:https://valleybusinessreport.com/wp-content/uploads/2025/10/art-walk.jpg
END:VEVENT
BEGIN:VEVENT
DTSTART;TZID=America/Chicago:20250207T180000
DTEND;TZID=America/Chicago:20250207T200000
DTSTAMP:20260421T191036
CREATED:20250127T024456Z
LAST-MODIFIED:20250127T024456Z
UID:10001241-1738951200-1738958400@valleybusinessreport.com
SUMMARY:McAllen Art Walk
DESCRIPTION:McAllen Art Walk on Feb. 7 is a free\, public event at the McAllen Creative Incubator\, where art fans and enthusiasts can immerse themselves in the local artistry of some of McAllen’s – and the RGV’s – most talented micro artists\, including student artists from throughout Hidalgo County.
URL:https://valleybusinessreport.com/event/mcallen-art-walk/
LOCATION:McAllen Creative Incubator\, 601 N Main Street\, McAllen\, TX\, 78504\, United States
CATEGORIES:Arts
ATTACH;FMTTYPE=image/jpeg:https://valleybusinessreport.com/wp-content/uploads/2025/01/mcallen-art-walk-1187x1536-1.jpg
ORGANIZER;CN="McAllen Chamber of Commerce":MAILTO:bcardenas@mcallenchamber.com
END:VEVENT
BEGIN:VEVENT
DTSTART;TZID=America/Chicago:20231110T180000
DTEND;TZID=America/Chicago:20231110T210000
DTSTAMP:20260421T191036
CREATED:20231102T152404Z
LAST-MODIFIED:20231102T152404Z
UID:10001041-1699639200-1699650000@valleybusinessreport.com
SUMMARY:Art Walk
DESCRIPTION:McAllen Creative Incubator hosts Art Walk featuring local vendors\, exhibits with original work\, live entertainment and more on Nov. 10. \nThis family-friendly event is free and open to the public.
URL:https://valleybusinessreport.com/event/art-walk-3/
LOCATION:McAllen Creative Incubator\, 601 N Main Street\, McAllen\, TX\, 78504\, United States
CATEGORIES:Arts
ATTACH;FMTTYPE=image/webp:https://valleybusinessreport.com/wp-content/uploads/2023/11/Artwalk_.webp
END:VEVENT
BEGIN:VEVENT
DTSTART;TZID=America/Chicago:20231006T180000
DTEND;TZID=America/Chicago:20231006T210000
DTSTAMP:20260421T191036
CREATED:20231003T193323Z
LAST-MODIFIED:20231003T193439Z
UID:10001010-1696615200-1696626000@valleybusinessreport.com
SUMMARY:Art Walk
DESCRIPTION:McAllen Creative Incubator hosts an Art Walk on Oct. 6\, featuring local vendors\, exhibits with original work\, live entertainment and more. \nThis family-friendly event is free and open to the public.
URL:https://valleybusinessreport.com/event/art-walk-2/
LOCATION:McAllen Creative Incubator\, 601 N Main Street\, McAllen\, TX\, 78504\, United States
CATEGORIES:Arts
ATTACH;FMTTYPE=image/webp:https://valleybusinessreport.com/wp-content/uploads/2023/10/Artwalk_Oct-2023.webp
END:VEVENT
BEGIN:VEVENT
DTSTART;TZID=America/Chicago:20230906T080000
DTEND;TZID=America/Chicago:20230906T170000
DTSTAMP:20260421T191036
CREATED:20230906T175040Z
LAST-MODIFIED:20230906T175040Z
UID:10000993-1693987200-1694019600@valleybusinessreport.com
SUMMARY:Art Walk
DESCRIPTION:The McAllen Creative Incubator hosts an Art Walk on Sept. 9\, featuring local vendors\, exhibits with original work\, live entertainment and more. \nThis family friendly event is free and open to the public.
URL:https://valleybusinessreport.com/event/art-walk/
LOCATION:McAllen Creative Incubator\, 601 N Main Street\, McAllen\, TX\, 78504\, United States
CATEGORIES:Arts
ATTACH;FMTTYPE=image/webp:https://valleybusinessreport.com/wp-content/uploads/2023/09/Artwalk_Sep2023.webp
ORGANIZER;CN="McAllen Chamber of Commerce":MAILTO:bcardenas@mcallenchamber.com
END:VEVENT
BEGIN:VEVENT
DTSTART;TZID=America/Chicago:20220106T180000
DTEND;TZID=America/Chicago:20220106T190000
DTSTAMP:20260421T191036
CREATED:20211229T153514Z
LAST-MODIFIED:20211229T153514Z
UID:10000681-1641492000-1641495600@valleybusinessreport.com
SUMMARY:Valley Nature Poetry with Katherine Hoerth
DESCRIPTION:Katherine Hoerth\nQuinta Mazatlán World Birding Center hosts author and poet Katherine Hoerth Jan. 6  for a night of eco-poetry and special reading/book signing of her most recent publication “Prairie Madness.” The visit is part of the Nature Speaker Series at Quinta Mazatlán. \nA McAllen native\, Hoerth captures the culture of South Texas. She paints a lasting image of one of the most biologically diverse regions in the country\, the Rio Grande Valley.  \nHoerth is the author of five poetry collections\, including Flare Stacks in Full Bloom\, Borderland Mujeres\, Prairie Madness and Goddess Wears Cowboy Boots. She is the 2015 recipient of the Helen C. Smith Prize for the best book of poetry in Texas. She is also the recipient of the 2021 Poetry of the Plains Prize from North Dakota State University Press. Her work has been published in numerous literary magazines including Summerset Review\, Valparaiso Review and Southwestern American Literature. She is a member of the Texas Institute of Letters. In 2017\, she joined the English department at Lamar University as an assistant professor of creative writing and editor-in-chief of Lamar University Literary Press. \nHoerth’s most recent publication Prairie Madness won the 2021 Poetry of Plains and Prairies Award from North Dakota State University Press.  \nTickets for the event are $5 per person. Pre-purchased tickets recommended. Tickets are available for purchase online.  \nFor more information\, contact Quinta Mazatlán and follow Quinta Mazatlán on social media.
URL:https://valleybusinessreport.com/event/valley-nature-poetry-with-katherine-hoerth/
LOCATION:Quinta Mazatlan\, 600 Sunset Drive\, McAllen\, TX\, 78503\, United States
CATEGORIES:Arts,Speakers
ATTACH;FMTTYPE=image/jpeg:https://valleybusinessreport.com/wp-content/uploads/2021/12/Katherine-Hoerth.jpg
END:VEVENT
BEGIN:VEVENT
DTSTART;TZID=America/Chicago:20210909T183000
DTEND;TZID=America/Chicago:20210909T193000
DTSTAMP:20260421T191036
CREATED:20210831T163742Z
LAST-MODIFIED:20210831T164000Z
UID:10000500-1631212200-1631215800@valleybusinessreport.com
SUMMARY:Weslaco Museum Meet the Artist
DESCRIPTION:The Weslaco Museum welcomes a return exhibit with Rosendo Sandoval during the month of September. The public may meet the artist during a reception Sept. 9 at the museum. \n“Jim and Joann Farber have traveled far and wide during their 63 years of marriage. Throughout the years they have collected various artifacts from every country they have toured. Mexico became a favorite destination\, and the masks became a favorite collection. Many of these colorful masks will be sharing the Art Gallery with Sandoval’s art. \nSandoval was born in Tamaulipas\, México in 1957. When he was two years of age\, his family moved to the state of Nuevo León\, back to the place where they were from. His father died in 1968. This caused the family to immigrate to the United States two years later. Once they arrived in the U.S.\, they settled in Weslaco. \nAfter graduating from Weslaco High School in 1977\, he attended Pan American University where he received a Bachelor of Fine Arts in Art in 1982. Later\, he decided to continue his education and received two masters’ degrees in Art: a Master of Science in Art from Texas A&I University in Kingsville and a Master of Fine Arts in Art from UTPA in Edinburg. \nToday\, Sandoval resides in Elsa\, Texas\, where he lives with his wife and kids. He works as a full-time art teacher for the Mercedes I.S.D. and paints in his spare time. \nThe Weslaco Museum is open 10 a.m. – 4 p.m. Tuesday to Saturday. Admission is $5 for adults\, $4 seniors\, $3 veterans and $3 students.
URL:https://valleybusinessreport.com/event/weslaco-museum-meet-the-artist/
LOCATION:Weslaco Museum\, 500 South Texas Blvd.\, Weslaco\, TX\, 78596 At this address\, United States
CATEGORIES:Arts
ATTACH;FMTTYPE=image/jpeg:https://valleybusinessreport.com/wp-content/uploads/2021/08/Rosendo-Sandoval.jpg
END:VEVENT
END:VCALENDAR