BEGIN:VCALENDAR
VERSION:2.0
PRODID:-//VBR - ECPv6.15.17.1//NONSGML v1.0//EN
CALSCALE:GREGORIAN
METHOD:PUBLISH
X-ORIGINAL-URL:https://valleybusinessreport.com
X-WR-CALDESC:Events for VBR
REFRESH-INTERVAL;VALUE=DURATION:PT1H
X-Robots-Tag:noindex
X-PUBLISHED-TTL:PT1H
BEGIN:VTIMEZONE
TZID:America/Chicago
BEGIN:DAYLIGHT
TZOFFSETFROM:-0600
TZOFFSETTO:-0500
TZNAME:CDT
DTSTART:20210314T080000
END:DAYLIGHT
BEGIN:STANDARD
TZOFFSETFROM:-0500
TZOFFSETTO:-0600
TZNAME:CST
DTSTART:20211107T070000
END:STANDARD
BEGIN:DAYLIGHT
TZOFFSETFROM:-0600
TZOFFSETTO:-0500
TZNAME:CDT
DTSTART:20220313T080000
END:DAYLIGHT
BEGIN:STANDARD
TZOFFSETFROM:-0500
TZOFFSETTO:-0600
TZNAME:CST
DTSTART:20221106T070000
END:STANDARD
BEGIN:DAYLIGHT
TZOFFSETFROM:-0600
TZOFFSETTO:-0500
TZNAME:CDT
DTSTART:20230312T080000
END:DAYLIGHT
BEGIN:STANDARD
TZOFFSETFROM:-0500
TZOFFSETTO:-0600
TZNAME:CST
DTSTART:20231105T070000
END:STANDARD
BEGIN:DAYLIGHT
TZOFFSETFROM:-0600
TZOFFSETTO:-0500
TZNAME:CDT
DTSTART:20240310T080000
END:DAYLIGHT
BEGIN:STANDARD
TZOFFSETFROM:-0500
TZOFFSETTO:-0600
TZNAME:CST
DTSTART:20241103T070000
END:STANDARD
END:VTIMEZONE
BEGIN:VEVENT
DTSTART;TZID=America/Chicago:20230413T090000
DTEND;TZID=America/Chicago:20230413T150000
DTSTAMP:20260423T000633
CREATED:20230405T164327Z
LAST-MODIFIED:20230405T164327Z
UID:10000742-1681376400-1681398000@valleybusinessreport.com
SUMMARY:South Texas Senior Summit - Cameron County
DESCRIPTION:The South Texas Senior Summit – Cameron County is a free event for seniors on April 13 at the Harlingen Convention Center. The day features free education seminars for health\, Medicare\, Medicaid\, fraud and abuse. \nOther free events include: \n\nExams for face\, ears\, eyes\, nose\, throat\, heart and lungs\nHealth Screenings for glucose\, blood pressure\, eye\, feet\, veins\, dental and bone density\nActivities like Zumba\, gold massages\, nail polishing and dancing\n\nLunch and snacks will be provided.
URL:https://valleybusinessreport.com/event/south-texas-senior-summit-cameron-county/
LOCATION:Harlingen Convention Center\, 701 Harlingen Heights Drive\, Harlingen\, TX\, 78552\, United States
CATEGORIES:Conferences and Summits
ATTACH;FMTTYPE=image/jpeg:https://valleybusinessreport.com/wp-content/uploads/2023/04/South-Texas-Senior-Summit.jpg
END:VEVENT
BEGIN:VEVENT
DTSTART;TZID=America/Chicago:20220916T090000
DTEND;TZID=America/Chicago:20220916T160000
DTSTAMP:20260423T000633
CREATED:20220913T152433Z
LAST-MODIFIED:20220913T152433Z
UID:10000849-1663318800-1663344000@valleybusinessreport.com
SUMMARY:Latina Leadership Conference 2022
DESCRIPTION:The Latina Leadership Conference on Sept. 16 in Edinburg is for all women who are looking to grow within themselves and to become leaders in their respective business communities. \nSeminars include “How to Navigate the Work Place\,” “Building an Brand Image\,” “Social Media Tips\,” Life/Work Balance” and more. \nFurther information and registration is available online.
URL:https://valleybusinessreport.com/event/latina-leadership-conference-2022/
LOCATION:Edinburg Conference Center at Renaissance\, 118 Paseo del Prado\, Edinburg\, 78539\, United States
CATEGORIES:Conferences and Summits
ATTACH;FMTTYPE=image/png:https://valleybusinessreport.com/wp-content/uploads/2022/09/Latina-Leadership_2022.png
END:VEVENT
BEGIN:VEVENT
DTSTART;TZID=America/Chicago:20220209T090000
DTEND;TZID=America/Chicago:20220209T130000
DTSTAMP:20260423T000633
CREATED:20220113T142009Z
LAST-MODIFIED:20220113T142009Z
UID:10000703-1644397200-1644411600@valleybusinessreport.com
SUMMARY:Sixth Annual Brownsville Senior & Community & Wellness Expo 2022
DESCRIPTION:RGV Promotions presents its sixth annual Brownsville Senior & Community Health & Wellness Expo 2022 on Feb. 9. \nAttendees can learn about living a heart-healthy lifestyle and receive educational information. Free screenings include blood pressure\, vision\, hearing\, glucose and BMI. Activities include Zumba\, country line dancing and bingo. Door prizes\, one-on-one with physical trainers and doctors\, and guest speakers every hour are part of the event. \nFree admission. \nFor more information on the Brownsville Senior & Community Health & Wellness Expo\, contact Marie Martinez.
URL:https://valleybusinessreport.com/event/sixth-annual-brownsville-senior-community-wellness-expo-2022/
LOCATION:Brownsville Event Center\, 1 Event Center\, Brownsville\, 78526\, United States
CATEGORIES:Conferences and Summits
ATTACH;FMTTYPE=image/jpeg:https://valleybusinessreport.com/wp-content/uploads/2022/01/SeniorHealthWellnessExpo2022.jpg
ORGANIZER;CN="Marie Martinez":MAILTO:rgvexpo2017@gmail.com
GEO:25.9621367;-97.4880968
X-APPLE-STRUCTURED-LOCATION;VALUE=URI;X-ADDRESS=Brownsville Event Center 1 Event Center Brownsville 78526 United States;X-APPLE-RADIUS=500;X-TITLE=1 Event Center:geo:-97.4880968,25.9621367
END:VEVENT
END:VCALENDAR