BEGIN:VCALENDAR
VERSION:2.0
PRODID:-//VBR - ECPv6.15.17.1//NONSGML v1.0//EN
CALSCALE:GREGORIAN
METHOD:PUBLISH
X-ORIGINAL-URL:https://valleybusinessreport.com
X-WR-CALDESC:Events for VBR
REFRESH-INTERVAL;VALUE=DURATION:PT1H
X-Robots-Tag:noindex
X-PUBLISHED-TTL:PT1H
BEGIN:VTIMEZONE
TZID:America/Chicago
BEGIN:DAYLIGHT
TZOFFSETFROM:-0600
TZOFFSETTO:-0500
TZNAME:CDT
DTSTART:20230312T080000
END:DAYLIGHT
BEGIN:STANDARD
TZOFFSETFROM:-0500
TZOFFSETTO:-0600
TZNAME:CST
DTSTART:20231105T070000
END:STANDARD
BEGIN:DAYLIGHT
TZOFFSETFROM:-0600
TZOFFSETTO:-0500
TZNAME:CDT
DTSTART:20240310T080000
END:DAYLIGHT
BEGIN:STANDARD
TZOFFSETFROM:-0500
TZOFFSETTO:-0600
TZNAME:CST
DTSTART:20241103T070000
END:STANDARD
BEGIN:DAYLIGHT
TZOFFSETFROM:-0600
TZOFFSETTO:-0500
TZNAME:CDT
DTSTART:20250309T080000
END:DAYLIGHT
BEGIN:STANDARD
TZOFFSETFROM:-0500
TZOFFSETTO:-0600
TZNAME:CST
DTSTART:20251102T070000
END:STANDARD
END:VTIMEZONE
BEGIN:VEVENT
DTSTART;TZID=America/Chicago:20241005T183000
DTEND;TZID=America/Chicago:20241005T213000
DTSTAMP:20260425T181811
CREATED:20240916T155353Z
LAST-MODIFIED:20240916T155353Z
UID:10001181-1728153000-1728163800@valleybusinessreport.com
SUMMARY:Weslaco National Night Out
DESCRIPTION:The City of Weslaco hosts Weslaco Night Out on Oct. 5 as part of National Night Out. \nThe free community event includes the opportunity to meet Weslaco PD\, music\, a market and family activities. \nFor more information or to be a vendor\, call 956-968-8591\, ext. 2305 or 2014\, or email weslacopdpars@weslacotx.gov.
URL:https://valleybusinessreport.com/event/weslaco-national-night-out/
LOCATION:Weslaco City Hall\, 255 South Kansas Ave.\, Weslaco\, TX\, United States
CATEGORIES:Festivals and Celebrations
ATTACH;FMTTYPE=image/png:https://valleybusinessreport.com/wp-content/uploads/2024/09/Weslaco-Night-Out.png
ORGANIZER;CN="Weslaco Chamber of Commerce":MAILTO:chamber@weslaco.com
END:VEVENT
BEGIN:VEVENT
DTSTART;VALUE=DATE:20241012
DTEND;VALUE=DATE:20241013
DTSTAMP:20260425T181811
CREATED:20240627T165850Z
LAST-MODIFIED:20240916T171330Z
UID:10001139-1728691200-1728777599@valleybusinessreport.com
SUMMARY:2024 Texas Cook'em: High Steaks in Edinburg
DESCRIPTION:The much-anticipated Texas Cook’em: High Steaks in Edinburg event makes a grand return on Oct. 12 at the Ebony Hills Golf Course. This year’s event promises musical acts\, attractions\, and\, of course\, some of the finest steak and BBQ in Texas. \nHeadlining the evening concert will be renowned Texas Country artists\, the Josh Abbott Band. Hudson Westbrook is the opening act. Additionally\, RED – A Taylor Swift Tribute\, will be performing. Tejano fans can enjoy performances by Mesteno\, Zinzzero\, and Delta Boys. \nTexas Cook’Em High Steaks also offers a wide range of attractions. Attendees can explore a kids’ fun zone\, indulge in diverse food and craft vendors\, and enjoy a spectacular fireworks show lighting up the night sky. Adding to the excitement\, the Freedom SkyDive Jump will feature skilled skydivers flying over the event grounds with an American flag. \nThe real star of the show is the prestigious BBQ cook-off\, where the 2024 BBQ Champion will be crowned. BBQ enthusiasts from across the state will showcase their skills\, competing in categories including chicken\, ribs\, brisket\, and rib eye steak. The grand champion will earn a coveted ticket to the 2025 American Royal\, the world’s largest championship BBQ cook-off\, along with a $20\,000 purse. The H-E-B Steak Challenge Champion will also punch their ticket to the Steak Cook-Off Association World Championship cook-off in 2025. \nFor more information and to register\, visit edinburg.com.
URL:https://valleybusinessreport.com/event/2024-texas-cookem-high-steaks-in-edinburg/
LOCATION:Ebony Hills Golf Club\, 300 Mark South Peña Drive\, Edinburg\, 78539\, United States
CATEGORIES:Festivals and Celebrations
ATTACH;FMTTYPE=image/jpeg:https://valleybusinessreport.com/wp-content/uploads/2024/06/Texas-Cookem.jpg
ORGANIZER;CN="Edinburg Chamber of Commerce":MAILTO:chamber@edinburg.com
END:VEVENT
BEGIN:VEVENT
DTSTART;TZID=America/Chicago:20241017T180000
DTEND;TZID=America/Chicago:20241017T210000
DTSTAMP:20260425T181811
CREATED:20240916T170306Z
LAST-MODIFIED:20240916T170306Z
UID:10001188-1729188000-1729198800@valleybusinessreport.com
SUMMARY:Taste of Harlingen
DESCRIPTION:Taste of Harlingen\, Harlingen Arts & Heritage Museum’s primary fundraiser\, takes place Oct. 17 with local restaurants’ cuisine and live music. \nBased in the museum’s decorated courtyard\, the event also features a silent auction of items donated by local businesses and individuals. Patrons can stroll around the grounds listening to a live band and visiting the restaurant tents. \nSeating at decorated tables is available under the trees.  Themed costumes are welcome.
URL:https://valleybusinessreport.com/event/taste-of-harlingen/
LOCATION:Harlingen Arts & Heritage Museum\, 2425 Boxwood\, Harlingen\, TX\, 78550\, United States
CATEGORIES:Festivals and Celebrations,Fundraisers
ATTACH;FMTTYPE=image/jpeg:https://valleybusinessreport.com/wp-content/uploads/2024/09/taste-of-harlingen.jpg
ORGANIZER;CN="Harlingen Arts & Heritage Museum":MAILTO:heritagemuseum@myharlingen.us
END:VEVENT
BEGIN:VEVENT
DTSTART;TZID=America/Chicago:20241019T130000
DTEND;TZID=America/Chicago:20241019T160000
DTSTAMP:20260425T181811
CREATED:20240916T151447Z
LAST-MODIFIED:20240916T151447Z
UID:10001175-1729342800-1729353600@valleybusinessreport.com
SUMMARY:Touch-A-Truck
DESCRIPTION:The Children’s Museum of Brownsville and the Brownsville Public Utilities Board host a fun and interactive event: Touch-A-Truck! on Oct. 19\, offering free admission and activities for the family. \nThe event features an interactive truck display\, allowing attendees to get up close with various utility vehicles. Kids and families will have the chance to meet Leo the Lineman\, connect with BPUB staff\, and enjoy raffle items\, giveaways\, food and refreshments (while supplies last).
URL:https://valleybusinessreport.com/event/touch-a-truck/
LOCATION:Children’s Museum of Brownsville\, 501 E. Ringgold Street\, Brownsville\, TX\, United States
CATEGORIES:Festivals and Celebrations
ATTACH;FMTTYPE=image/jpeg:https://valleybusinessreport.com/wp-content/uploads/2024/09/touch-a-truck.jpg
END:VEVENT
BEGIN:VEVENT
DTSTART;TZID=America/Chicago:20241019T180000
DTEND;TZID=America/Chicago:20241019T193000
DTSTAMP:20260425T181811
CREATED:20240916T162119Z
LAST-MODIFIED:20240916T162119Z
UID:10001183-1729360800-1729366200@valleybusinessreport.com
SUMMARY:OLLU RGV Trunk or Treat
DESCRIPTION:Our Lady of the Lake University RGV hosts its third annual Trunk or Treat on Oct. 19\, offering a fun-filled evening with candy\, music and costumes. \nThose interested in participating may email rgv@ollusa.edu for more information.
URL:https://valleybusinessreport.com/event/ollu-rgv-trunk-or-treat/
LOCATION:Our Lady of the Lake University RGV\, 1650 S\, Main Street\, La Feria\, TX\, United States
CATEGORIES:Festivals and Celebrations
ATTACH;FMTTYPE=image/png:https://valleybusinessreport.com/wp-content/uploads/2024/09/OLLUTrunkorTreat2024.png
END:VEVENT
BEGIN:VEVENT
DTSTART;TZID=America/Chicago:20241024T190000
DTEND;TZID=America/Chicago:20241024T190000
DTSTAMP:20260425T181811
CREATED:20241012T011616Z
LAST-MODIFIED:20241012T011704Z
UID:10001192-1729796400-1729796400@valleybusinessreport.com
SUMMARY:Trunk or Treat at The Eatery Food Truck Park
DESCRIPTION:Join The Eatery in Downtown Weslaco for a spooktacular 4×4 Trunk or Treat on Oct. 24. \nSet-up is from 5:30-7 p.m. with trunk or treat beginning at 7. The evening includes a Best Decorated 4X4 contest and a Best Costume contest.
URL:https://valleybusinessreport.com/event/trunk-or-treat-at-the-eatery-food-truck-park/
LOCATION:The Eatery – Downtown Weslaco\, 400 S. Kansas\, Weslaco\, United States
CATEGORIES:Festivals and Celebrations
ATTACH;FMTTYPE=image/jpeg:https://valleybusinessreport.com/wp-content/uploads/2024/10/TheEateryTrunkorTreat.jpg
END:VEVENT
BEGIN:VEVENT
DTSTART;TZID=America/Chicago:20241025T180000
DTEND;TZID=America/Chicago:20241025T210000
DTSTAMP:20260425T181811
CREATED:20241012T012553Z
LAST-MODIFIED:20241012T012553Z
UID:10001193-1729879200-1729890000@valleybusinessreport.com
SUMMARY:Trunk or Treat at Border Animal Hospital - Weslaco
DESCRIPTION:Border Animal Hospital hosts its very first Trunk or Treat event on Oct. 25 from 6-9 p.m. \nBring the family\, your pets and all the spooky vibes. Activities include a bouncy house for the little ones\, candy galore for everyone and a Pet Costume Contest. Dress up your furry friends for a chance to win some fun prizes. \nThis event is free and open to the community.
URL:https://valleybusinessreport.com/event/trunk-or-treat-at-border-animal-hospital-weslaco/
LOCATION:Border Animal Hospital\, 617 S International Blvd.\, Weslaco\, TX\, United States
CATEGORIES:Festivals and Celebrations
ATTACH;FMTTYPE=image/jpeg:https://valleybusinessreport.com/wp-content/uploads/2024/10/BorderAnimalHospital.jpg
END:VEVENT
BEGIN:VEVENT
DTSTART;TZID=America/Chicago:20241027T180000
DTEND;TZID=America/Chicago:20241027T200000
DTSTAMP:20260425T181811
CREATED:20241012T013351Z
LAST-MODIFIED:20241012T013351Z
UID:10001194-1730052000-1730059200@valleybusinessreport.com
SUMMARY:Palacio De Destinee Trunk or Treat
DESCRIPTION:Palacio De Destinee Event Center is summoning you to its second annual Trunk or Treat on Oct. 27\, where tricks\, treats\, and a whole lot of fun collide. \nStop by from 6-8 p.m. for a frightfully fun evening filled with candy\, costumes and spooky community spirit. \nThis event is free and for the whole community.
URL:https://valleybusinessreport.com/event/palacio-de-destinee-trunk-or-treat/
LOCATION:Palacio de Destinee Event Center\, 1502 N. Border Avenue\, Weslaco\, United States
CATEGORIES:Festivals and Celebrations
ATTACH;FMTTYPE=image/jpeg:https://valleybusinessreport.com/wp-content/uploads/2024/10/PalacioTrunkorTreat.jpg
END:VEVENT
BEGIN:VEVENT
DTSTART;TZID=America/Chicago:20241029T160000
DTEND;TZID=America/Chicago:20241029T190000
DTSTAMP:20260425T181811
CREATED:20241012T201219Z
LAST-MODIFIED:20241012T201219Z
UID:10001195-1730217600-1730228400@valleybusinessreport.com
SUMMARY:Trunk or Treat at STVT Weslaco
DESCRIPTION:South Texas Vocational Technical Institute hosts a Trunk or Treat Halloween Event on Oct. 29. Festivities run from 4-7 p.m. and include food\, fun and more.
URL:https://valleybusinessreport.com/event/trunk-or-treat-at-stvt-weslaco/
LOCATION:STVT Weslaco – South Texas Vocational Technical Institute\, 1600 N. Westgate Drive\, Weslaco\, TX\, United States
CATEGORIES:Festivals and Celebrations
ATTACH;FMTTYPE=image/jpeg:https://valleybusinessreport.com/wp-content/uploads/2024/10/STVTTrunkorTreat.jpg
END:VEVENT
END:VCALENDAR