BEGIN:VCALENDAR
VERSION:2.0
PRODID:-//VBR - ECPv6.15.17.1//NONSGML v1.0//EN
CALSCALE:GREGORIAN
METHOD:PUBLISH
X-WR-CALNAME:VBR
X-ORIGINAL-URL:https://valleybusinessreport.com
X-WR-CALDESC:Events for VBR
REFRESH-INTERVAL;VALUE=DURATION:PT1H
X-Robots-Tag:noindex
X-PUBLISHED-TTL:PT1H
BEGIN:VTIMEZONE
TZID:America/Chicago
BEGIN:DAYLIGHT
TZOFFSETFROM:-0600
TZOFFSETTO:-0500
TZNAME:CDT
DTSTART:20240310T080000
END:DAYLIGHT
BEGIN:STANDARD
TZOFFSETFROM:-0500
TZOFFSETTO:-0600
TZNAME:CST
DTSTART:20241103T070000
END:STANDARD
BEGIN:DAYLIGHT
TZOFFSETFROM:-0600
TZOFFSETTO:-0500
TZNAME:CDT
DTSTART:20250309T080000
END:DAYLIGHT
BEGIN:STANDARD
TZOFFSETFROM:-0500
TZOFFSETTO:-0600
TZNAME:CST
DTSTART:20251102T070000
END:STANDARD
BEGIN:DAYLIGHT
TZOFFSETFROM:-0600
TZOFFSETTO:-0500
TZNAME:CDT
DTSTART:20260308T080000
END:DAYLIGHT
BEGIN:STANDARD
TZOFFSETFROM:-0500
TZOFFSETTO:-0600
TZNAME:CST
DTSTART:20261101T070000
END:STANDARD
END:VTIMEZONE
BEGIN:VEVENT
DTSTART;TZID=America/Chicago:20250301T183000
DTEND;TZID=America/Chicago:20250301T230000
DTSTAMP:20260423T032405
CREATED:20250222T195901Z
LAST-MODIFIED:20250222T195901Z
UID:10001251-1740853800-1740870000@valleybusinessreport.com
SUMMARY:Sea Turtle Inc. Gala
DESCRIPTION:Sea Turtle Inc. hosts its inaugural gala\, “Enchantment Under the Sea\,” on March 1 at Courtyard Marriott on South Padre Island. \nSea Turtle Inc. has protected and rescued endangered sea turtles for almost 50 years. This work is fully funded by donations and this event will help raise funds to keep working to save this critically endangered animal. The evening is filled with exquisite dining\, captivating entertainment\, and inspiring stories of the organization’s work in marine conservation.
URL:https://valleybusinessreport.com/event/sea-turtle-inc-gala/
LOCATION:Courtyard Marriott South Padre Island\, 6700 Padre Boulevard\, South Padre Island\, 78597
CATEGORIES:Festivals and Celebrations
ATTACH;FMTTYPE=image/jpeg:https://valleybusinessreport.com/wp-content/uploads/2025/02/FBEventGala-V2.jpg
ORGANIZER;CN="Kelli Larson":MAILTO:give@seaturtleinc.org
END:VEVENT
BEGIN:VEVENT
DTSTART;TZID=America/Chicago:20250307T120000
DTEND;TZID=America/Chicago:20250307T160000
DTSTAMP:20260423T032405
CREATED:20250226T021231Z
LAST-MODIFIED:20250226T021231Z
UID:10001255-1741348800-1741363200@valleybusinessreport.com
SUMMARY:Winter Texan Fiesta
DESCRIPTION:Get ready for the ultimate Winter Texan Fiesta on March 7 at Leo Pena Placita Park in Mission. The day includes live music\, vendors and food\, with the first 1\,000 attendees getting free treats. \nSponsored by the City of Mission\, Discover Mission\, Mission Regional Medical Center\, and Winter Texan Times\, this celebration honors Winter Texans and the community that makes winters special. \nPerforming are The Night Howlers\, Quentin Flagg\, Mariachi Nuevo Cascabel\, and Bruce Boudreau!
URL:https://valleybusinessreport.com/event/winter-texan-fiesta/
LOCATION:Leo Pena Placita Park\, W. 8th Street\, Mission\, United States
CATEGORIES:Festivals and Celebrations
ATTACH;FMTTYPE=image/png:https://valleybusinessreport.com/wp-content/uploads/2025/02/Winter-Texan-Fiesta.png
END:VEVENT
BEGIN:VEVENT
DTSTART;TZID=America/Chicago:20250322T101500
DTEND;TZID=America/Chicago:20250322T221500
DTSTAMP:20260423T032405
CREATED:20250316T141635Z
LAST-MODIFIED:20250316T141635Z
UID:10001261-1742638500-1742681700@valleybusinessreport.com
SUMMARY:Texas Onion Festival
DESCRIPTION:On March 22\, the Texas Onion Fest celebrates the development of the world famous Texas 1015 Onion which was developed in Weslaco and is also the State Vegetable of Texas. Festivities include live entertainment on two stages\, the Onion Eating Contest\, food\, commercial booths\, kiddie rides\, Dancing Horses\, 1015 Market\, Car Show\, cooking demonstrations and more. \nPARKING / ENTRANCES\nFree Park and Ride from South Texas College & LRGVDC to festival drop-off point at Cortez Hotel\nFree parking along festival route additional parking sites include City Hall Parking Lot and South Texas College \n 
URL:https://valleybusinessreport.com/event/texas-onion-festival/
LOCATION:Downtown Weslaco\, Texas Blvd.\, Weslaco\, United States
CATEGORIES:Festivals and Celebrations
ATTACH;FMTTYPE=image/jpeg:https://valleybusinessreport.com/wp-content/uploads/2025/03/Texas-Onion-Fest.jpg
ORGANIZER;CN="Weslaco Area Chamber of Commerce":MAILTO:chamber@weslaco.com
END:VEVENT
END:VCALENDAR