BEGIN:VCALENDAR
VERSION:2.0
PRODID:-//VBR - ECPv6.15.17.1//NONSGML v1.0//EN
CALSCALE:GREGORIAN
METHOD:PUBLISH
X-ORIGINAL-URL:https://valleybusinessreport.com
X-WR-CALDESC:Events for VBR
REFRESH-INTERVAL;VALUE=DURATION:PT1H
X-Robots-Tag:noindex
X-PUBLISHED-TTL:PT1H
BEGIN:VTIMEZONE
TZID:America/Chicago
BEGIN:DAYLIGHT
TZOFFSETFROM:-0600
TZOFFSETTO:-0500
TZNAME:CDT
DTSTART:20240310T080000
END:DAYLIGHT
BEGIN:STANDARD
TZOFFSETFROM:-0500
TZOFFSETTO:-0600
TZNAME:CST
DTSTART:20241103T070000
END:STANDARD
BEGIN:DAYLIGHT
TZOFFSETFROM:-0600
TZOFFSETTO:-0500
TZNAME:CDT
DTSTART:20250309T080000
END:DAYLIGHT
BEGIN:STANDARD
TZOFFSETFROM:-0500
TZOFFSETTO:-0600
TZNAME:CST
DTSTART:20251102T070000
END:STANDARD
BEGIN:DAYLIGHT
TZOFFSETFROM:-0600
TZOFFSETTO:-0500
TZNAME:CDT
DTSTART:20260308T080000
END:DAYLIGHT
BEGIN:STANDARD
TZOFFSETFROM:-0500
TZOFFSETTO:-0600
TZNAME:CST
DTSTART:20261101T070000
END:STANDARD
BEGIN:DAYLIGHT
TZOFFSETFROM:-0600
TZOFFSETTO:-0500
TZNAME:CDT
DTSTART:20270314T080000
END:DAYLIGHT
BEGIN:STANDARD
TZOFFSETFROM:-0500
TZOFFSETTO:-0600
TZNAME:CST
DTSTART:20271107T070000
END:STANDARD
END:VTIMEZONE
BEGIN:VEVENT
DTSTART;TZID=America/Chicago:20251111T100000
DTEND;TZID=America/Chicago:20251111T100000
DTSTAMP:20260423T012008
CREATED:20251106T000117Z
LAST-MODIFIED:20251106T000333Z
UID:10001334-1762855200-1762855200@valleybusinessreport.com
SUMMARY:4th Annual Weslaco Veterans Day Event
DESCRIPTION:The Rotary Club of Weslaco\, in collaboration with Weslaco ISD\, proudly invites the public to its annual Veterans Day Celebration on Nov. 11. The special event honors and remembers the brave men and women who served our country. \nCome together as a community to show our gratitude and pay tribute to all who have sacrificed for our freedom.
URL:https://valleybusinessreport.com/event/4th-annual-weslaco-veterans-day-event/
LOCATION:Bobby Lackey Stadium\, 784 N Westgate Drive\, Weslaco\, TX\, United States
CATEGORIES:Festivals and Celebrations
ATTACH;FMTTYPE=image/jpeg:https://valleybusinessreport.com/wp-content/uploads/2025/11/VeteransDayCelebration.jpg
ORGANIZER;CN="Rotary Club of Weslaco":MAILTO:weslacorotary5930@gmail.com
END:VEVENT
BEGIN:VEVENT
DTSTART;TZID=America/Chicago:20251121T180000
DTEND;TZID=America/Chicago:20251121T210000
DTSTAMP:20260423T012008
CREATED:20251117T012626Z
LAST-MODIFIED:20251117T012626Z
UID:10001336-1763748000-1763758800@valleybusinessreport.com
SUMMARY:Weslaco's Tree Lighting & Holiday Market
DESCRIPTION:The Weslaco Holiday Market happens on Nov. 21 alongside the Weslaco Tree Lighting ceremony. The annual tradition officially kicks off the holiday season for Weslaco.
URL:https://valleybusinessreport.com/event/weslacos-tree-lighting-holiday-market/
LOCATION:Weslaco City Hall\, 255 South Kansas Ave.\, Weslaco\, TX\, United States
CATEGORIES:Festivals and Celebrations
ATTACH;FMTTYPE=image/png:https://valleybusinessreport.com/wp-content/uploads/2025/10/WeslacoChamber_Nov2025.png
ORGANIZER;CN="Weslaco Chamber of Commerce":MAILTO:chamber@weslaco.com
END:VEVENT
BEGIN:VEVENT
DTSTART;TZID=America/Chicago:20251205T190000
DTEND;TZID=America/Chicago:20251205T190000
DTSTAMP:20260423T012008
CREATED:20251202T235355Z
LAST-MODIFIED:20251202T235425Z
UID:10001337-1764961200-1764961200@valleybusinessreport.com
SUMMARY:Edinburg Night of Lights Parade
DESCRIPTION:The Edinburg Chamber of Commerce and he City of Edinburg-Government present the Night of Lights Parade on Dec. 5 in Downtown Edinburg. This year’s theme is “Cinema Christmas” so think of “Home Alone\,” “A Christmas Story\,” or even “The Grinch.”
URL:https://valleybusinessreport.com/event/edinburg-night-of-lights-parade/
LOCATION:Downtown Edinburg\, 1807 North Closner Blvd.\, Edinburg\, United States
CATEGORIES:Festivals and Celebrations
ATTACH;FMTTYPE=image/jpeg:https://valleybusinessreport.com/wp-content/uploads/2025/12/lightsparade.jpg
END:VEVENT
BEGIN:VEVENT
DTSTART;TZID=America/Chicago:20260130T180000
DTEND;TZID=America/Chicago:20260130T210000
DTSTAMP:20260423T012008
CREATED:20260125T181830Z
LAST-MODIFIED:20260125T181830Z
UID:10001346-1769796000-1769806800@valleybusinessreport.com
SUMMARY:Citrus Sip-Off: A People’s Choice Cocktail Competition
DESCRIPTION:Be part of Citrus Sip-Off: A People’s Choice Cocktail Competition\, a one-of-a-kind event where flavor meets fun\, on Jan. 30. \nSip on exclusive\, citrus-inspired cocktails crafted by local mixologists\, and cast your vote to crown the Signature Cocktail of the Chamber’s Annual Member Awards Banquet and be featured in next year’s Citrus Sip-Off. \nTickets are available online.
URL:https://valleybusinessreport.com/event/citrus-sip-off-a-peoples-choice-cocktail-competition/
LOCATION:Allysa’s Acres\, 1711 E Mile 2 Road\, Mission\, United States
CATEGORIES:Festivals and Celebrations
ATTACH;FMTTYPE=image/png:https://valleybusinessreport.com/wp-content/uploads/2026/01/CITRUSSIPOFF-2026FLYER1.png
END:VEVENT
BEGIN:VEVENT
DTSTART;VALUE=DATE:20260305
DTEND;VALUE=DATE:20260309
DTSTAMP:20260423T012008
CREATED:20260225T001114Z
LAST-MODIFIED:20260225T001114Z
UID:10001355-1772668800-1773014399@valleybusinessreport.com
SUMMARY:Fiesta Edinburg Music Festival
DESCRIPTION:Fiesta Edinburg\, the annual vibrant festival presented by the Edinburg Chamber of Commerce\, promises four days of enchantment at the Bert Ogden Arena March 5-8. This event is a fusion of two days of pulsating live music\, thrilling carnival games and a plethora of family entertainment options. \nFrom the rhythm of captivating tunes to the excitement of carnival delights\, Fiesta Edinburg is a vibrant celebration that invites attendees to immerse themselves in a world of joy and festivity. Get ready for an unforgettable experience for individuals and families alike.
URL:https://valleybusinessreport.com/event/fiesta-edinburg-music-festival/
LOCATION:Bert Ogden Arena\, 4900 S I-69 C\, Edinburg\, TX\, United States
CATEGORIES:Festivals and Celebrations
ATTACH;FMTTYPE=image/jpeg:https://valleybusinessreport.com/wp-content/uploads/2026/02/Fiesta-Edinburg-Music-Festival.jpg
ORGANIZER;CN="Edinburg Chamber of Commerce":MAILTO:chamber@edinburg.com
END:VEVENT
BEGIN:VEVENT
DTSTART;TZID=America/Chicago:20260306T103000
DTEND;TZID=America/Chicago:20260306T150000
DTSTAMP:20260423T012008
CREATED:20260304T225257Z
LAST-MODIFIED:20260304T225400Z
UID:10001356-1772793000-1772809200@valleybusinessreport.com
SUMMARY:Winter Texan Fiesta
DESCRIPTION:Get ready for the ultimate Winter Texan Fiesta on March 6 at Leo Pena Placita Park in Mission. Enjoy live music\, unique vendors and delicious food – with the first 1\,000 attendees getting free tasty treats. \nThis celebration honors Winter Texans and the vibrant community that makes our winters special.
URL:https://valleybusinessreport.com/event/winter-texan-fiesta-2/
LOCATION:Leo Pena Placita Park\, W. 8th Street\, Mission\, United States
CATEGORIES:Festivals and Celebrations
ATTACH;FMTTYPE=image/png:https://valleybusinessreport.com/wp-content/uploads/2026/03/2026-WTFIESTA-FLYER.png
END:VEVENT
END:VCALENDAR