BEGIN:VCALENDAR
VERSION:2.0
PRODID:-//VBR - ECPv6.15.17.1//NONSGML v1.0//EN
CALSCALE:GREGORIAN
METHOD:PUBLISH
X-WR-CALNAME:VBR
X-ORIGINAL-URL:https://valleybusinessreport.com
X-WR-CALDESC:Events for VBR
REFRESH-INTERVAL;VALUE=DURATION:PT1H
X-Robots-Tag:noindex
X-PUBLISHED-TTL:PT1H
BEGIN:VTIMEZONE
TZID:America/Chicago
BEGIN:DAYLIGHT
TZOFFSETFROM:-0600
TZOFFSETTO:-0500
TZNAME:CDT
DTSTART:20240310T080000
END:DAYLIGHT
BEGIN:STANDARD
TZOFFSETFROM:-0500
TZOFFSETTO:-0600
TZNAME:CST
DTSTART:20241103T070000
END:STANDARD
BEGIN:DAYLIGHT
TZOFFSETFROM:-0600
TZOFFSETTO:-0500
TZNAME:CDT
DTSTART:20250309T080000
END:DAYLIGHT
BEGIN:STANDARD
TZOFFSETFROM:-0500
TZOFFSETTO:-0600
TZNAME:CST
DTSTART:20251102T070000
END:STANDARD
BEGIN:DAYLIGHT
TZOFFSETFROM:-0600
TZOFFSETTO:-0500
TZNAME:CDT
DTSTART:20260308T080000
END:DAYLIGHT
BEGIN:STANDARD
TZOFFSETFROM:-0500
TZOFFSETTO:-0600
TZNAME:CST
DTSTART:20261101T070000
END:STANDARD
END:VTIMEZONE
BEGIN:VEVENT
DTSTART;TZID=America/Chicago:20250125T070000
DTEND;TZID=America/Chicago:20250125T100000
DTSTAMP:20260422T034018
CREATED:20250119T224240Z
LAST-MODIFIED:20250119T224240Z
UID:10001232-1737788400-1737799200@valleybusinessreport.com
SUMMARY:Sisters On The Run - 5K & 1Mile
DESCRIPTION:Stay active\, support the community and make a difference at Proyecto Juan Diego’s seventh annual Sisters on the Run on Jan. 25. Participants can choose between a 1-mile fun run or a 5K\, with proceeds benefiting vital programs that empower families in the RGV. \nThis annual event promotes health\, fitness\, and community impact\, offering an exciting way to run toward a healthier future. \nSign up to run or be a fundraiser online at www.bit.ly/sotr25. \nFor sponsorship or vendor opportunities\, email Claudia Rodriguez at claudia.rodriguez@proyecto-jd.org.
URL:https://valleybusinessreport.com/event/sisters-on-the-run-5k-1mile/
LOCATION:Brownsville Events Center\, 1 Events Center Blvd.\, Brownsville\, TX\, United States
CATEGORIES:Fundraisers
ATTACH;FMTTYPE=image/png:https://valleybusinessreport.com/wp-content/uploads/2025/01/Sisters-on-the-Run.png
ORGANIZER;CN="Claudia Rodriguez":MAILTO:claudia.rodriguez@proyecto-jd.org
END:VEVENT
END:VCALENDAR