BEGIN:VCALENDAR
VERSION:2.0
PRODID:-//VBR - ECPv6.15.17.1//NONSGML v1.0//EN
CALSCALE:GREGORIAN
METHOD:PUBLISH
X-WR-CALNAME:VBR
X-ORIGINAL-URL:https://valleybusinessreport.com
X-WR-CALDESC:Events for VBR
REFRESH-INTERVAL;VALUE=DURATION:PT1H
X-Robots-Tag:noindex
X-PUBLISHED-TTL:PT1H
BEGIN:VTIMEZONE
TZID:America/Chicago
BEGIN:DAYLIGHT
TZOFFSETFROM:-0600
TZOFFSETTO:-0500
TZNAME:CDT
DTSTART:20240310T080000
END:DAYLIGHT
BEGIN:STANDARD
TZOFFSETFROM:-0500
TZOFFSETTO:-0600
TZNAME:CST
DTSTART:20241103T070000
END:STANDARD
BEGIN:DAYLIGHT
TZOFFSETFROM:-0600
TZOFFSETTO:-0500
TZNAME:CDT
DTSTART:20250309T080000
END:DAYLIGHT
BEGIN:STANDARD
TZOFFSETFROM:-0500
TZOFFSETTO:-0600
TZNAME:CST
DTSTART:20251102T070000
END:STANDARD
BEGIN:DAYLIGHT
TZOFFSETFROM:-0600
TZOFFSETTO:-0500
TZNAME:CDT
DTSTART:20260308T080000
END:DAYLIGHT
BEGIN:STANDARD
TZOFFSETFROM:-0500
TZOFFSETTO:-0600
TZNAME:CST
DTSTART:20261101T070000
END:STANDARD
END:VTIMEZONE
BEGIN:VEVENT
DTSTART;TZID=America/Chicago:20250531T070000
DTEND;TZID=America/Chicago:20250531T120000
DTSTAMP:20260421T194128
CREATED:20250521T213055Z
LAST-MODIFIED:20250525T143117Z
UID:10001283-1748674800-1748692800@valleybusinessreport.com
SUMMARY:Margarita Scramble Golf Tournament
DESCRIPTION:Join the Greater Chamber of Harlingen at the Tony Butler Golf Course on May 31 for the Margarita Scramble Golf Tournament featuring golf\, margaritas and good company. \nThis event is perfect for golf enthusiasts of all skill levels – whether you’re a pro or just starting\, everyone is welcome. \nGrab your clubs\, gather your friends\, and get ready for a day of friendly competition on the green. After the game\, enjoy refreshing margaritas and delicious snacks at the clubhouse. \nDon’t miss out on this exciting event – sign up now.
URL:https://valleybusinessreport.com/event/margarita-scramble-golf-tournament/
LOCATION:Tony Butler Golf Course\, 2640 Golf Course Drive\, Harlingen\, United States
CATEGORIES:Fundraisers
ATTACH;FMTTYPE=image/png:https://valleybusinessreport.com/wp-content/uploads/2025/05/MargaritaScramble.png
END:VEVENT
END:VCALENDAR