BEGIN:VCALENDAR
VERSION:2.0
PRODID:-//VBR - ECPv6.15.17.1//NONSGML v1.0//EN
CALSCALE:GREGORIAN
METHOD:PUBLISH
X-WR-CALNAME:VBR
X-ORIGINAL-URL:https://valleybusinessreport.com
X-WR-CALDESC:Events for VBR
REFRESH-INTERVAL;VALUE=DURATION:PT1H
X-Robots-Tag:noindex
X-PUBLISHED-TTL:PT1H
BEGIN:VTIMEZONE
TZID:America/Chicago
BEGIN:DAYLIGHT
TZOFFSETFROM:-0600
TZOFFSETTO:-0500
TZNAME:CDT
DTSTART:20240310T080000
END:DAYLIGHT
BEGIN:STANDARD
TZOFFSETFROM:-0500
TZOFFSETTO:-0600
TZNAME:CST
DTSTART:20241103T070000
END:STANDARD
BEGIN:DAYLIGHT
TZOFFSETFROM:-0600
TZOFFSETTO:-0500
TZNAME:CDT
DTSTART:20250309T080000
END:DAYLIGHT
BEGIN:STANDARD
TZOFFSETFROM:-0500
TZOFFSETTO:-0600
TZNAME:CST
DTSTART:20251102T070000
END:STANDARD
BEGIN:DAYLIGHT
TZOFFSETFROM:-0600
TZOFFSETTO:-0500
TZNAME:CDT
DTSTART:20260308T080000
END:DAYLIGHT
BEGIN:STANDARD
TZOFFSETFROM:-0500
TZOFFSETTO:-0600
TZNAME:CST
DTSTART:20261101T070000
END:STANDARD
BEGIN:DAYLIGHT
TZOFFSETFROM:-0600
TZOFFSETTO:-0500
TZNAME:CDT
DTSTART:20270314T080000
END:DAYLIGHT
BEGIN:STANDARD
TZOFFSETFROM:-0500
TZOFFSETTO:-0600
TZNAME:CST
DTSTART:20271107T070000
END:STANDARD
END:VTIMEZONE
BEGIN:VEVENT
DTSTART;VALUE=DATE:20250614
DTEND;VALUE=DATE:20250615
DTSTAMP:20260423T083202
CREATED:20250611T131550Z
LAST-MODIFIED:20250611T132144Z
UID:10001288-1749859200-1749945599@valleybusinessreport.com
SUMMARY:Lemonade Day Brownsville
DESCRIPTION:Lemonade Day is coming to Brownsville on June 14\, empowering today’s youth to be tomorrow’s entrepreneurs. \nLemonade Day is a free\, fun\, experiential learning program that teaches youth how to start\, own and operate their own business – a lemonade stand. \nThe foremost objective of Lemonade Day is to empower youth to take ownership of their lives and become productive members of society – the business leaders\, social advocates\, volunteers and forward thinking citizens of tomorrow. \nEach child that registers receives access to the Lemonade Day curriculum that teaches them lessons like creating budgets\, setting profit-making goals\, serving customers\, repaying investors and giving back to the community. Along the way\, they acquire skills in goal-setting\, problem solving and gain self-esteem critical for future success. They keep all the money they make and are encouraged to spend some\, save some and share some. \nFor more information\, including a map of stands throughout the city\, visit the event website.
URL:https://valleybusinessreport.com/event/lemonade-day-brownsville/
LOCATION:Brownsville\, Brownsville\, TX\, United States
CATEGORIES:Family,Fundraisers
ATTACH;FMTTYPE=image/png:https://valleybusinessreport.com/wp-content/uploads/2025/06/brownsville-logo-.png
END:VEVENT
BEGIN:VEVENT
DTSTART;TZID=America/Chicago:20250913T080000
DTEND;TZID=America/Chicago:20250913T170000
DTSTAMP:20260423T083202
CREATED:20250817T142120Z
LAST-MODIFIED:20250909T232925Z
UID:10001313-1757750400-1757782800@valleybusinessreport.com
SUMMARY:Pharr EDC Foundation’s 4th Annual Golf Classic Fundraising Tournament
DESCRIPTION:The Pharr EDC Foundation hosts its fourth annual Golf Classic Fundraising Tournament on Sept. 13. The premier event is dedicated to raising funds for post-secondary education support. This tournament brings together golf enthusiasts\, community leaders and philanthropists for a day of friendly competition and charitable giving. \nAll proceeds from the event will directly benefit Pharr EDC Foundation\, which provides financial assistance to students pursuing higher education. \nTeam spots and sponsorship opportunities are available. For more information\, contact Dayonna McKinney.
URL:https://valleybusinessreport.com/event/pharr-edc-foundations-4th-annual-golf-classic-fundraising-tournament/
LOCATION:Tierra Del Sol Golf Course\, 700 East Hall Acres Road\, Pharr\, TX\, 78577\, United States
CATEGORIES:Fundraisers
ATTACH;FMTTYPE=image/jpeg:https://valleybusinessreport.com/wp-content/uploads/2025/08/Pharr-EDC-golf.jpg
ORGANIZER;CN="Dayonna McKinney":MAILTO:dayonna.mckinney@pharr-tx.gov
END:VEVENT
BEGIN:VEVENT
DTSTART;TZID=America/Chicago:20260228T110000
DTEND;TZID=America/Chicago:20260228T133000
DTSTAMP:20260423T083202
CREATED:20260224T235647Z
LAST-MODIFIED:20260224T235647Z
UID:10001354-1772276400-1772285400@valleybusinessreport.com
SUMMARY:B.E.C.O.M.I.N.G. A Butterfly Brunch & Fashion Show
DESCRIPTION:Enjoy a joyful brunch and fashion show experience benefiting the Children’s Bereavement Center Rio Grande Valley at the B.E.C.O.M.I.N.G. A Butterfly Brunch & Fashion Show on Feb. 28. \nInspired by the butterfly and the journey of BECOMING\, this elegant yet uplifting event celebrates: Beauty in Healing • Empowerment • Connection • Optimism • Movement Forward • Inspiration • Nurturing • Grace. \nSip mimosas\, enjoy delicious brunch bites\, and experience a fashion show that reflects resilience\, growth and new beginnings. Your attendance helps provide free grief support programs for children and families across the Rio Grande Valley so no child has to grieve alone. \nPurchase tickets online.
URL:https://valleybusinessreport.com/event/b-e-c-o-m-i-n-g-a-butterfly-brunch-fashion-show/
LOCATION:Gelman Stained Glass Museum\, 411 Virgen de San Juan Blvd.\, San Juan\, United States
CATEGORIES:Fundraisers
ATTACH;FMTTYPE=image/webp:https://valleybusinessreport.com/wp-content/uploads/2026/02/BECOMING-MailOut21.webp
ORGANIZER;CN="Noelynn G. Llasos":MAILTO:nllasos@cbc-rgv.org
END:VEVENT
END:VCALENDAR